Workbook

Sheet Kvantitatív
B1: Kulcsszavak/ évszámok | C1: 1825 | D1: 1826 | E1: 1847 | F1: 1848 | G1: 1849 | H1: 1850 | I1: 1866 | J1: 1867 | K1: 1868 | L1: 1899
B2: nő, nők, női | C2: =SUM('1825'!B2:'1825'!G2) -> 13 | D2: =SUM('1826'!B2:'1826'!F2) -> 12 | E2: =SUM('1847'!B2:'1847'!F2:'1847'!J2) -> 2455 | F2: =SUM('1848'!B2:'1848'!F2:'1848'!J2) -> 1310 | G2: =SUM('1849'!B2:'1849'!E2:'1849'!H2) -> 422 | H2: =SUM('1850'!F2:'1850'!I2) -> 1544 | I2: =SUM('1866'!B2:'1866'!E2:'1866'!H2) -> 2285 | J2: =SUM('1867'!B2:'1867'!E2:'1867'!H2) -> 2444 | K2: =SUM('1868'!B2:'1868'!H2:'1868'!N2) -> 2484 | L2: =SUM('1899'!B12:'1899'!F12:'1899'!I12) -> 2259
B3: leány, lány | C3: =SUM('1825'!B3:'1825'!G3) -> 70 | D3: =SUM('1826'!B3:'1826'!F3) -> 53 | E3: =SUM('1847'!B3:'1847'!F3:'1847'!J3) -> 1721 | F3: =SUM('1848'!B3:'1848'!F3:'1848'!J3) -> 679 | G3: =SUM('1849'!B3:'1849'!E3:'1849'!H3) -> 242 | H3: =SUM('1850'!F3:'1850'!I3) -> 1207 | I3: =SUM('1866'!B3:'1866'!E3:'1866'!H3) -> 1419 | J3: =SUM('1867'!B3:'1867'!E3:'1867'!H3) -> 1389 | K3: =SUM('1868'!B3:'1868'!H3:'1868'!N3) -> 1733 | L3: =SUM('1899'!B13:'1899'!F13:'1899'!I13) -> 1287
B4: hölgy | C4: =SUM('1825'!B4:'1825'!G4) -> 16 | D4: =SUM('1826'!B4:'1826'!F4) -> 8 | E4: =SUM('1847'!B4:'1847'!F4:'1847'!J4) -> 1084 | F4: =SUM('1848'!B4:'1848'!F4:'1848'!J4) -> 492 | G4: =SUM('1849'!B4:'1849'!E4:'1849'!H4) -> 263 | H4: =SUM('1850'!F4:'1850'!I4) -> 831 | I4: =SUM('1866'!B4:'1866'!E4:'1866'!H4) -> 762 | J4: =SUM('1867'!B4:'1867'!E4:'1867'!H4) -> 804 | K4: =SUM('1868'!B4:'1868'!H4:'1868'!N4) -> 899 | L4: =SUM('1899'!B14:'1899'!F14:'1899'!I14) -> 401
B5: asszony, asszonyság | C5: =SUM('1825'!B5:'1825'!G5) -> 16 | D5: =SUM('1826'!B5:'1826'!F5) -> 21 | E5: =SUM('1847'!B5:'1847'!F5:'1847'!J5) -> 673 | F5: =SUM('1848'!B5:'1848'!F5:'1848'!J5) -> 382 | G5: =SUM('1849'!B5:'1849'!E5:'1849'!H5) -> 97 | H5: =SUM('1850'!F5:'1850'!I5) -> 889 | I5: =SUM('1866'!B5:'1866'!E5:'1866'!H5) -> 691 | J5: =SUM('1867'!B5:'1867'!E5:'1867'!H5) -> 795 | K5: =SUM('1868'!B5:'1868'!H5:'1868'!N5) -> 716 | L5: =SUM('1899'!B15:'1899'!F15:'1899'!I15) -> 544
B6: honleány | C6: =SUM('1825'!B6:'1825'!G6) -> 0 | D6: =SUM('1826'!B6:'1826'!F6) -> 1 | E6: =SUM('1847'!B6:'1847'!F6:'1847'!J6) -> 44 | F6: =SUM('1848'!B6:'1848'!F6:'1848'!J6) -> 25 | G6: =SUM('1849'!B6:'1849'!E6:'1849'!H6) -> 13 | H6: =SUM('1850'!F6:'1850'!I6) -> 42 | I6: =SUM('1866'!B6:'1866'!E6:'1866'!H6) -> 45 | J6: =SUM('1867'!B6:'1867'!E6:'1867'!H6) -> 31 | K6: =SUM('1868'!B6:'1868'!H6:'1868'!N6) -> 16 | L6: =SUM('1899'!B16:'1899'!F16:'1899'!I16) -> 10
B7: oktatás | C7: =SUM('1825'!B7:'1825'!G7) -> 8 | D7: =SUM('1826'!B7:'1826'!F7) -> 9 | E7: =SUM('1847'!B7:'1847'!F7:'1847'!J7) -> 365 | F7: =SUM('1848'!B7:'1848'!F7:'1848'!J7) -> 334 | G7: =SUM('1849'!B7:'1849'!E7:'1849'!H7) -> 77 | H7: =SUM('1850'!F7:'1850'!I7) -> 203 | I7: =SUM('1866'!B7:'1866'!E7:'1866'!H7) -> 103 | J7: =SUM('1867'!B7:'1867'!E7:'1867'!H7) -> 208 | K7: =SUM('1868'!B7:'1868'!H7:'1868'!N7) -> 140 | L7: =SUM('1899'!B17:'1899'!F17:'1899'!I17) -> 86
B8: nőoktatás, leányoktatás, lányoktatás | C8: =SUM('1825'!B8:'1825'!G8) -> 0 | D8: =SUM('1826'!B8:'1826'!F8) -> 0 | E8: =SUM('1847'!B8:'1847'!F8:'1847'!J8) -> 28 | F8: =SUM('1848'!B8:'1848'!F8:'1848'!J8) -> 0 | G8: =SUM('1849'!B8:'1849'!E8:'1849'!H8) -> 4 | H8: =SUM('1850'!F8:'1850'!I8) -> 0 | I8: =SUM('1866'!B8:'1866'!E8:'1866'!H8) -> 0 | J8: =SUM('1867'!B8:'1867'!E8:'1867'!H8) -> 29 | K8: =SUM('1868'!B8:'1868'!H8:'1868'!N8) -> 0 | L8: =SUM('1899'!B18:'1899'!F18:'1899'!I18) -> 2
B9: nőnevelés, leánynevelés, lánynevelés | C9: =SUM('1825'!B9:'1825'!G9) -> 0 | D9: =SUM('1826'!B9:'1826'!F9) -> 0 | E9: =SUM('1847'!B9:'1847'!F9:'1847'!J9) -> 30 | F9: =SUM('1848'!B9:'1848'!F9:'1848'!J9) -> 10 | G9: =SUM('1849'!B9:'1849'!E9:'1849'!H9) -> 7 | H9: =SUM('1850'!F9:'1850'!I9) -> 1 | I9: =SUM('1866'!B9:'1866'!E9:'1866'!H9) -> 0 | J9: =SUM('1867'!B9:'1867'!E9:'1867'!H9) -> 77 | K9: =SUM('1868'!B9:'1868'!H9:'1868'!N9) -> 6 | L9: =SUM('1899'!B19:'1899'!F19:'1899'!I19) -> 101
B10: oktatási reform | C10: =SUM('1825'!B10:'1825'!G10) -> 0 | D10: =SUM('1826'!B10:'1826'!F10) -> 0 | E10: =SUM('1847'!B10:'1847'!F10:'1847'!J10) -> 290 | F10: =SUM('1848'!B10:'1848'!F10:'1848'!J10) -> 3 | G10: =SUM('1849'!B10:'1849'!E10:'1849'!H10) -> 1 | H10: =SUM('1850'!F10:'1850'!I10) -> 0 | I10: =SUM('1866'!B10:'1866'!E10:'1866'!H10) -> 0 | J10: =SUM('1867'!B10:'1867'!E10:'1867'!H10) -> 8 | K10: =SUM('1868'!B10:'1868'!H10:'1868'!N10) -> 0 | L10: =SUM('1899'!B20:'1899'!F20:'1899'!I20) -> 0
B11: leánynevelde, lánynevelde, leánynövelde, lánynövelde | C11: =SUM('1825'!B11:'1825'!G11) -> 0 | D11: =SUM('1826'!B11:'1826'!F11) -> 0 | E11: =SUM('1847'!B11:'1847'!F11:'1847'!J11) -> 10 | F11: =SUM('1848'!B11:'1848'!F11:'1848'!J11) -> 3 | G11: =SUM('1849'!B11:'1849'!E11:'1849'!H11) -> 0 | H11: =SUM('1850'!F11:'1850'!I11) -> 1 | I11: =SUM('1866'!B11:'1866'!E11:'1866'!H11) -> 6 | J11: =SUM('1867'!B11:'1867'!E11:'1867'!H11) -> 3 | K11: =SUM('1868'!B11:'1868'!H11:'1868'!N11) -> 15 | L11: =SUM('1899'!B21:'1899'!F21:'1899'!I21) -> 0
B12: nőnevelde, nőnövelde | C12: =SUM('1825'!B12:'1825'!G12) -> 0 | D12: =SUM('1826'!B12:'1826'!F12) -> 0 | E12: =SUM('1847'!B12:'1847'!F12:'1847'!J12) -> 33 | F12: =SUM('1848'!B12:'1848'!F12:'1848'!J12) -> 0 | G12: =SUM('1849'!B12:'1849'!E12:'1849'!H12) -> 0 | H12: =SUM('1850'!F12:'1850'!I12) -> 0 | I12: =SUM('1866'!B12:'1866'!E12:'1866'!H12) -> 7 | J12: =SUM('1867'!B12:'1867'!E12:'1867'!H12) -> 0 | K12: =SUM('1868'!B12:'1868'!H12:'1868'!N12) -> 3 | L12: =SUM('1899'!B22:'1899'!F22:'1899'!I22) -> 15
B13: nőíró, írónő, női író | C13: =SUM('1825'!B13:'1825'!G13) -> 0 | D13: =SUM('1826'!B13:'1826'!F13) -> 0 | E13: =SUM('1847'!B13:'1847'!F13:'1847'!J13) -> 8 | F13: =SUM('1848'!B13:'1848'!F13:'1848'!J13) -> 8 | G13: =SUM('1849'!B13:'1849'!E13:'1849'!H13) -> 3 | H13: =SUM('1850'!F13:'1850'!I13) -> 10 | I13: =SUM('1866'!B13:'1866'!E13:'1866'!H13) -> 12 | J13: =SUM('1867'!B13:'1867'!E13:'1867'!H13) -> 6 | K13: =SUM('1868'!B13:'1868'!H13:'1868'!N13) -> 9 | L13: =SUM('1899'!B23:'1899'!F23:'1899'!I23) -> 12
... B39: Veres Pálné | C39: =SUM('1825'!B39:'1825'!G39) -> 0 | D39: =SUM('1826'!B39:'1826'!F39) -> 0 | E39: =SUM('1847'!B39:'1847'!F39:'1847'!J39) -> 0 | F39: =SUM('1848'!B39:'1848'!F39:'1848'!J39) -> 0 | G39: =SUM('1849'!B39:'1849'!E39:'1849'!H39) -> 0 | H39: =SUM('1850'!F39:'1850'!I39) -> 0 | I39: =SUM('1866'!B39:'1866'!E39:'1866'!H39) -> 0 | J39: =SUM('1867'!B39:'1867'!E39:'1867'!H39) -> 0 | K39: =SUM('1868'!B39:'1868'!H39:'1868'!N39) -> 0 | L39: =SUM('1899'!B49:'1899'!F49:'1899'!I49) -> 0
B40: Összes kulcsszó | C40: =SUM(C2:C39) -> 163 | D40: =SUM(D2:D39) -> 121 | E40: =SUM(E2:E39) -> 7490 | F40: =SUM(F2:F39) -> 3780 | G40: =SUM(G2:G39) -> 1230 | H40: =SUM(H2:H39) -> 5315 | I40: =SUM(I2:I39) -> 6342 | J40: =SUM(J2:J39) -> 6288 | ... L40: =SUM(L2:L39) -> 5902
B41: Összes oldalszám | C41: 1593 | D41: 1054 | E41: 4001 | F41: 3158 | G41: 1194 | H41: 1653 | I41: 2078 | J41: 2154 | K41: 1920 | L41: 1972
B42: Egy oldalra leosztva a kulcsszavak előfordulása | C42: 0.102 | D42: 0.114 | E42: 1.872 | F42: 1.196 | G42: 1.03 | H42: 3.215 | I42: 3.519 | J42: 2.919 | K42: 3.703 | L42: 2.992
B43: Évszámok | C43: 1825 | D43: 1826 | E43: 1847 | F43: 1848 | G43: 1849 | H43: 1850 | I43: 1866 | J43: 1867 | K43: 1868 | L43: 1899
A57: Év | B57: Időszaki kiadvány | C57: 1 oldalon megjelenő kulcsszavak száma
A58: 1825 | B58: Koszorú | C58: 0.409 | F58: Év/kiadványok | G58: Irodalmi lapok | J58: Politikai lapok | L58: Divatlapok
A59: 1826 | B59: Koszorú | C59: 0.42 | F59: 1825 | G59: Koszorú | J59: Hazai 's Külföldi Tudósítások/Nemzeti Ujság | L59: xxx
A60: 1825 | B60: Hazai 's Külföldi Tudósítások/Nemzeti Ujság | C60: 0.054 | F60: 1826 | G60: Koszorú | J60: Hazai 's Külföldi Tudósítások/Nemzeti Ujság | L60: xxx
A61: 1826 | B61: Hazai 's Külföldi Tudósítások/Nemzeti Ujság | C61: 0.043 | F61: 1847 | G61: Honderü | J61: Hazai 's Külföldi Tudósítások/Nemzeti Ujság | L61: Életképek
A62: 1847 | B62: Hazai 's Külföldi Tudósítások/Nemzeti Ujság | C62: 1.359 | F62: 1848 | G62: Honderü | J62: Hazai 's Külföldi Tudósítások/Nemzeti Ujság | L62: Életképek
A63: 1848 | B63: Hazai 's Külföldi Tudósítások/Nemzeti Ujság | C63: 1.082 | F63: 1849 | G63: Figyelmező | J63: Marczius Tizenötödike | L63: Hölgyfutár
A64: 1847 | B64: Honderü | C64: 2.036 | F64: 1850 | G64: xxx | J64: Pesti Napló | L64: Hölgyfutár
A65: 1848 | B65: Honderü | C65: 2.129 | F65: 1866 | G65: Vasárnapi Ujság | J65: Politikai Ujdonságok | L65: Nefelejts
A66: 1847 | B66: Életképek | C66: 2.01 | F66: 1867 | G66: Vasárnapi Ujság | J66: Politikai Ujdonságok | L66: Nefelejts
A67: 1848 | B67: Életképek | C67: 1.155 | F67: 1868 | G67: Vasárnapi Ujság | J67: Politikai Ujdonságok | L67: Nefelejts
A68: 1849 | B68: Figyelmező | C68: 0.62 | F68: 1899 | G68: Vasárnapi Ujság | J68: Népszava | L68: Nemzeti Nőnevelés
A69: 1849 | B69: Márczius Tizeötödike | C69: 0.576
A70: 1849 | B70: Hölgyfutár | C70: 3.884
A71: 1850 | B71: Hölgyfutár | C71: 3.932
A72: 1850 | B72: Pesti Napló | C72: 2.785
A73: 1866 | B73: Vasárnapi Ujság | C73: 2.984
A74: 1867 | B74: Vasárnapi Ujság | C74: 2.717
A75: 1868 | B75: Vasárnapi Ujság | C75: 3.322
A76: 1899 | B76: Vasárnapi Ujság | C76: 3.11
A77: 1866 | B77: Politikai Ujdonságok | C77: 1.947
A78: 1867 | B78: Politikai Ujdonságok | C78: 1.716
A79: 1868 | B79: Politikai Ujdonságok | C79: 2.246
A80: 1866 | B80: Nefelejts | C80: 3.997
... A84: 1899 | B84: Nemzeti Nőnevelés | C84: 5.328
A86: Év | B86: Politikai lapok | C86: Divatlapok | D86: Irodalmi lapok
A87: 1825 | B87: 0.054 | C87: 0 | D87: 0.409
A88: 1826 | B88: 0.043 | C88: 0 | D88: 0.42
A89: 1847 | B89: 1.359 | C89: 2.01 | D89: 2.036
A90: 1848 | B90: 1.082 | C90: 1.155 | D90: 2.129
A91: 1849 | B91: 0.576 | C91: 3.884 | D91: 0.62
A92: 1850 | B92: 2.785 | C92: 3.932 | D92: 0
A93: 1866 | B93: 1.947 | C93: 3.997 | D93: 2.984
A94: 1867 | B94: 1.716 | C94: 3.958 | D94: 2.717
A95: 1868 | B95: 2.246 | C95: 5.59 | D95: 3.322
A96: 1899 | B96: 1.395 | C96: 5.328 | D96: 3.11

Sheet Kvalitatív
A2: 1825 | B2: Hazai 's Külföldi Tudósítások/Nemzeti Ujság
B3: magyar nyelv fontossága
B4: nők és anyák szerepe fontos az olvasás és írás megtanításában
B5: nemzeti nyelv és kultúra legyen a mindennapi élet alapja
A6: 1825 | B6: Koszorú
B7: női oktatás és erkölcsösség összekapcsolása
B8: nemzeti öntudat kialakítása
B9: olvasás és az önálló tanulás is fontos eleme a tudás megszerzésének
A10: 1826 | B10: Hazai 's Külföldi Tudósítások/Nemzeti Ujság
B11: nevelés célja az értelem és erkölcs fejlesztése
B12: magyar nyelv oktatása nők körében, hogy gyermekeiket is így nevelhessék
B13: leányok számára írtak nevelési útmutatókat és tankönyveket
B14: zenei oktatás és az esztétikai nevelés is hangsúlyos
A15: 1826 | B15: Koszorú
B16: női szerep a családi és társadalmi értékek átadásában
B17: női szépséget, szelídséget és erényességet hangsúlyozzák
B18: esztétikai érzék fejlesztése, beleértve a zene és irodalom tanítását
B19: nemzeti hovatartozás erősítése
A20: 1847 | B20: Hazai 's Külföldi Tudósítások/Nemzeti Ujság
B21: családi és közösségi értékek továbbadása
B22: anyanyelv és a kultúra átörökítése
B23: illendő viselkedés és a társadalmi normák tiszteletben tartása
A24: 1847 | B24: Honderü
B25: nők erkölcsösebbé és a társadalmi szerepeikhez illőbbé váljanak
B26: nevelés célja gyakran az ideális nő kialakítása, aki jó anya és feleség lesz
B27: sajtó népszerűsíti a női oktatás fontosságát, de gyakran konzervatív szerepet képvisel
B28: haladó gondolatok kisebbségben vannak
A29: 1847 | B29: Életképek
B30: női szerepek elsősorban a családi és erkölcsi kötelességekre korlátozódnak
B31: nemek közötti különbség kiemelése az oktatás területén
B32: női szerepek hagyományos felfogása
A33: 1848 | B33: Hazai 's Külföldi Tudósítások/Nemzeti Ujság
B34: nem talált releváns információt a program
A35: 1848 | B35: Életképek
B36: irodalom és művészet központi szerepet játszik a társadalom erkölcsi és szellemi fejlődésében
B37: női ifjúság szerepe az oktásban
B38: nemzeti nevelési rendszer kialakítása
A39: 1848 | B39: Honderü
B40: a nő vallási és erkölcsi szerepének hangsúlyozásával kapcsolódik a nevelés kérdéséhez
B41: nők az erkölcsi és polgári újjászületés magva, de ez Magyarországon nehéz feladatnak minősül
B42: női tehetségek megnyerése az irodalom számára fontos cél volt
A43: 1849 | B43: Figyelmező
B44: erkölcsös és felelősségteljes anyák és feleségek nevelése
B45: női műveltséget fontosnak tartják, de gyakran alárendelik a férfiak szerepeinek
B46: olvasás és alapvető műveltség támogatott, de a nők szélesebb körű taníttatása sok helyen nem kerül központba
B47: eszmék között felmerül a női oktatás kiterjesztésének igénye, de gyakran megmarad a hagyományos szerepek keretein belül
B48: a női oktatás fontosságát elismerik, ennek célja gyakran a nők hagyományos szerepeinek erősítése
A49: 1849 | B49: Hölgyfutár
B50: női olvasók számára íródott tartalmak irodalmi és erkölcsi tanulságokat közvetítenek
B51: nők leginkább a család központi szereplőiként jelennek meg
B52: példázatokkal illusztrálják a helyes női viselkedést, kiemelve az alázatot, áldozatkészséget és erkölcsi tisztaságot
B53: Az oktatásban és műveltségben a nők feladata a társadalmi fejlődés elősegítése, de ez szinte mindig a hagyományos szerepek keretein belül marad
A54: 1849 | B54: Marczius Tizenötödike
B55: nők mint az erkölcs és nemzeti öntudat letéteményesei
B56: női szerepeket irodalmi példákon keresztül mutatják be
B57: nők nevelése és erkölcsi szerepük hangsúlyosan jelen van a szövegek általános társadalmi helyzetében
A58: 1850 | B58: Hölgyfutár
B59: nők színházi és társasági szerepe, amelyek a műveltség és nevelés fontosságára utalnak
B60: nők és az erkölcs összefüggése
B61: gyermeknevelés és a fiatalok nevelésének fontossága
A62: 1850 | B62: Pesti Napló
B63: nemzeti identitás fenntartásának fontosságát, amelyben a nők műveltsége és hazafias nevelése alapvető szerepet kap
B64: nők leggyakrabban mint az erkölcsi rend fenntartói és a család központi alakjai jelennek meg
B65: érzelmi és erkölcsi nevelés
B66: polgári fejlődést és a nők közvetett szerepvállalását hangsúlyozzák
A67: 1866 | B67: Vasárnapi Ujság
B68: több helyen említést kapnak oktatási intézmények, köztük olyanok is, amelyek leányok számára biztosítanak képzési lehetőséget
B69: leányok oktatását gyakran összekapcsolják a vallási neveléssel, ahol a hittanórák és az erkölcsi oktatás kiemelt szerepet kapnak
B70: anyaságra és családi szerepekre való felkészítés áll a középpontban
A71: 1866 | B71: Nefelejts
B72: hangsúlyos az erkölcs, az erény és a szépség mint a női ideál alapvető részei
B73: "honfiúi és honleányi erényekre", amelyek a nemzeti és közösségi élet alapvető értékei
B74: jelentős figyelmet fordít a női szépségre és annak társadalmi jelentőségére
B75: művészeti és esztétikai nevelés
B76: nők önállóságának és társadalmi státuszának kérdése
A77: 1866 | B77: Politikai Ujdonságok
B78: pesti nőnevelő intézet kiemelkedő teljesítménye kerül bemutatásra
B79: nők szerepe jótékonykodásban és az oktatási intézmények támogatásában
B80: irodalom és a nyelvtanítás kiemelt helyet kap a nevelési célok között​
B81: nők jogainak bővítésére és oktatásuk fejlesztése
A82: 1867 | B82: Vasárnapi Ujság
B83: tanulmányok és az erényes élet fontosságát hangsúlyozza
B84: hangsúlyozzák, hogy a művelt nők hozzájárulnak a család és a társadalom erkölcsi és szellemi fejlődéséhez
B85: leánynevelő intézetek tevékenysége
B86: ösztönzik a nők irodalmi és művészeti tevékenységét
A87: 1867 | B87: Nefelejts
B88: támogatások érkeznek nőnevelő intézmények számára, például ingyenes oktatás biztosítása árva gyermekek részére
B89: az irodalom közvetett módon nevelési eszközként is szolgált a női olvasók számára
B90: figyelmet fordít a divatra és az esztétikai érzék fejlesztésére
B91: rendszeresen közöl női szerzők műveit, amelyek a nők helyzetéről, érzelmeiről és társadalmi kérdésekről szólnak
B92: női oktatás és nevelés kérdése közvetetten jelenik meg a lapban, főként az irodalmi, kulturális és jótékonysági tartalmakon keresztül
A93: 1867 | B93: Politikai Ujdonságok
B94: több helyen is említik a közoktatás kérdéseit
B95: korszak társadalmi és politikai fejlődése erős alapot jelentett a női tanulás előmozdításához
A96: 1868 | B96: Vasárnapi Ujság
B97: számos cikke foglalkozik iskolai eseményekkel, különösen a lányiskolák eredményeivel
B98: irodalmi rovata női szerzők munkáit is közli, hangsúlyozva a nők helyét az irodalomban és művészetekben
A99: 1868 | B99: Nefelejts
B100: jótékonysági bálokról vagy iskolai vizsgákról szóló beszámolókban rendre felmerülnek az oktatás és nevelés kérdései​
B101: női szerzők verseit és novelláit publikálja, elősegítve a női irodalmi jelenlétet
...

Sheet 1825
A1: Kulcsszavak/ évszámok | B1: Koszorú 215 oldal | F1: Kulcsszavak/ évszámok | G1: Hazai 's Külföldi Tudósítások/Nemzeti Ujság 1378 oldal
A2: nő, nők, női | B2: 1 | F2: nő, nők, női | G2: 12
A3: leány, lány | B3: 41 | F3: leány, lány | G3: 29
A4: hölgy | B4: 16 | F4: hölgy
A5: asszony, asszonyság | B5: 11 | F5: asszony, asszonyság | G5: 5
A6: honleány | F6: honleány
A7: oktatás | B7: 4 | F7: oktatás | G7: 4
A8: nőoktatás, leányoktatás, lányoktatás | F8: nőoktatás, leányoktatás, lányoktatás
A9: nőnevelés, leánynevelés, lánynevelés | F9: nőnevelés, leánynevelés, lánynevelés
A10: oktatási reform | F10: oktatási reform
A11: leánynevelde, lánynevelde, leánynövelde, lánynövelde | F11: leánynevelde, lánynevelde, leánynövelde, lánynövelde
A12: nőnevelde, nőnövelde | F12: nőnevelde, nőnövelde
A13: nőíró, írónő, női író | F13: nőíró, írónő, női író
A14: szerkesztőnő, női szerkesztő | F14: szerkesztőnő, női szerkesztő
A15: nőegylet | F15: nőegylet
A16: tanítónő, tanárnő, női tanár | F16: tanítónő, tanárnő, női tanár
A17: leánygimnázium, leánygymnázium, leánygymnasium | F17: leánygimnázium, leánygymnázium, leánygymnasium
A18: nőkérdés | F18: nőkérdés
A19: felsőoktatás, egyetem, egyetemi oktatás | F19: felsőoktatás, egyetem, egyetemi oktatás | G19: 9
A20: női egyetemisták, női hallgatók, női diplomások | F20: női egyetemisták, női hallgatók, női diplomások
A21: családanya, anya, anyaság, anyai | B21: 15 | F21: családanya, anya, anyaság, anyai | G21: 14
A22: háziasszony | F22: háziasszony
A23: női szerep, nőszerep | F23: női szerep, nőszerep
A24: nőnevelő intézet, nőnevelő, nőnevelőintézet | F24: nőnevelő intézet, nőnevelő, nőnevelőintézet
A25: divatlap | F25: divatlap | G25: 2
A26: nőies, nőisség | F26: nőies, nőisség
A27: nőirodalom, női irodalom | F27: nőirodalom, női irodalom
A28: női olvasókör, női olvasás, női olvasó | F28: női olvasókör, női olvasás, női olvasó
A29: nőjog, női jogok | F29: nőjog, női jogok
A30: női hivatás | F30: női hivatás
A31: női tanulás, nőtanulás, leánytanulás, lánytanulás, | F31: női tanulás, nőtanulás, leánytanulás, lánytanulás,
A32: feminizmus | F32: feminizmus
A33: nőmozgalom | F33: nőmozgalom
A34: leányiskola, lányiskola | F34: leányiskola, lányiskola
A35: Teleki Blanka | F35: Teleki Blanka
A36: Karacs Teréz | F36: Karacs Teréz
A37: Takáts Éva, Takács Éva | F37: Takáts Éva, Takács Éva
... A39: Veres Pálné | F39: Veres Pálné
B40: =SUM(B2:B39) -> 88 | G40: =SUM(G2:G39) -> 75

Sheet 1826
A1: Kulcsszavak/ évszámok | B1: Koszorú 200 oldal | E1: Kulcsszavak/ évszámok | F1: Hazai 's Külföldi Tudósítások/Nemzeti Ujság 854 oldal
A2: nő, nők, női | B2: 6 | E2: nő, nők, női | F2: 6
A3: leány, lány | B3: 42 | E3: leány, lány | F3: 11
A4: hölgy | B4: 7 | E4: hölgy | F4: 1
A5: asszony, asszonyság | B5: 19 | E5: asszony, asszonyság | F5: 2
A6: honleány | B6: 1 | E6: honleány
A7: oktatás | B7: 2 | E7: oktatás | F7: 7
A8: nőoktatás, leányoktatás, lányoktatás | E8: nőoktatás, leányoktatás, lányoktatás
A9: nőnevelés, leánynevelés, lánynevelés | E9: nőnevelés, leánynevelés, lánynevelés
A10: oktatási reform | E10: oktatási reform
A11: leánynevelde, lánynevelde, leánynövelde, lánynövelde | E11: leánynevelde, lánynevelde, leánynövelde, lánynövelde
A12: nőnevelde, nőnövelde | E12: nőnevelde, nőnövelde
A13: nőíró, írónő, női író | E13: nőíró, írónő, női író
A14: szerkesztőnő, női szerkesztő | E14: szerkesztőnő, női szerkesztő
A15: nőegylet | E15: nőegylet
A16: tanítónő, tanárnő, női tanár | E16: tanítónő, tanárnő, női tanár
A17: leánygimnázium, leánygymnázium, leánygymnasium | E17: leánygimnázium, leánygymnázium, leánygymnasium
A18: nőkérdés | E18: nőkérdés
A19: felsőoktatás, egyetem, egyetemi oktatás | E19: felsőoktatás, egyetem, egyetemi oktatás | F19: 2
A20: női egyetemisták, női hallgatók, női diplomások | E20: női egyetemisták, női hallgatók, női diplomások
A21: családanya, anya, anyaság, anyai | B21: 7 | E21: családanya, anya, anyaság, anyai | F21: 7
A22: háziasszony | E22: háziasszony
A23: női szerep, nőszerep | E23: női szerep, nőszerep
A24: nőnevelő intézet, nőnevelő, nőnevelőintézet | E24: nőnevelő intézet, nőnevelő, nőnevelőintézet
A25: divatlap | E25: divatlap | F25: 1
A26: nőies, nőisség | E26: nőies, nőisség
A27: nőirodalom, női irodalom | E27: nőirodalom, női irodalom
A28: női olvasókör, női olvasás, női olvasó | E28: női olvasókör, női olvasás, női olvasó
A29: nőjog, női jogok | E29: nőjog, női jogok
A30: női hivatás | E30: női hivatás
A31: női tanulás, nőtanulás, leánytanulás, lánytanulás, | E31: női tanulás, nőtanulás, leánytanulás, lánytanulás,
A32: feminizmus | E32: feminizmus
A33: nőmozgalom | E33: nőmozgalom
A34: leányiskola, lányiskola | E34: leányiskola, lányiskola
A35: Teleki Blanka | E35: Teleki Blanka
A36: Karacs Teréz | E36: Karacs Teréz
A37: Takáts Éva, Takács Éva | E37: Takáts Éva, Takács Éva
... A39: Veres Pálné | E39: Veres Pálné
B40: =SUM(B2:B39) -> 84 | F40: =SUM(F2:F39) -> 37

Sheet 1847
A1: Kulcsszavak/ évszámok | B1: Honderü 1122 oldal | E1: Kulcsszavak/ évszámok | F1: Életképek 1963 oldal | I1: Kulcsszavak/ évszámok | J1: Hazai 's Külföldi Tudósítások/Nemzeti Ujság 916 oldal
A2: nő, nők, női | B2: 889 | E2: nő, nők, női | F2: 1191 | I2: nő, nők, női | J2: 375
A3: leány, lány | B3: 491 | E3: leány, lány | F3: 1052 | I3: leány, lány | J3: 178
A4: hölgy | B4: 279 | E4: hölgy | F4: 714 | I4: hölgy | J4: 91
A5: asszony, asszonyság | B5: 141 | E5: asszony, asszonyság | F5: 431 | I5: asszony, asszonyság | J5: 101
A6: honleány | B6: 19 | E6: honleány | F6: 20 | I6: honleány | J6: 5
A7: oktatás | B7: 123 | E7: oktatás | F7: 130 | I7: oktatás | J7: 112
A8: nőoktatás, leányoktatás, lányoktatás | B8: 15 | E8: nőoktatás, leányoktatás, lányoktatás | F8: 13 | I8: nőoktatás, leányoktatás, lányoktatás
A9: nőnevelés, leánynevelés, lánynevelés | B9: 15 | E9: nőnevelés, leánynevelés, lánynevelés | I9: nőnevelés, leánynevelés, lánynevelés | J9: 15
A10: oktatási reform | B10: 136 | E10: oktatási reform | F10: 154 | I10: oktatási reform
A11: leánynevelde, lánynevelde, leánynövelde, lánynövelde | B11: 1 | E11: leánynevelde, lánynevelde, leánynövelde, lánynövelde | F11: 7 | I11: leánynevelde, lánynevelde, leánynövelde, lánynövelde | J11: 2
A12: nőnevelde, nőnövelde | B12: 32 | E12: nőnevelde, nőnövelde | F12: 1 | I12: nőnevelde, nőnövelde
A13: nőíró, írónő, női író | B13: 5 | E13: nőíró, írónő, női író | F13: 3 | I13: nőíró, írónő, női író
A14: szerkesztőnő, női szerkesztő | E14: szerkesztőnő, női szerkesztő | F14: 6 | I14: szerkesztőnő, női szerkesztő
A15: nőegylet | B15: 14 | E15: nőegylet | F15: 8 | I15: nőegylet | J15: 2
A16: tanítónő, tanárnő, női tanár | B16: 1 | E16: tanítónő, tanárnő, női tanár | I16: tanítónő, tanárnő, női tanár | J16: 1
A17: leánygimnázium, leánygymnázium, leánygymnasium | E17: leánygimnázium, leánygymnázium, leánygymnasium | F17: 0 | I17: leánygimnázium, leánygymnázium, leánygymnasium
A18: nőkérdés | E18: nőkérdés | F18: 10 | I18: nőkérdés
A19: felsőoktatás, egyetem, egyetemi oktatás | B19: 5 | E19: felsőoktatás, egyetem, egyetemi oktatás | F19: 8 | I19: felsőoktatás, egyetem, egyetemi oktatás | J19: 265
A20: női egyetemisták, női hallgatók, női diplomások | B20: 4 | E20: női egyetemisták, női hallgatók, női diplomások | F20: 7 | I20: női egyetemisták, női hallgatók, női diplomások
A21: családanya, anya, anyaság, anyai | B21: 78 | E21: családanya, anya, anyaság, anyai | F21: 149 | I21: családanya, anya, anyaság, anyai | J21: 92
A22: háziasszony | B22: 8 | E22: háziasszony | F22: 2 | I22: háziasszony | J22: 2
A23: női szerep, nőszerep | B23: 1 | E23: női szerep, nőszerep | F23: 4 | I23: női szerep, nőszerep
A24: nőnevelő intézet, nőnevelő, nőnevelőintézet | B24: 6 | E24: nőnevelő intézet, nőnevelő, nőnevelőintézet | F24: 1 | I24: nőnevelő intézet, nőnevelő, nőnevelőintézet
A25: divatlap | B25: 20 | E25: divatlap | F25: 46 | I25: divatlap
A26: nőies, nőisség | B26: 1 | E26: nőies, nőisség | I26: nőies, nőisség
A27: nőirodalom, női irodalom | E27: nőirodalom, női irodalom | I27: nőirodalom, női irodalom | J27: 1
A28: női olvasókör, női olvasás, női olvasó | E28: női olvasókör, női olvasás, női olvasó | I28: női olvasókör, női olvasás, női olvasó
A29: nőjog, női jogok | E29: nőjog, női jogok | I29: nőjog, női jogok
A30: női hivatás | E30: női hivatás | F30: 1 | I30: női hivatás | J30: 1
A31: női tanulás, nőtanulás, leánytanulás, lánytanulás, | E31: női tanulás, nőtanulás, leánytanulás, lánytanulás, | I31: női tanulás, nőtanulás, leánytanulás, lánytanulás,
A32: feminizmus | E32: feminizmus | I32: feminizmus
A33: nőmozgalom | E33: nőmozgalom | I33: nőmozgalom
A34: leányiskola, lányiskola | E34: leányiskola, lányiskola | F34: 1 | I34: leányiskola, lányiskola | J34: 2
A35: Teleki Blanka | E35: Teleki Blanka | I35: Teleki Blanka
A36: Karacs Teréz | B36: 1 | E36: Karacs Teréz | F36: 1 | I36: Karacs Teréz
A37: Takáts Éva, Takács Éva | E37: Takáts Éva, Takács Éva | I37: Takáts Éva, Takács Éva
A38: Brunszvik Teréz | E38: Brunszvik Teréz | I38: Brunszvik Teréz
A39: Veres Pálné | E39: Veres Pálné | I39: Veres Pálné
B40: =SUM(B2:B39) -> 2285 | F40: =SUM(F2:F39) -> 3960 | J40: =SUM(J2:J39) -> 1245

Sheet 1848
A1: Kulcsszavak/ évszámok | B1: Honderü 216 oldal | E1: Kulcsszavak/ évszámok | F1: Életképek 1858 oldal | I1: Kulcsszavak/ évszámok | J1: Hazai 's Külföldi Tudósítások/Nemzeti Ujság 1084 oldal
A2: nő, nők, női | B2: 237 | E2: nő, nők, női | F2: 637 | I2: nő, nők, női | J2: 436
A3: leány, lány | B3: 30 | E3: leány, lány | F3: 567 | I3: leány, lány | J3: 82
A4: hölgy | B4: 40 | E4: hölgy | F4: 408 | I4: hölgy | J4: 44
A5: asszony, asszonyság | B5: 24 | E5: asszony, asszonyság | F5: 283 | I5: asszony, asszonyság | J5: 75
A6: honleány | B6: 1 | E6: honleány | F6: 14 | I6: honleány | J6: 10
A7: oktatás, nevelés | B7: 64 | E7: oktatás | F7: 142 | I7: oktatás | J7: 128
A8: nőoktatás, leányoktatás, lányoktatás | E8: nőoktatás, leányoktatás, lányoktatás | I8: nőoktatás, leányoktatás, lányoktatás
A9: nőnevelés, leánynevelés, lánynevelés | B9: 7 | E9: nőnevelés, leánynevelés, lánynevelés | F9: 3 | I9: nőnevelés, leánynevelés, lánynevelés
A10: oktatási reform | E10: oktatási reform | I10: oktatási reform | J10: 3
A11: leánynevelde, lánynevelde, leánynövelde, lánynövelde | B11: 2 | E11: leánynevelde, lánynevelde, leánynövelde, lánynövelde | I11: leánynevelde, lánynevelde, leánynövelde, lánynövelde | J11: 1
A12: nőnevelde, nőnövelde | E12: nőnevelde, nőnövelde | I12: nőnevelde, nőnövelde
A13: nőíró, írónő, női író | B13: 3 | E13: nőíró, írónő, női író | F13: 4 | I13: nőíró, írónő, női író | J13: 1
A14: szerkesztőnő, női szerkesztő | E14: szerkesztőnő, női szerkesztő | I14: szerkesztőnő, női szerkesztő
A15: nőegylet | E15: nőegylet | I15: nőegylet | J15: 2
A16: tanítónő, tanárnő, női tanár | E16: tanítónő, tanárnő, női tanár | I16: tanítónő, tanárnő, női tanár
A17: leánygimnázium, leánygymnázium, leánygymnasium | E17: leánygimnázium, leánygymnázium, leánygymnasium | I17: leánygimnázium, leánygymnázium, leánygymnasium
A18: nőkérdés | E18: nőkérdés | I18: nőkérdés
A19: felsőoktatás, egyetem, egyetemi oktatás | E19: felsőoktatás, egyetem, egyetemi oktatás | I19: felsőoktatás, egyetem, egyetemi oktatás | J19: 304
A20: női egyetemisták, női hallgatók, női diplomások | E20: női egyetemisták, női hallgatók, női diplomások | I20: női egyetemisták, női hallgatók, női diplomások
A21: családanya, anya, anyaság, anyai | B21: 28 | E21: családanya, anya, anyaság, anyai | F21: 78 | I21: családanya, anya, anyaság, anyai | J21: 80
A22: háziasszony | E22: háziasszony | I22: háziasszony | J22: 1
A23: női szerep, nőszerep | E23: női szerep, nőszerep | I23: női szerep, nőszerep
A24: nőnevelő intézet, nőnevelő, nőnevelőintézet | E24: nőnevelő intézet, nőnevelő, nőnevelőintézet | F24: 1 | I24: nőnevelő intézet, nőnevelő, nőnevelőintézet | J24: 2
A25: divatlap | B25: 13 | E25: divatlap | F25: 6 | I25: divatlap | J25: 3
A26: nőies, nőisség | E26: nőies, nőisség | I26: nőies, nőisség | J26: 1
A27: nőirodalom, női irodalom | E27: nőirodalom, női irodalom | I27: nőirodalom, női irodalom
A28: női olvasókör, női olvasás, női olvasó | E28: női olvasókör, női olvasás, női olvasó | I28: női olvasókör, női olvasás, női olvasó
A29: nőjog, női jogok | E29: nőjog, női jogok | I29: nőjog, női jogok
A30: női hivatás | B30: 11 | E30: női hivatás | F30: 2 | I30: női hivatás
A31: női tanulás, nőtanulás, leánytanulás, lánytanulás, | E31: női tanulás, nőtanulás, leánytanulás, lánytanulás, | I31: női tanulás, nőtanulás, leánytanulás, lánytanulás,
A32: feminizmus | E32: feminizmus | I32: feminizmus
A33: nőmozgalom | E33: nőmozgalom | I33: nőmozgalom
A34: leányiskola, lányiskola | E34: leányiskola, lányiskola | I34: leányiskola, lányiskola
A35: Teleki Blanka | E35: Teleki Blanka | I35: Teleki Blanka
A36: Karacs Teréz | E36: Karacs Teréz | F36: 2 | I36: Karacs Teréz
A37: Takáts Éva, Takács Éva | E37: Takáts Éva, Takács Éva | I37: Takáts Éva, Takács Éva
A38: Brunszvik Teréz | E38: Brunszvik Teréz | I38: Brunszvik Teréz
A39: Veres Pálné | E39: Veres Pálné | I39: Veres Pálné
B40: =SUM(B2:B39) -> 460 | F40: =SUM(F2:F39) -> 2147 | J40: =SUM(J2:J39) -> 1173

Sheet 1849
A1: Kulcsszavak/ évszámok | B1: Figyelmező 580 oldal | D1: Kulcsszavak/ évszámok | E1: Hölgyfutár 156 oldal | G1: Kulcsszavak/ évszámok | H1: Marczius Tizenötödike 458 oldal
A2: nő, nők, női | B2: 137 | D2: nő, nők, női | E2: 190 | G2: nő, nők, női | H2: 95
A3: leány, lány | B3: 40 | D3: leány, lány | E3: 158 | G3: leány, lány | H3: 44
A4: hölgy | B4: 30 | D4: hölgy | E4: 193 | G4: hölgy | H4: 40
A5: asszony, asszonyság | B5: 35 | D5: asszony, asszonyság | E5: 26 | G5: asszony, asszonyság | H5: 36
A6: honleány | D6: honleány | E6: 4 | G6: honleány | H6: 9
A7: oktatás | B7: 54 | D7: oktatás, nevelés | E7: 3 | G7: oktatás | H7: 20
A8: nőoktatás, leányoktatás, lányoktatás | B8: 3 | D8: nőoktatás, leányoktatás, lányoktatás | E8: 1 | G8: nőoktatás, leányoktatás, lányoktatás
A9: nőnevelés, leánynevelés, lánynevelés | B9: 6 | D9: nőnevelés, leánynevelés, lánynevelés | E9: 1 | G9: nőnevelés, leánynevelés, lánynevelés
A10: oktatási reform | B10: 1 | D10: oktatási reform | G10: oktatási reform
A11: leánynevelde, lánynevelde, leánynövelde, lánynövelde | B11: 0 | D11: leánynevelde, lánynevelde, leánynövelde, lánynövelde | G11: leánynevelde, lánynevelde, leánynövelde, lánynövelde
A12: nőnevelde, nőnövelde | B12: 0 | D12: nőnevelde, nőnövelde | G12: nőnevelde, nőnövelde
A13: nőíró, írónő, női író | B13: 0 | D13: nőíró, írónő, női író | E13: 3 | G13: nőíró, írónő, női író
A14: szerkesztőnő, női szerkesztő | B14: 0 | D14: szerkesztőnő, női szerkesztő | G14: szerkesztőnő, női szerkesztő | H14: 3
A15: nőegylet | B15: 2 | D15: nőegylet | G15: nőegylet | H15: 3
A16: tanítónő, tanárnő, női tanár | B16: 0 | D16: tanítónő, tanárnő, női tanár | G16: tanítónő, tanárnő, női tanár
A17: leánygimnázium, leánygymnázium, leánygymnasium | D17: leánygimnázium, leánygymnázium, leánygymnasium | G17: leánygimnázium, leánygymnázium, leánygymnasium
A18: nőkérdés | D18: nőkérdés | G18: nőkérdés
A19: felsőoktatás, egyetem, egyetemi oktatás | D19: felsőoktatás, egyetem, egyetemi oktatás | G19: felsőoktatás, egyetem, egyetemi oktatás
A20: női egyetemisták, női hallgatók, női diplomások | D20: női egyetemisták, női hallgatók, női diplomások | G20: női egyetemisták, női hallgatók, női diplomások
A21: családanya, anya, anyaság, anyai | B21: 44 | D21: családanya, anya, anyaság, anyai | E21: 17 | G21: családanya, anya, anyaság, anyai | H21: 12
A22: háziasszony | B22: 1 | D22: háziasszony | G22: háziasszony
A23: női szerep, nőszerep | D23: női szerep, nőszerep | G23: női szerep, nőszerep
A24: nőnevelő intézet, nőnevelő, nőnevelőintézet | D24: nőnevelő intézet, nőnevelő, nőnevelőintézet | E24: 1 | G24: nőnevelő intézet, nőnevelő, nőnevelőintézet
A25: divatlap | B25: 2 | D25: divatlap | E25: 6 | G25: divatlap | H25: 2
A26: nőies, nőisség | D26: nőies, nőisség | E26: 1 | G26: nőies, nőisség
A27: nőirodalom, női irodalom | D27: nőirodalom, női irodalom | G27: nőirodalom, női irodalom
A28: női olvasókör, női olvasás, női olvasó | D28: női olvasókör, női olvasás, női olvasó | G28: női olvasókör, női olvasás, női olvasó
A29: nőjog, női jogok | D29: nőjog, női jogok | G29: nőjog, női jogok
A30: női hivatás | B30: 2 | D30: női hivatás | G30: női hivatás
A31: női tanulás, nőtanulás, leánytanulás, lánytanulás, | D31: női tanulás, nőtanulás, leánytanulás, lánytanulás, | G31: női tanulás, nőtanulás, leánytanulás, lánytanulás,
A32: feminizmus | D32: feminizmus | G32: feminizmus
A33: nőmozgalom | D33: nőmozgalom | G33: nőmozgalom
A34: leányiskola, lányiskola | B34: 3 | D34: leányiskola, lányiskola | G34: leányiskola, lányiskola
A35: Teleki Blanka | D35: Teleki Blanka | G35: Teleki Blanka
A36: Karacs Teréz | D36: Karacs Teréz | E36: 2 | G36: Karacs Teréz
A37: Takáts Éva, Takács Éva | D37: Takáts Éva, Takács Éva | G37: Takáts Éva, Takács Éva
A38: Brunszvik Teréz | D38: Brunszvik Teréz | G38: Brunszvik Teréz
A39: Veres Pálné | D39: Veres Pálné | G39: Veres Pálné
B40: =SUM(B2:B39) -> 360 | E40: =SUM(E2:E39) -> 606 | H40: =SUM(H2:H39) -> 264

Sheet 1850
A1: Kulcsszavak/ évszámok | B1: xxx | E1: Kulcsszavak/ évszámok | F1: Hölgyfutár 620 oldal | H1: Kulcsszavak/ évszámok | I1: Pesti Napló 1033 oldal
A2: nő, nők, női | E2: nő, nők, női | F2: 776 | H2: nő, nők, női | I2: 768
A3: leány, lány | E3: leány, lány | F3: 579 | H3: leány, lány | I3: 628
A4: hölgy | E4: hölgy | F4: 607 | H4: hölgy | I4: 224
A5: asszony, asszonyság | E5: asszony, asszonyság | F5: 321 | H5: asszony, asszonyság | I5: 568
A6: honleány | E6: honleány | F6: 24 | H6: honleány | I6: 18
A7: oktatás | E7: oktatás | F7: 6 | H7: oktatás | I7: 197
A8: nőoktatás, leányoktatás, lányoktatás | E8: nőoktatás, leányoktatás, lányoktatás | H8: nőoktatás, leányoktatás, lányoktatás
A9: nőnevelés, leánynevelés, lánynevelés | E9: nőnevelés, leánynevelés, lánynevelés | H9: nőnevelés, leánynevelés, lánynevelés | I9: 1
A10: oktatási reform | E10: oktatási reform | H10: oktatási reform
A11: leánynevelde, lánynevelde, leánynövelde, lánynövelde | E11: leánynevelde, lánynevelde, leánynövelde, lánynövelde | H11: leánynevelde, lánynevelde, leánynövelde, lánynövelde | I11: 1
A12: nőnevelde, nőnövelde | E12: nőnevelde, nőnövelde | H12: nőnevelde, nőnövelde
A13: nőíró, írónő, női író | E13: nőíró, írónő, női író | F13: 9 | H13: nőíró, írónő, női író | I13: 1
A14: szerkesztőnő, női szerkesztő | E14: szerkesztőnő, női szerkesztő | H14: szerkesztőnő, női szerkesztő | I14: 11
A15: nőegylet | E15: nőegylet | F15: 1 | H15: nőegylet | I15: 2
A16: tanítónő, tanárnő, női tanár | E16: tanítónő, tanárnő, női tanár | H16: tanítónő, tanárnő, női tanár
A17: leánygimnázium, leánygymnázium, leánygymnasium | E17: leánygimnázium, leánygymnázium, leánygymnasium | H17: leánygimnázium, leánygymnázium, leánygymnasium
A18: nőkérdés | E18: nőkérdés | H18: nőkérdés
A19: felsőoktatás, egyetem, egyetemi oktatás | E19: felsőoktatás, egyetem, egyetemi oktatás | F19: 12 | H19: felsőoktatás, egyetem, egyetemi oktatás | I19: 312
A20: női egyetemisták, női hallgatók, női diplomások | E20: női egyetemisták, női hallgatók, női diplomások | H20: női egyetemisták, női hallgatók, női diplomások
A21: családanya, anya, anyaság, anyai | E21: családanya, anya, anyaság, anyai | F21: 95 | H21: családanya, anya, anyaság, anyai | I21: 127
A22: háziasszony | E22: háziasszony | F22: 1 | H22: háziasszony | I22: 11
A23: női szerep, nőszerep | E23: női szerep, nőszerep | F23: 1 | H23: női szerep, nőszerep
A24: nőnevelő intézet, nőnevelő, nőnevelőintézet | E24: nőnevelő intézet, nőnevelő, nőnevelőintézet | H24: nőnevelő intézet, nőnevelő, nőnevelőintézet | I24: 2
A25: divatlap | E25: divatlap | F25: 5 | H25: divatlap | I25: 5
A26: nőies, nőisség | E26: nőies, nőisség | F26: 1 | H26: nőies, nőisség
A27: nőirodalom, női irodalom | E27: nőirodalom, női irodalom | H27: nőirodalom, női irodalom
A28: női olvasókör, női olvasás, női olvasó | E28: női olvasókör, női olvasás, női olvasó | H28: női olvasókör, női olvasás, női olvasó
A29: nőjog, női jogok | E29: nőjog, női jogok | H29: nőjog, női jogok
A30: női hivatás | E30: női hivatás | H30: női hivatás
A31: női tanulás, nőtanulás, leánytanulás, lánytanulás, | E31: női tanulás, nőtanulás, leánytanulás, lánytanulás, | H31: női tanulás, nőtanulás, leánytanulás, lánytanulás,
A32: feminizmus | E32: feminizmus | H32: feminizmus
A33: nőmozgalom | E33: nőmozgalom | H33: nőmozgalom
A34: leányiskola, lányiskola | E34: leányiskola, lányiskola | H34: leányiskola, lányiskola | I34: 1
A35: Teleki Blanka | E35: Teleki Blanka | H35: Teleki Blanka
A36: Karacs Teréz | E36: Karacs Teréz | H36: Karacs Teréz
A37: Takáts Éva, Takács Éva | E37: Takáts Éva, Takács Éva | H37: Takáts Éva, Takács Éva
A38: Brunszvik Teréz | E38: Brunszvik Teréz | H38: Brunszvik Teréz
A39: Veres Pálné | E39: Veres Pálné | H39: Veres Pálné
F40: =SUM(F2:F39) -> 2438 | I40: =SUM(I2:I39) -> 2877

Sheet 1866
A1: Kulcsszavak/ évszámok | B1: Vasárnapi Ujság 636 oldal | D1: Kulcsszavak/ évszámok | E1: Nefelejts 798 oldal | G1: Kulcsszavak/ évszámok | H1: Politikai Ujdonságok 644 oldal
A2: nő, nők, női | B2: 680 | D2: nő, nők, női | E2: 1254 | G2: nő, nők, női | H2: 351
A3: leány, lány | B3: 367 | D3: leány, lány | E3: 873 | G3: leány, lány | H3: 179
A4: hölgy | B4: 150 | D4: hölgy | E4: 484 | G4: hölgy | H4: 128
A5: asszony, asszonyság | B5: 210 | D5: asszony, asszonyság | E5: 370 | G5: asszony, asszonyság | H5: 111
A6: honleány | B6: 10 | D6: honleány | E6: 29 | G6: honleány | H6: 6
A7: oktatás | B7: 45 | D7: oktatás | E7: 13 | G7: oktatás | H7: 45
A8: nőoktatás, leányoktatás, lányoktatás | D8: nőoktatás, leányoktatás, lányoktatás | G8: nőoktatás, leányoktatás, lányoktatás
A9: nőnevelés, leánynevelés, lánynevelés | D9: nőnevelés, leánynevelés, lánynevelés | G9: nőnevelés, leánynevelés, lánynevelés
A10: oktatási reform | D10: oktatási reform | G10: oktatási reform
A11: leánynevelde, lánynevelde, leánynövelde, lánynövelde | B11: 4 | D11: leánynevelde, lánynevelde, leánynövelde, lánynövelde | G11: leánynevelde, lánynevelde, leánynövelde, lánynövelde | H11: 2
A12: nőnevelde, nőnövelde | B12: 3 | D12: nőnevelde, nőnövelde | E12: 4 | G12: nőnevelde, nőnövelde
A13: nőíró, írónő, női író | B13: 2 | D13: nőíró, írónő, női író | E13: 8 | G13: nőíró, írónő, női író | H13: 2
A14: szerkesztőnő, női szerkesztő | B14: 8 | D14: szerkesztőnő, női szerkesztő | E14: 1 | G14: szerkesztőnő, női szerkesztő
A15: nőegylet | B15: 20 | D15: nőegylet | E15: 20 | G15: nőegylet | H15: 18
A16: tanítónő, tanárnő, női tanár | B16: 1 | D16: tanítónő, tanárnő, női tanár | E16: 4 | G16: tanítónő, tanárnő, női tanár
A17: leánygimnázium, leánygymnázium, leánygymnasium | D17: leánygimnázium, leánygymnázium, leánygymnasium | G17: leánygimnázium, leánygymnázium, leánygymnasium
A18: nőkérdés | D18: nőkérdés | G18: nőkérdés
A19: felsőoktatás, egyetem, egyetemi oktatás | B19: 290 | D19: felsőoktatás, egyetem, egyetemi oktatás | E19: 31 | G19: felsőoktatás, egyetem, egyetemi oktatás | H19: 366
A20: női egyetemisták, női hallgatók, női diplomások | D20: női egyetemisták, női hallgatók, női diplomások | G20: női egyetemisták, női hallgatók, női diplomások
A21: családanya, anya, anyaság, anyai | B21: 76 | D21: családanya, anya, anyaság, anyai | E21: 90 | G21: családanya, anya, anyaság, anyai | H21: 26
A22: háziasszony | B22: 12 | D22: háziasszony | G22: háziasszony | H22: 8
A23: női szerep, nőszerep | D23: női szerep, nőszerep | E23: 1 | G23: női szerep, nőszerep
A24: nőnevelő intézet, nőnevelő, nőnevelőintézet | B24: 2 | D24: nőnevelő intézet, nőnevelő, nőnevelőintézet | G24: nőnevelő intézet, nőnevelő, nőnevelőintézet | H24: 5
A25: divatlap | B25: 9 | D25: divatlap | G25: divatlap | H25: 5
A26: nőies, nőisség | B26: 1 | D26: nőies, nőisség | E26: 6 | G26: nőies, nőisség | H26: 1
A27: nőirodalom, női irodalom | B27: 1 | D27: nőirodalom, női irodalom | G27: nőirodalom, női irodalom
A28: női olvasókör, női olvasás, női olvasó | B28: 1 | D28: női olvasókör, női olvasás, női olvasó | G28: női olvasókör, női olvasás, női olvasó
A29: nőjog, női jogok | B29: 1 | D29: nőjog, női jogok | G29: nőjog, női jogok
A30: női hivatás | B30: 1 | D30: női hivatás | G30: női hivatás
A31: női tanulás, nőtanulás, leánytanulás, lánytanulás, | B31: 1 | D31: női tanulás, nőtanulás, leánytanulás, lánytanulás, | E31: 1 | G31: női tanulás, nőtanulás, leánytanulás, lánytanulás, | H31: 1
A32: feminizmus | D32: feminizmus | G32: feminizmus
A33: nőmozgalom | D33: nőmozgalom | G33: nőmozgalom
A34: leányiskola, lányiskola | B34: 3 | D34: leányiskola, lányiskola | E34: 1 | G34: leányiskola, lányiskola
A35: Teleki Blanka | D35: Teleki Blanka | G35: Teleki Blanka
A36: Karacs Teréz | D36: Karacs Teréz | G36: Karacs Teréz
A37: Takáts Éva, Takács Éva | D37: Takáts Éva, Takács Éva | G37: Takáts Éva, Takács Éva
A38: Brunszvik Teréz | D38: Brunszvik Teréz | G38: Brunszvik Teréz
A39: Veres Pálné | D39: Veres Pálné | G39: Veres Pálné
B40: =SUM(B2:B39) -> 1898 | E40: =SUM(E2:E39) -> 3190 | H40: =SUM(H2:H39) -> 1254

Sheet 1867
A1: Kulcsszavak/ évszámok | B1: Vasarnapi Ujsag 644 oldal | D1: Kulcsszavak/ évszámok | E1: Nefelejts 868 oldal | G1: Kulcsszavak/ évszámok | H1: Politikai Ujdonságok 642 oldal
A2: nő, nők, női | B2: 698 | D2: nő, nők, női | E2: 1291 | G2: nő, nők, női | H2: 455
A3: leány, lány | B3: 320 | D3: leány, lány | E3: 881 | G3: leány, lány | H3: 188
A4: hölgy | B4: 155 | D4: hölgy | E4: 475 | G4: hölgy | H4: 174
A5: asszony, asszonyság | B5: 282 | D5: asszony, asszonyság | E5: 420 | G5: asszony, asszonyság | H5: 93
A6: honleány | B6: 3 | D6: honleány | E6: 24 | G6: honleány | H6: 4
A7: oktatás | B7: 78 | D7: oktatás | E7: 46 | G7: oktatás | H7: 84
A8: nőoktatás, leányoktatás, lányoktatás | B8: 8 | D8: nőoktatás, leányoktatás, lányoktatás | E8: 8 | G8: nőoktatás, leányoktatás, lányoktatás | H8: 13
A9: nőnevelés, leánynevelés, lánynevelés | B9: 28 | D9: nőnevelés, leánynevelés, lánynevelés | E9: 32 | G9: nőnevelés, leánynevelés, lánynevelés | H9: 17
A10: oktatási reform | B10: 1 | D10: oktatási reform | G10: oktatási reform | H10: 7
A11: leánynevelde, lánynevelde, leánynövelde, lánynövelde | D11: leánynevelde, lánynevelde, leánynövelde, lánynövelde | G11: leánynevelde, lánynevelde, leánynövelde, lánynövelde | H11: 3
A12: nőnevelde, nőnövelde | D12: nőnevelde, nőnövelde | G12: nőnevelde, nőnövelde
A13: nőíró, írónő, női író | B13: 5 | D13: nőíró, írónő, női író | G13: nőíró, írónő, női író | H13: 1
A14: szerkesztőnő, női szerkesztő | D14: szerkesztőnő, női szerkesztő | G14: szerkesztőnő, női szerkesztő
A15: nőegylet | B15: 8 | D15: nőegylet | E15: 33 | G15: nőegylet | H15: 20
A16: tanítónő, tanárnő, női tanár | D16: tanítónő, tanárnő, női tanár | E16: 2 | G16: tanítónő, tanárnő, női tanár | H16: 2
A17: leánygimnázium, leánygymnázium, leánygymnasium | D17: leánygimnázium, leánygymnázium, leánygymnasium | G17: leánygimnázium, leánygymnázium, leánygymnasium
A18: nőkérdés | D18: nőkérdés | G18: nőkérdés
A19: felsőoktatás, egyetem, egyetemi oktatás | B19: 14 | D19: felsőoktatás, egyetem, egyetemi oktatás | G19: felsőoktatás, egyetem, egyetemi oktatás
A20: női egyetemisták, női hallgatók, női diplomások | D20: női egyetemisták, női hallgatók, női diplomások | G20: női egyetemisták, női hallgatók, női diplomások | H20: 1
A21: családanya, anya, anyaság, anyai | B21: 73 | D21: családanya, anya, anyaság, anyai | E21: 87 | G21: családanya, anya, anyaság, anyai | H21: 16
A22: háziasszony | B22: 4 | D22: háziasszony | E22: 47 | G22: háziasszony | H22: 3
A23: női szerep, nőszerep | D23: női szerep, nőszerep | E23: 1 | G23: női szerep, nőszerep
A24: nőnevelő intézet, nőnevelő, nőnevelőintézet | D24: nőnevelő intézet, nőnevelő, nőnevelőintézet | E24: 2 | G24: nőnevelő intézet, nőnevelő, nőnevelőintézet
A25: divatlap | B25: 18 | D25: divatlap | E25: 32 | G25: divatlap | H25: 16
A26: nőies, nőisség | B26: 1 | D26: nőies, nőisség | E26: 8 | G26: nőies, nőisség
A27: nőirodalom, női irodalom | D27: nőirodalom, női irodalom | G27: nőirodalom, női irodalom
A28: női olvasókör, női olvasás, női olvasó | D28: női olvasókör, női olvasás, női olvasó | E28: 1 | G28: női olvasókör, női olvasás, női olvasó
A29: nőjog, női jogok | B29: 50 | D29: nőjog, női jogok | E29: 45 | G29: nőjog, női jogok
A30: női hivatás | D30: női hivatás | E30: 1 | G30: női hivatás | H30: 1
A31: női tanulás, nőtanulás, leánytanulás, lánytanulás, | D31: női tanulás, nőtanulás, leánytanulás, lánytanulás, | G31: női tanulás, nőtanulás, leánytanulás, lánytanulás,
A32: feminizmus | D32: feminizmus | G32: feminizmus
A33: nőmozgalom | D33: nőmozgalom | G33: nőmozgalom
A34: leányiskola, lányiskola | B34: 4 | D34: leányiskola, lányiskola | G34: leányiskola, lányiskola | H34: 4
A35: Teleki Blanka | D35: Teleki Blanka | G35: Teleki Blanka
A36: Karacs Teréz | D36: Karacs Teréz | G36: Karacs Teréz
A37: Takáts Éva, Takács Éva | D37: Takáts Éva, Takács Éva | G37: Takáts Éva, Takács Éva
A38: Brunszvik Teréz | D38: Brunszvik Teréz | G38: Brunszvik Teréz
A39: Veres Pálné | D39: Veres Pálné | G39: Veres Pálné
B40: =SUM(B2:B39) -> 1750 | E40: =SUM(E2:E39) -> 3436 | H40: =SUM(H2:H39) -> 1102

Sheet 1868
A1: Kulcsszavak/ évszámok | B1: Vasárnapi Ujság 648 oldal | G1: Kulcsszavak/ évszámok | H1: Nefelejts 628 oldal | M1: Kulcsszavak/ évszámok | N1: Politikai Ujdonságok 644 oldal
A2: nő, nők, női | B2: 752 | G2: nő, nők, női | H2: 1304 | M2: nő, nők, női | N2: 428
A3: leány, lány | B3: 419 | G3: leány, lány | H3: 1139 | M3: leány, lány | N3: 175
A4: hölgy | B4: 327 | G4: hölgy | H4: 331 | M4: hölgy | N4: 241
A5: asszony, asszonyság | B5: 193 | G5: asszony, asszonyság | H5: 447 | M5: asszony, asszonyság | N5: 76
A6: honleány | B6: 5 | G6: honleány | H6: 8 | M6: honleány | N6: 3
A7: oktatás | B7: 48 | G7: oktatás | H7: 20 | M7: oktatás | N7: 72
A8: nőoktatás, leányoktatás, lányoktatás | G8: nőoktatás, leányoktatás, lányoktatás | M8: nőoktatás, leányoktatás, lányoktatás
A9: nőnevelés, leánynevelés, lánynevelés | G9: nőnevelés, leánynevelés, lánynevelés | H9: 6 | M9: nőnevelés, leánynevelés, lánynevelés
A10: oktatási reform | G10: oktatási reform | M10: oktatási reform
A11: leánynevelde, lánynevelde, leánynövelde, lánynövelde | B11: 6 | G11: leánynevelde, lánynevelde, leánynövelde, lánynövelde | H11: 7 | M11: leánynevelde, lánynevelde, leánynövelde, lánynövelde | N11: 2
A12: nőnevelde, nőnövelde | B12: 2 | G12: nőnevelde, nőnövelde | H12: 1 | M12: nőnevelde, nőnövelde
A13: nőíró, írónő, női író | G13: nőíró, írónő, női író | H13: 7 | M13: nőíró, írónő, női író | N13: 2
A14: szerkesztőnő, női szerkesztő | G14: szerkesztőnő, női szerkesztő | M14: szerkesztőnő, női szerkesztő
A15: nőegylet | B15: 5 | G15: nőegylet | H15: 16 | M15: nőegylet | N15: 7
A16: tanítónő, tanárnő, női tanár | G16: tanítónő, tanárnő, női tanár | H16: 1 | M16: tanítónő, tanárnő, női tanár | N16: 3
A17: leánygimnázium, leánygymnázium, leánygymnasium | G17: leánygimnázium, leánygymnázium, leánygymnasium | M17: leánygimnázium, leánygymnázium, leánygymnasium
A18: nőkérdés | G18: nőkérdés | M18: nőkérdés
A19: felsőoktatás, egyetem, egyetemi oktatás | B19: 289 | G19: felsőoktatás, egyetem, egyetemi oktatás | H19: 51 | M19: felsőoktatás, egyetem, egyetemi oktatás | N19: 385
A20: női egyetemisták, női hallgatók, női diplomások | G20: női egyetemisták, női hallgatók, női diplomások | M20: női egyetemisták, női hallgatók, női diplomások
A21: családanya, anya, anyaság, anyai | B21: 70 | G21: családanya, anya, anyaság, anyai | H21: 108 | M21: családanya, anya, anyaság, anyai | N21: 40
A22: háziasszony | B22: 10 | G22: háziasszony | H22: 36 | M22: háziasszony | N22: 5
A23: női szerep, nőszerep | B23: 2 | G23: női szerep, nőszerep | H23: 2 | M23: női szerep, nőszerep
A24: nőnevelő intézet, nőnevelő, nőnevelőintézet | B24: 6 | G24: nőnevelő intézet, nőnevelő, nőnevelőintézet | H24: 4 | M24: nőnevelő intézet, nőnevelő, nőnevelőintézet | N24: 1
A25: divatlap | B25: 8 | G25: divatlap | H25: 6 | M25: divatlap | N25: 4
A26: nőies, nőisség | B26: 4 | G26: nőies, nőisség | H26: 4 | M26: nőies, nőisség
A27: nőirodalom, női irodalom | G27: nőirodalom, női irodalom | M27: nőirodalom, női irodalom
A28: női olvasókör, női olvasás, női olvasó | B28: 2 | G28: női olvasókör, női olvasás, női olvasó | H28: 1 | M28: női olvasókör, női olvasás, női olvasó
A29: nőjog, női jogok | B29: 1 | G29: nőjog, női jogok | M29: nőjog, női jogok
A30: női hivatás | G30: női hivatás | M30: női hivatás
A31: női tanulás, nőtanulás, leánytanulás, lánytanulás, | B31: 2 | G31: női tanulás, nőtanulás, leánytanulás, lánytanulás, | H31: 10 | M31: női tanulás, nőtanulás, leánytanulás, lánytanulás,
A32: feminizmus | G32: feminizmus | M32: feminizmus
A33: nőmozgalom | G33: nőmozgalom | M33: nőmozgalom
A34: leányiskola, lányiskola | B34: 2 | G34: leányiskola, lányiskola | H34: 2 | M34: leányiskola, lányiskola | N34: 3
A35: Teleki Blanka | G35: Teleki Blanka | M35: Teleki Blanka
A36: Karacs Teréz | G36: Karacs Teréz | M36: Karacs Teréz
A37: Takáts Éva, Takács Éva | G37: Takáts Éva, Takács Éva | M37: Takáts Éva, Takács Éva
A38: Brunszvik Teréz | G38: Brunszvik Teréz | M38: Brunszvik Teréz
A39: Veres Pálné | G39: Veres Pálné | M39: Veres Pálné
B40: =SUM(B2:B39) -> 2153 | H40: =SUM(H2:H39) -> 3511 | N40: =SUM(N2:N39) -> 1447

Sheet 1899
A11: Kulcsszavak/ évszámok | B11: Vasarnapi Ujsag 901 oldal | E11: Kulcsszavak/ évszámok | F11: Nemzeti Nőnevelés 408 oldal | H11: Kulcsszavak/ évszámok | I11: Népszava 663 oldal
A12: nő, nők, női | B12: 814 | E12: nő, nők, női | F12: 851 | H12: nő, nők, női | I12: 594
A13: leány, lány | B13: 682 | E13: leány, lány | F13: 488 | H13: leány, lány | I13: 117
A14: hölgy | B14: 318 | E14: hölgy | F14: 17 | H14: hölgy | I14: 66
A15: asszony, asszonyság | B15: 352 | E15: asszony, asszonyság | F15: 122 | H15: asszony, asszonyság | I15: 70
A16: honleány | B16: 7 | E16: honleány | F16: 3 | H16: honleány
A17: oktatás | B17: 55 | E17: oktatás | F17: 31 | H17: oktatás
A18: nőoktatás, leányoktatás, lányoktatás | E18: nőoktatás, leányoktatás, lányoktatás | F18: 2 | H18: nőoktatás, leányoktatás, lányoktatás
A19: nőnevelés, leánynevelés, lánynevelés | B19: 11 | E19: nőnevelés, leánynevelés, lánynevelés | F19: 90 | H19: nőnevelés, leánynevelés, lánynevelés
A20: oktatási reform | E20: oktatási reform | H20: oktatási reform
A21: leánynevelde, lánynevelde, leánynövelde, lánynövelde | E21: leánynevelde, lánynevelde, leánynövelde, lánynövelde | H21: leánynevelde, lánynevelde, leánynövelde, lánynövelde
A22: nőnevelde, nőnövelde | E22: nőnevelde, nőnövelde | F22: 15 | H22: nőnevelde, nőnövelde
A23: nőíró, írónő, női író | B23: 8 | E23: nőíró, írónő, női író | F23: 4 | H23: nőíró, írónő, női író
A24: szerkesztőnő, női szerkesztő | E24: szerkesztőnő, női szerkesztő | F24: 2 | H24: szerkesztőnő, női szerkesztő
A25: nőegylet | B25: 6 | E25: nőegylet | F25: 8 | H25: nőegylet
A26: tanítónő, tanárnő, női tanár | B26: 15 | E26: tanítónő, tanárnő, női tanár | F26: 142 | H26: tanítónő, tanárnő, női tanár | I26: 1
A27: leánygimnázium, leánygymnázium, leánygymnasium | B27: 2 | E27: leánygimnázium, leánygymnázium, leánygymnasium | F27: 13 | H27: leánygimnázium, leánygymnázium, leánygymnasium
A28: nőkérdés | E28: nőkérdés | F28: 16 | H28: nőkérdés | I28: 1
A29: felsőoktatás, egyetem, egyetemi oktatás | B29: 387 | E29: felsőoktatás, egyetem, egyetemi oktatás | F29: 35 | H29: felsőoktatás, egyetem, egyetemi oktatás | I29: 30
A30: női egyetemisták, női hallgatók, női diplomások | E30: női egyetemisták, női hallgatók, női diplomások | H30: női egyetemisták, női hallgatók, női diplomások
A31: családanya, anya, anyaság, anyai | B31: 85 | E31: családanya, anya, anyaság, anyai | F31: 30 | H31: családanya, anya, anyaság, anyai | I31: 40
A32: háziasszony | B32: 12 | E32: háziasszony | F32: 1 | H32: háziasszony
A33: női szerep, nőszerep | B33: 4 | E33: női szerep, nőszerep | H33: női szerep, nőszerep
A34: nőnevelő intézet, nőnevelő, nőnevelőintézet | B34: 17 | E34: nőnevelő intézet, nőnevelő, nőnevelőintézet | F34: 59 | H34: nőnevelő intézet, nőnevelő, nőnevelőintézet
A35: divatlap | B35: 3 | E35: divatlap | F35: 1 | H35: divatlap
A36: nőies, nőisség | B36: 3 | E36: nőies, nőisség | F36: 28 | H36: nőies, nőisség | I36: 2
A37: nőirodalom, női irodalom | B37: 1 | E37: nőirodalom, női irodalom | H37: nőirodalom, női irodalom
A38: női olvasókör, női olvasás, női olvasó | E38: női olvasókör, női olvasás, női olvasó | H38: női olvasókör, női olvasás, női olvasó
A39: nőjog, női jogok | E39: nőjog, női jogok | F39: 3 | H39: nőjog, női jogok | I39: 2
A40: női hivatás | E40: női hivatás | F40: 5 | H40: női hivatás
A41: női tanulás, nőtanulás, leánytanulás, lánytanulás, | B41: 1 | E41: női tanulás, nőtanulás, leánytanulás, lánytanulás, | F41: 5 | H41: női tanulás, nőtanulás, leánytanulás, lánytanulás, | I41: 1
A42: feminizmus | E42: feminizmus | H42: feminizmus
A43: nőmozgalom | E43: nőmozgalom | F43: 2 | H43: nőmozgalom
A44: leányiskola, lányiskola | B44: 20 | E44: leányiskola, lányiskola | F44: 201 | H44: leányiskola, lányiskola | I44: 1
A45: Teleki Blanka | E45: Teleki Blanka | H45: Teleki Blanka
A46: Karacs Teréz | E46: Karacs Teréz | H46: Karacs Teréz
A47: Takáts Éva, Takács Éva | E47: Takáts Éva, Takács Éva | H47: Takáts Éva, Takács Éva
A48: Brunszvik Teréz | E48: Brunszvik Teréz | H48: Brunszvik Teréz
A49: Veres Pálné | E49: Veres Pálné | H49: Veres Pálné
B50: =SUM(B12:B49) -> 2803 | F50: =SUM(F12:F49) -> 2174 | I50: =SUM(I12:I49) -> 925
