Workbook

Sheet fő munkalap
A1: Hidraulikus rétegrepesztés optimalizálása gazdasági szempontból (ellipszis repesztés esetén):
A2: Physical Opt.: | B2: h[m]: | C2: 65
B3: pe [bar]: | C3: =570 -> 570
B4: pwf[bar]: | C4: 475
B5: k[mD]: | C5: 0.25
B6: kf[mD]: | C6: 2000
B7: Xre[m]: | C7: 650
B8: Proppmass[kg]: | C8: 25000 | D8: =C8+25000 -> 50000 | E8: =D8+25000 -> 75000 | F8: =E8+25000 -> 100000 | G8: =F8+25000 -> 125000 | H8: =G8+25000 -> 150000 | I8: =H8+25000 -> 175000 | J8: =I8+25000 -> 200000 | K8: =J8+25000 -> 225000 | ... W8: =V8+25000 -> 525000
B9: Tállandó (K) | C9: 478.15
B10: Zi | C10: ='J változás 1.'!P3 -> 1.3573323
B11: Proppant sűrűség[kg/m^3]: | C11: 2082.4
B12: Bi: | C12: =1.01325/C3*C9/288.15*C10 -> 0.0040038102
B13: µ[cP]: | C13: 0.03
B14: Vp[m^3]: | C14: =C8/$C$11*1.06 -> 12.725701 | D14: =D8/$C$11 -> 24.010757 | E14: =E8/$C$11 -> 36.016135 | F14: =F8/$C$11 -> 48.021514 | G14: =G8/$C$11 -> 60.026892 | H14: =H8/$C$11 -> 72.03227 | I14: =I8/$C$11 -> 84.037649 | J14: =J8/$C$11 -> 96.043027 | K14: =K8/$C$11 -> 108.04841 | ... W14: =W8/$C$11 -> 252.11295
B15: Vr[m^3]: | C15: =(C7^2)*2*C2 -> 54925000
B17: Nprop: | C17: =(2*$C$6*C14)/($C$5*$C$15) -> 0.0037070772 | D17: =(2*$C$6*D14)/($C$5*$C$15) -> 0.0069944854 | E17: =(2*$C$6*E14)/($C$5*$C$15) -> 0.010491728 | F17: =(2*$C$6*F14)/($C$5*$C$15) -> 0.013988971 | G17: =(2*$C$6*G14)/($C$5*$C$15) -> 0.017486213 | H17: =(2*$C$6*H14)/($C$5*$C$15) -> 0.020983456 | I17: =(2*$C$6*I14)/($C$5*$C$15) -> 0.024480699 | J17: =(2*$C$6*J14)/($C$5*$C$15) -> 0.027977941 | ... W17: =(2*$C$6*W14)/($C$5*$C$15) -> 0.073442096
B19: CfD,opt: | C19: =IF(C17<0.1,1.6,IF(C17>10,C17,(1.6+(2.71828182845904^(((-0.583)+1.48*LN(C17)))/(1+0.142*LN(C17)))))) -> 1.6 | D19: =IF(D17<0.1,1.6,IF(D17>10,D17,(1.6+(2.71828182845904^(((-0.583)+1.48*LN(D17)))/(1+0.142*LN(D17)))))) -> 1.6 | E19: =IF(E17<0.1,1.6,IF(E17>10,E17,(1.6+(2.71828182845904^(((-0.583)+1.48*LN(E17)))/(1+0.142*LN(E17)))))) -> 1.6 | F19: =IF(F17<0.1,1.6,IF(F17>10,F17,(1.6+(2.71828182845904^(((-0.583)+1.48*LN(F17)))/(1+0.142*LN(F17)))))) -> 1.6 | G19: =IF(G17<0.1,1.6,IF(G17>10,G17,(1.6+(2.71828182845904^(((-0.583)+1.48*LN(G17)))/(1+0.142*LN(G17)))))) -> 1.6 | H19: =IF(H17<0.1,1.6,IF(H17>10,H17,(1.6+(2.71828182845904^(((-0.583)+1.48*LN(H17)))/(1+0.142*LN(H17)))))) -> 1.6 | I19: =IF(I17<0.1,1.6,IF(I17>10,I17,(1.6+(2.71828182845904^(((-0.583)+1.48*LN(I17)))/(1+0.142*LN(I17)))))) -> 1.6 | J19: =IF(J17<0.1,1.6,IF(J17>10,J17,(1.6+(2.71828182845904^(((-0.583)+1.48*LN(J17)))/(1+0.142*LN(J17)))))) -> 1.6 | ... W19: =IF(W17<0.1,1.6,IF(W17>10,W17,(1.6+(2.71828182845904^(((-0.583)+1.48*LN(W17)))/(1+0.142*LN(W17)))))) -> 1.6
B21: xf,opt [m]: | C21: =(($C$6*(C14/2))/(C19*$C$5*$C$2))^(0.5) -> 22.123518 | D21: =(($C$6*(D14/2))/(D19*$C$5*$C$2))^(0.5) -> 30.388989 | E21: =(($C$6*(E14/2))/(E19*$C$5*$C$2))^(0.5) -> 37.218758 | F21: =(($C$6*(F14/2))/(F19*$C$5*$C$2))^(0.5) -> 42.97652 | G21: =(($C$6*(G14/2))/(G19*$C$5*$C$2))^(0.5) -> 48.04921 | H21: =(($C$6*(H14/2))/(H19*$C$5*$C$2))^(0.5) -> 52.635273 | I21: =(($C$6*(I14/2))/(I19*$C$5*$C$2))^(0.5) -> 56.852592 | J21: =(($C$6*(J14/2))/(J19*$C$5*$C$2))^(0.5) -> 60.777978 | ... W21: =(($C$6*(W14/2))/(W19*$C$5*$C$2))^(0.5) -> 98.471579
B23: w,opt[m]: | C23: =((0.5*C14)/(C21*$C$2)) -> 0.0044247036 | D23: =((0.5*D14)/(D21*$C$2)) -> 0.0060777978 | E23: =((0.5*E14)/(E21*$C$2)) -> 0.0074437517 | F23: =((0.5*F14)/(F21*$C$2)) -> 0.0085953041 | G23: =((0.5*G14)/(G21*$C$2)) -> 0.0096098421 | H23: =((0.5*H14)/(H21*$C$2)) -> 0.010527055 | I23: =((0.5*I14)/(I21*$C$2)) -> 0.011370518 | J23: =((0.5*J14)/(J21*$C$2)) -> 0.012155596 | ... W23: =((0.5*W14)/(W21*$C$2)) -> 0.019694316
B25: Jdmax: | C25: =IF(C17>0.1,(6/PI()-(2.71828182845904^((0.423-0.311*C17-0.089*C17^2)/(1+0.667*C17+0.015*C17^2)))),(1/(0.99-0.5*LN(C17)))) -> 0.26393889 | D25: =IF(D17>0.1,(6/PI()-(2.71828182845904^((0.423-0.311*D17-0.089*D17^2)/(1+0.667*D17+0.015*D17^2)))),(1/(0.99-0.5*LN(D17)))) -> 0.28807513 | E25: =IF(E17>0.1,(6/PI()-(2.71828182845904^((0.423-0.311*E17-0.089*E17^2)/(1+0.667*E17+0.015*E17^2)))),(1/(0.99-0.5*LN(E17)))) -> 0.30594287 | F25: =IF(F17>0.1,(6/PI()-(2.71828182845904^((0.423-0.311*F17-0.089*F17^2)/(1+0.667*F17+0.015*F17^2)))),(1/(0.99-0.5*LN(F17)))) -> 0.32002632 | G25: =IF(G17>0.1,(6/PI()-(2.71828182845904^((0.423-0.311*G17-0.089*G17^2)/(1+0.667*G17+0.015*G17^2)))),(1/(0.99-0.5*LN(G17)))) -> 0.33187626 | H25: =IF(H17>0.1,(6/PI()-(2.71828182845904^((0.423-0.311*H17-0.089*H17^2)/(1+0.667*H17+0.015*H17^2)))),(1/(0.99-0.5*LN(H17)))) -> 0.34223012 | I25: =IF(I17>0.1,(6/PI()-(2.71828182845904^((0.423-0.311*I17-0.089*I17^2)/(1+0.667*I17+0.015*I17^2)))),(1/(0.99-0.5*LN(I17)))) -> 0.35150186 | J25: =IF(J17>0.1,(6/PI()-(2.71828182845904^((0.423-0.311*J17-0.089*J17^2)/(1+0.667*J17+0.015*J17^2)))),(1/(0.99-0.5*LN(J17)))) -> 0.35994925 | ... W25: =IF(W17>0.1,(6/PI()-(2.71828182845904^((0.423-0.311*W17-0.089*W17^2)/(1+0.667*W17+0.015*W17^2)))),(1/(0.99-0.5*LN(W17)))) -> 0.43561046
A27: Innentől SI:
B28: k[m^2]: | C28: =0.000000000000001*C5 -> 2.5e-16
B29: µ[Pa*s]: | C29: =0.03*10^-3 -> 3e-05
B31: Ji [m^3/nap/bar]: | C31: =24*3600*(C25*(($C$12*$C$29)/(2*PI()*$C$28*$C$2))^-1)*10^5 -> 1938.4546 | D31: =24*3600*(D25*(($C$12*$C$29)/(2*PI()*$C$28*$C$2))^-1)*10^5 -> 2115.7191 | E31: =24*3600*(E25*(($C$12*$C$29)/(2*PI()*$C$28*$C$2))^-1)*10^5 -> 2246.9457 | F31: =24*3600*(F25*(($C$12*$C$29)/(2*PI()*$C$28*$C$2))^-1)*10^5 -> 2350.3792 | G31: =24*3600*(G25*(($C$12*$C$29)/(2*PI()*$C$28*$C$2))^-1)*10^5 -> 2437.4091 | H31: =24*3600*(H25*(($C$12*$C$29)/(2*PI()*$C$28*$C$2))^-1)*10^5 -> 2513.4513 | I31: =24*3600*(I25*(($C$12*$C$29)/(2*PI()*$C$28*$C$2))^-1)*10^5 -> 2581.546 | J31: =24*3600*(J25*(($C$12*$C$29)/(2*PI()*$C$28*$C$2))^-1)*10^5 -> 2643.5864 | ... W31: =24*3600*(W25*(($C$12*$C$29)/(2*PI()*$C$28*$C$2))^-1)*10^5 -> 3199.2674
B33: Q [m^3/nap]: | C33: =C31*($C$3-$C$4) -> 184153.18 | D33: =D31*($C$3-$C$4) -> 200993.32 | E33: =E31*($C$3-$C$4) -> 213459.84 | F33: =F31*($C$3-$C$4) -> 223286.02 | G33: =G31*($C$3-$C$4) -> 231553.86 | H33: =H31*($C$3-$C$4) -> 238777.87 | I33: =I31*($C$3-$C$4) -> 245246.87 | J33: =J31*($C$3-$C$4) -> 251140.71 | ... W33: =W31*($C$3-$C$4) -> 303930.4
A34: Economic Opt.:
B35: Q1000[m^3]: | C35: =('J változás 1.'!$H$102)*$A$37 -> 1.0473884e+08 | D35: =('J változás 2.'!$H$102)*$A$37 -> 1.1260343e+08 | E35: =('J változás 3.'!$H$102)*$A$37 -> 1.1830347e+08 | F35: =('J változás 4.'!$H$102)*$A$37 -> 1.2272621e+08 | G35: =('J változás 5.'!$H$102)*$A$37 -> 1.2640122e+08 | H35: =('J változás 6.'!$H$102)*$A$37 -> 1.2957848e+08 | I35: =('J változás 7.'!$H$102)*$A$37 -> 1.3239753e+08 | J35: =('J változás 8.'!$H$102)*$A$37 -> 1.3494482e+08 | K35: =('J változás 9.'!$H$102)*$A$37 -> 1.3727796e+08 | L35: =('J változás 10.'!$H$102)*$A$37 -> 1.3943741e+08 | M35: =('J változás 11.'!$H$102)*$A$37 -> 1.4145276e+08 | N35: =('J változás 12.'!$H$102)*$A$37 -> 1.4334638e+08 | O35: =('J változás 13.'!$H$102)*$A$37 -> 1.451356e+08 | P35: =('J változás 14.'!$H$102)*$A$37 -> 1.4683417e+08 | Q35: =('J változás 15.'!$H$102)*$A$37 -> 1.4845318e+08 | R35: =('J változás 16.'!$H$102)*$A$37 -> 1.5000172e+08 | S35: =('J változás 17.'!$H$102)*$A$37 -> 1.5148734e+08 | T35: =('J változás 18.'!$H$102)*$A$37 -> 1.5291639e+08 | U35: =('J változás 19.'!$H$102)*$A$37 -> 1.5429428e+08 | V35: =('J változás 20.'!$H$102)*$A$37 -> 1.5562563e+08 | W35: =('J változás 21.'!$H$102)*$A$37 -> 1.5691443e+08
A37: 1
B40: κ: | C40: 0.058107
B41: K: | C41: =1+C40 -> 1.058107
B42: fd: | C42: =(('J változás 11.'!H38*'fő munkalap'!C45/'fő munkalap'!C41^1)+(('J változás 11.'!H74-'J változás 11.'!H38)*'fő munkalap'!C45/'fő munkalap'!C41^2)+(('J változás 11.'!H102-'J változás 11.'!H74)*'fő munkalap'!C45/'fő munkalap'!C41^2.74))/('J változás 11.'!H102*'fő munkalap'!C45) -> 0.91330988
B43: fr: | C43: 0.29
B44: ft: | C44: 0.16
B45: gáz ár[HUF/m^3]: | C45: 73
B47: 1000Napos árbevétel[HUF]: | C47: =C35*$C$45*$C$42*(1-$C$43)*(1-$C$44) -> 4.1647257e+09 | D47: =D35*$C$45*$C$42*(1-$C$43)*(1-$C$44) -> 4.4774452e+09 | E47: =E35*$C$45*$C$42*(1-$C$43)*(1-$C$44) -> 4.7040954e+09 | F47: =F35*$C$45*$C$42*(1-$C$43)*(1-$C$44) -> 4.8799567e+09 | G47: =G35*$C$45*$C$42*(1-$C$43)*(1-$C$44) -> 5.026086e+09 | H47: =H35*$C$45*$C$42*(1-$C$43)*(1-$C$44) -> 5.1524234e+09 | I47: =I35*$C$45*$C$42*(1-$C$43)*(1-$C$44) -> 5.2645169e+09 | J47: =J35*$C$45*$C$42*(1-$C$43)*(1-$C$44) -> 5.3658047e+09 | ... W47: =W35*$C$45*$C$42*(1-$C$43)*(1-$C$44) -> 6.2393814e+09
B52: 1000Napos árbevétel[HUF] | C52: =SUM(C35:C39)*$C$45*$C$42*(1-$C$43)*(1-$C$44) -> 4.1647257e+09 | D52: =SUM(D35:D39)*$C$45*$C$42*(1-$C$43)*(1-$C$44) -> 4.4774452e+09 | E52: =SUM(E35:E39)*$C$45*$C$42*(1-$C$43)*(1-$C$44) -> 4.7040954e+09 | F52: =SUM(F35:F39)*$C$45*$C$42*(1-$C$43)*(1-$C$44) -> 4.8799567e+09 | G52: =SUM(G35:G39)*$C$45*$C$42*(1-$C$43)*(1-$C$44) -> 5.026086e+09 | H52: =SUM(H35:H39)*$C$45*$C$42*(1-$C$43)*(1-$C$44) -> 5.1524234e+09 | I52: =SUM(I35:I39)*$C$45*$C$42*(1-$C$43)*(1-$C$44) -> 5.2645169e+09 | J52: =SUM(J35:J39)*$C$45*$C$42*(1-$C$43)*(1-$C$44) -> 5.3658047e+09 | ... W52: =SUM(W35:W39)*$C$45*$C$42*(1-$C$43)*(1-$C$44) -> 6.2393814e+09
B54: KIADÁSOK
B55: Fúrás[HUF]: | C55: 2000000000
B56: Kút vizsgálat[HUF]: | C56: 50000000
B57: Repesztés[HUF]: | C57: 100000000
B58: Kiképzés repesztés előtt[HUF]: | C58: 600000000
B59: Kiképzés repesztés után[HUF]: | C59: 200000000
B60: Mérések: | C60: 10000000
B61: Felállás[HUF]: | C61: =40000*240 -> 9600000
B62: Egyéb[HUF]: | C62: 10000000
B64: Proppant ár[HUF/kg]: | C64: 500 | D64: Fluidum + egyéb költség a proppant 1kg-jához ár [HUF] | E64: 2800
B66: Felhasznált proppant ára[HUF]: | C66: =C14*$C$11*($C$64+$E64) -> 87450000 | D66: =D14*$C$11*($C$64+$E64) -> 165000000 | E66: =E14*$C$11*($C$64+$E64) -> 247500000 | F66: =F14*$C$11*($C$64+$E64) -> 330000000 | G66: =G14*$C$11*($C$64+$E64) -> 412500000 | H66: =H14*$C$11*($C$64+$E64) -> 495000000 | I66: =I14*$C$11*($C$64+$E64) -> 577500000 | J66: =J14*$C$11*($C$64+$E64) -> 660000000 | ... W66: =W14*$C$11*($C$64+$E64) -> 1732500000
B68: NPV[MHUF]: | C68: =(C52-$C$55-$C$56-$C$57-$C$58-$C$59-$C$60-$C$61-$C$62-C66)/10^6 -> 1097.6757 | D68: =(D52-$C$55-$C$56-$C$57-$C$58-$C$59-$C$60-$C$61-$C$62-D66)/10^6 -> 1332.8452 | E68: =(E52-$C$55-$C$56-$C$57-$C$58-$C$59-$C$60-$C$61-$C$62-E66)/10^6 -> 1476.9954 | F68: =(F52-$C$55-$C$56-$C$57-$C$58-$C$59-$C$60-$C$61-$C$62-F66)/10^6 -> 1570.3567 | G68: =(G52-$C$55-$C$56-$C$57-$C$58-$C$59-$C$60-$C$61-$C$62-G66)/10^6 -> 1633.986 | H68: =(H52-$C$55-$C$56-$C$57-$C$58-$C$59-$C$60-$C$61-$C$62-H66)/10^6 -> 1677.8234 | I68: =(I52-$C$55-$C$56-$C$57-$C$58-$C$59-$C$60-$C$61-$C$62-I66)/10^6 -> 1707.4169 | J68: =(J52-$C$55-$C$56-$C$57-$C$58-$C$59-$C$60-$C$61-$C$62-J66)/10^6 -> 1726.2047 | ... W68: =(W52-$C$55-$C$56-$C$57-$C$58-$C$59-$C$60-$C$61-$C$62-W66)/10^6 -> 1527.2814
J80: k=0,25 mD maximuma kb. 79 m-nél!
J81: k=0,2 mD maximuma kb. 80 m-nél!
J82: k=0,15 mD maximuma kb. 87 m-nél!
L84: ∟→ | M84: Ez azt jelenti, hogy minnél kompaktabb a tároló annál hosszabb repedést kell létrehozni az optimum eléréséhez!!
J87: Felhasznált proppant: 30/60-as Sinterball bauxite, amely sűrűsége: 2082,4 kg/m^3; permeabilitása 570 bar-on: közelítőleg: 2000, ára kb. 500 FT/kg!! A meghatározott optimális repesztés szélességek megfelelnek az iparban használatos "ökölszabálynak", azaz a proppant átmérőknek legalább háromszorosai!

Sheet J változás 1.
A2: t | B2: J | C2: B | D2: pi (bar) | E2: pwf (bar) | G2: Q m^3/nap | H2: Gp | I2: G (nm^3) | P2: zi | Q2: T (K) | R2: relatív sűrűség | S2: Tpc | T2: Ppc | U2: Tpr | V2: Ppr
A3: 10 | B3: =('fő munkalap'!C31) -> 1938.4546 | C3: ='fő munkalap'!C12 -> 0.0040038102 | D3: ='fő munkalap'!C3 -> 570 | E3: ='fő munkalap'!C4 -> 475 | G3: =$B3*((D3)-(E$3)) -> 184153.18 | H3: =G3*A3 -> 1841531.8 | I3: =24*10^9 -> 24000000000 | P3: =1-((3.52*V3)/(10^(0.9813*U3)))+((0.274*V3^2)/(10^(0.8157*U3))) -> 1.3573323 | Q3: =205+273.15 -> 478.15 | R3: 0.709 | S3: =103.9+183.3*R3-39.7*R3^2 -> 213.90326 | T3: =48.69-3.566*R3-0.766*R3^2 -> 45.776652 | U3: =Q3/S3 -> 2.2353563 | V3: =D3/T$3 -> 12.451762
A4: 20 | B4: =(B$3*C$3/C4) -> 1938.3058 | C4: =1.01325/D4*Q3/288.15*P4 -> 0.0040041175 | D4: =P4*(D$3/P$3)*(1-H3/I$3) -> 569.95626 | F4: =D4/D$3 -> 0.99992327 | G4: =$B4*((D4)-(E$3)) -> 184054.28 | H4: =H3+G4*(A4-A3) -> 3682074.6 | P4: =1-((3.52*V3)/(10^(0.9813*U3)))+((0.274*V3^2)/(10^(0.8157*U3))) -> 1.3573323 | Q4: =205+273.15 -> 478.15 | R4: =0.709*F4 -> 0.7089456 | S4: =103.9+183.3*R4-39.7*R4^2 -> 213.89635 | U4: =Q4/S4 -> 2.2354285 | V4: =D4/T$3 -> 12.450807
A5: 30 | B5: =(B$3*C$3/C5) -> 1938.1572 | C5: =1.01325/D5*Q4/288.15*P5 -> 0.0040044246 | D5: =P5*(D$3/P$3)*(1-H4/I$3) -> 569.86339 | F5: =D5/D$3 -> 0.99976033 | G5: =$B5*((D5)-(E$3)) -> 183860.15 | H5: =H4+G5*(A5-A4) -> 5520676.2 | P5: =1-((3.52*V4)/(10^(0.9813*U4)))+((0.274*V4^2)/(10^(0.8157*U4))) -> 1.3572152 | Q5: =205+273.15 -> 478.15 | R5: =0.709*F5 -> 0.70883007 | S5: =103.9+183.3*R5-39.7*R5^2 -> 213.88168 | U5: =Q5/S5 -> 2.2355818 | V5: =D5/T$3 -> 12.448778
A6: 40 | B6: =(B$3*C$3/C6) -> 1938.0087 | C6: =1.01325/D6*Q5/288.15*P6 -> 0.0040047314 | D6: =P6*(D$3/P$3)*(1-H5/I$3) -> 569.71537 | F6: =D6/D$3 -> 0.99950064 | G6: =$B6*((D6)-(E$3)) -> 183559.2 | H6: =H5+G6*(A6-A5) -> 7356268.2 | P6: =1-((3.52*V5)/(10^(0.9813*U5)))+((0.274*V5^2)/(10^(0.8157*U5))) -> 1.3569667 | Q6: =205+273.15 -> 478.15 | R6: =0.709*F6 -> 0.70864595 | S6: =103.9+183.3*R6-39.7*R6^2 -> 213.85829 | U6: =Q6/S6 -> 2.2358263 | V6: =D6/T$3 -> 12.445545
A7: 50 | B7: =(B$3*C$3/C7) -> 1937.8604 | C7: =1.01325/D7*Q6/288.15*P7 -> 0.0040050378 | D7: =P7*(D$3/P$3)*(1-H6/I$3) -> 569.50558 | F7: =D7/D$3 -> 0.9991326 | G7: =$B7*((D7)-(E$3)) -> 183138.63 | H7: =H6+G7*(A7-A6) -> 9187654.4 | P7: =1-((3.52*V6)/(10^(0.9813*U6)))+((0.274*V6^2)/(10^(0.8157*U6))) -> 1.3565708 | Q7: =205+273.15 -> 478.15 | R7: =0.709*F7 -> 0.70838502 | S7: =103.9+183.3*R7-39.7*R7^2 -> 213.82514 | U7: =Q7/S7 -> 2.2361729 | V7: =D7/T$3 -> 12.440962
A8: 60 | B8: =(B$3*C$3/C8) -> 1937.7125 | C8: =1.01325/D8*Q7/288.15*P8 -> 0.0040053436 | D8: =P8*(D$3/P$3)*(1-H7/I$3) -> 569.22681 | F8: =D8/D$3 -> 0.99864353 | G8: =$B8*((D8)-(E$3)) -> 182584.47 | H8: =H7+G8*(A8-A7) -> 11013499 | P8: =1-((3.52*V7)/(10^(0.9813*U7)))+((0.274*V7^2)/(10^(0.8157*U7))) -> 1.3560103 | Q8: =205+273.15 -> 478.15 | R8: =0.709*F8 -> 0.70803826 | S8: =103.9+183.3*R8-39.7*R8^2 -> 213.78108 | U8: =Q8/S8 -> 2.2366338 | V8: =D8/T$3 -> 12.434872
A9: 70 | B9: =(B$3*C$3/C9) -> 1937.565 | C9: =1.01325/D9*Q8/288.15*P9 -> 0.0040056484 | D9: =P9*(D$3/P$3)*(1-H8/I$3) -> 568.87124 | F9: =D9/D$3 -> 0.99801971 | G9: =$B9*((D9)-(E$3)) -> 181881.62 | H9: =H8+G9*(A9-A8) -> 12832315 | P9: =1-((3.52*V8)/(10^(0.9813*U8)))+((0.274*V8^2)/(10^(0.8157*U8))) -> 1.3552663 | Q9: =205+273.15 -> 478.15 | R9: =0.709*F9 -> 0.70759598 | S9: =103.9+183.3*R9-39.7*R9^2 -> 213.72487 | U9: =Q9/S9 -> 2.2372221 | V9: =D9/T$3 -> 12.427104
A10: 80 | B10: =(B$3*C$3/C10) -> 1937.4181 | C10: =1.01325/D10*Q9/288.15*P10 -> 0.0040059521 | D10: =P10*(D$3/P$3)*(1-H9/I$3) -> 568.43053 | F10: =D10/D$3 -> 0.99724654 | G10: =$B10*((D10)-(E$3)) -> 181014 | H10: =H9+G10*(A10-A9) -> 14642455 | P10: =1-((3.52*V9)/(10^(0.9813*U9)))+((0.274*V9^2)/(10^(0.8157*U9))) -> 1.3543191 | Q10: =205+273.15 -> 478.15 | R10: =0.709*F10 -> 0.7070478 | S10: =103.9+183.3*R10-39.7*R10^2 -> 213.65517 | U10: =Q10/S10 -> 2.2379519 | V10: =D10/T$3 -> 12.417477
A11: 90 | B11: =(B$3*C$3/C11) -> 1937.2719 | C11: =1.01325/D11*Q10/288.15*P11 -> 0.0040062545 | D11: =P11*(D$3/P$3)*(1-H10/I$3) -> 567.89595 | F11: =D11/D$3 -> 0.99630869 | G11: =$B11*((D11)-(E$3)) -> 179964.72 | H11: =H10+G11*(A11-A10) -> 16442103 | P11: =1-((3.52*V10)/(10^(0.9813*U10)))+((0.274*V10^2)/(10^(0.8157*U10))) -> 1.3531476 | Q11: =205+273.15 -> 478.15 | R11: =0.709*F11 -> 0.70638286 | S11: =103.9+183.3*R11-39.7*R11^2 -> 213.5706 | U11: =Q11/S11 -> 2.2388381 | V11: =D11/T$3 -> 12.405799
A12: 100 | B12: =(B$3*C$3/C12) -> 1937.1266 | C12: =1.01325/D12*Q11/288.15*P12 -> 0.0040065551 | D12: =P12*(D$3/P$3)*(1-H11/I$3) -> 567.25854 | F12: =D12/D$3 -> 0.99519041 | G12: =$B12*((D12)-(E$3)) -> 178716.46 | H12: =H11+G12*(A12-A11) -> 18229267 | P12: =1-((3.52*V11)/(10^(0.9813*U11)))+((0.274*V11^2)/(10^(0.8157*U11))) -> 1.3517302 | Q12: =205+273.15 -> 478.15 | R12: =0.709*F12 -> 0.70559 | S12: =103.9+183.3*R12-39.7*R12^2 -> 213.46971 | U12: =Q12/S12 -> 2.2398962 | V12: =D12/T$3 -> 12.391875
A13: 110 | B13: =(B$3*C$3/C13) -> 1936.9822 | C13: =1.01325/D13*Q12/288.15*P13 -> 0.0040068537 | D13: =P13*(D$3/P$3)*(1-H12/I$3) -> 566.5093 | F13: =D13/D$3 -> 0.99387597 | G13: =$B13*((D13)-(E$3)) -> 177251.89 | H13: =H12+G13*(A13-A12) -> 20001786 | P13: =1-((3.52*V12)/(10^(0.9813*U12)))+((0.274*V12^2)/(10^(0.8157*U12))) -> 1.3500454 | Q13: =205+273.15 -> 478.15 | R13: =0.709*F13 -> 0.70465806 | S13: =103.9+183.3*R13-39.7*R13^2 -> 213.35107 | U13: =Q13/S13 -> 2.2411418 | V13: =D13/T$3 -> 12.375507
A14: 120 | B14: =(B$3*C$3/C14) -> 1936.839 | C14: =1.01325/D14*Q13/288.15*P14 -> 0.0040071498 | D14: =P14*(D$3/P$3)*(1-H13/I$3) -> 565.6396 | F14: =D14/D$3 -> 0.99235018 | G14: =$B14*((D14)-(E$3)) -> 175554.32 | H14: =H13+G14*(A14-A13) -> 21757329 | P14: =1-((3.52*V13)/(10^(0.9813*U13)))+((0.274*V13^2)/(10^(0.8157*U13))) -> 1.3480725 | Q14: =205+273.15 -> 478.15 | R14: =0.709*F14 -> 0.70357628 | S14: =103.9+183.3*R14-39.7*R14^2 -> 213.21325 | U14: =Q14/S14 -> 2.2425904 | V14: =D14/T$3 -> 12.356509
A15: 130 | B15: =(B$3*C$3/C15) -> 1936.6973 | C15: =1.01325/D15*Q14/288.15*P15 -> 0.0040074432 | D15: =P15*(D$3/P$3)*(1-H14/I$3) -> 564.64149 | F15: =D15/D$3 -> 0.99059911 | G15: =$B15*((D15)-(E$3)) -> 173608.44 | H15: =H14+G15*(A15-A14) -> 23493414 | P15: =1-((3.52*V14)/(10^(0.9813*U14)))+((0.274*V14^2)/(10^(0.8157*U14))) -> 1.3457922 | Q15: =205+273.15 -> 478.15 | R15: =0.709*F15 -> 0.70233477 | S15: =103.9+183.3*R15-39.7*R15^2 -> 213.05498 | U15: =Q15/S15 -> 2.2442564 | V15: =D15/T$3 -> 12.334705
... A102: 1000 | B102: =(B$3*C$3/C102) -> 1930.0536 | C102: =1.01325/D102*Q101/288.15*P102 -> 0.0040212376 | D102: =P102*(D$3/P$3)*(1-H101/I$3) -> 512.64724 | F102: =D102/D$3 -> 0.89938113 | G102: =$B102*((D102)-(E$3)) -> 72661.2 | H102: =H101+G102*(A102-A101) -> 1.0473884e+08 | P102: =1-((3.52*V101)/(10^(0.9813*U101)))+((0.274*V101^2)/(10^(0.8157*U101))) -> 1.2260727 | Q102: =205+273.15 -> 478.15 | R102: =0.709*F102 -> 0.63766122 | S102: =103.9+183.3*R102-39.7*R102^2 -> 204.64081 | U102: =Q102/S102 -> 2.3365329 | V102: =D102/T$3 -> 11.19888

Sheet J változás 2.
A2: t | B2: J | C2: B | D2: pi (bar) | E2: pwf (bar) | G2: Q m^3/nap | H2: Gp | I2: G (nm^3) | P2: zi | Q2: T (K) | R2: relatív sűrűség | S2: Tpc | T2: Ppc | U2: Tpr | V2: Ppr
A3: 10 | B3: ='fő munkalap'!D31 -> 2115.7191 | C3: ='fő munkalap'!C12 -> 0.0040038102 | D3: ='fő munkalap'!C3 -> 570 | E3: ='fő munkalap'!C4 -> 475 | G3: =$B3*((D3)-(E$3)) -> 200993.32 | H3: =G3*A3 -> 2009933.2 | I3: =24*10^9 -> 24000000000 | P3: =1-((3.52*V3)/(10^(0.9813*U3)))+((0.274*V3^2)/(10^(0.8157*U3))) -> 1.3573323 | Q3: =205+273.15 -> 478.15 | R3: 0.709 | S3: =103.9+183.3*R3-39.7*R3^2 -> 213.90326 | T3: =48.69-3.566*R3-0.766*R3^2 -> 45.776652 | U3: =Q3/S3 -> 2.2353563 | V3: =D3/T$3 -> 12.451762
A4: 20 | B4: =B$3*C$3/C4 -> 2115.5419 | C4: =1.01325/D4*Q3/288.15*P4 -> 0.0040041456 | D4: =P4*(D$3/P$3)*(1-H3/I$3) -> 569.95226 | F4: =D4/D$3 -> 0.99991625 | G4: =$B4*((D4)-(E$3)) -> 200875.5 | H4: =H3+G4*(A4-A3) -> 4018688.1 | P4: =1-((3.52*V3)/(10^(0.9813*U3)))+((0.274*V3^2)/(10^(0.8157*U3))) -> 1.3573323 | Q4: =205+273.15 -> 478.15 | R4: =0.709*F4 -> 0.70894062 | S4: =103.9+183.3*R4-39.7*R4^2 -> 213.89572 | U4: =Q4/S4 -> 2.2354351 | V4: =D4/T$3 -> 12.45072
A5: 30 | B5: =B$3*C$3/C5 -> 2115.3648 | C5: =1.01325/D5*Q4/288.15*P5 -> 0.0040044808 | D5: =P5*(D$3/P$3)*(1-H4/I$3) -> 569.8509 | F5: =D5/D$3 -> 0.99973842 | G5: =$B5*((D5)-(E$3)) -> 200644.25 | H5: =H4+G5*(A5-A4) -> 6025130.6 | P5: =1-((3.52*V4)/(10^(0.9813*U4)))+((0.274*V4^2)/(10^(0.8157*U4))) -> 1.3572045 | Q5: =205+273.15 -> 478.15 | R5: =0.709*F5 -> 0.70881454 | S5: =103.9+183.3*R5-39.7*R5^2 -> 213.87971 | U5: =Q5/S5 -> 2.2356025 | V5: =D5/T$3 -> 12.448505
A6: 40 | B6: =B$3*C$3/C6 -> 2115.188 | C6: =1.01325/D6*Q5/288.15*P6 -> 0.0040048156 | D6: =P6*(D$3/P$3)*(1-H5/I$3) -> 569.68936 | F6: =D6/D$3 -> 0.99945502 | G6: =$B6*((D6)-(E$3)) -> 200285.79 | H6: =H5+G6*(A6-A5) -> 8027988.6 | P6: =1-((3.52*V5)/(10^(0.9813*U5)))+((0.274*V5^2)/(10^(0.8157*U5))) -> 1.3569333 | Q6: =205+273.15 -> 478.15 | R6: =0.709*F6 -> 0.70861361 | S6: =103.9+183.3*R6-39.7*R6^2 -> 213.85418 | U6: =Q6/S6 -> 2.2358693 | V6: =D6/T$3 -> 12.444976
A7: 50 | B7: =B$3*C$3/C7 -> 2115.0114 | C7: =1.01325/D7*Q6/288.15*P7 -> 0.00400515 | D7: =P7*(D$3/P$3)*(1-H6/I$3) -> 569.46045 | F7: =D7/D$3 -> 0.99905343 | G7: =$B7*((D7)-(E$3)) -> 199784.94 | H7: =H6+G7*(A7-A6) -> 10025838 | P7: =1-((3.52*V6)/(10^(0.9813*U6)))+((0.274*V6^2)/(10^(0.8157*U6))) -> 1.3565013 | Q7: =205+273.15 -> 478.15 | R7: =0.709*F7 -> 0.70832888 | S7: =103.9+183.3*R7-39.7*R7^2 -> 213.81801 | U7: =Q7/S7 -> 2.2362475 | V7: =D7/T$3 -> 12.439976
A8: 60 | B8: =B$3*C$3/C8 -> 2114.8353 | C8: =1.01325/D8*Q7/288.15*P8 -> 0.0040054835 | D8: =P8*(D$3/P$3)*(1-H7/I$3) -> 569.15634 | F8: =D8/D$3 -> 0.9985199 | G8: =$B8*((D8)-(E$3)) -> 199125.15 | H8: =H7+G8*(A8-A7) -> 12017089 | P8: =1-((3.52*V7)/(10^(0.9813*U7)))+((0.274*V7^2)/(10^(0.8157*U7))) -> 1.3558897 | Q8: =205+273.15 -> 478.15 | R8: =0.709*F8 -> 0.70795061 | S8: =103.9+183.3*R8-39.7*R8^2 -> 213.76994 | U8: =Q8/S8 -> 2.2367504 | V8: =D8/T$3 -> 12.433333
A9: 70 | B9: =B$3*C$3/C9 -> 2114.6597 | C9: =1.01325/D9*Q8/288.15*P9 -> 0.004005816 | D9: =P9*(D$3/P$3)*(1-H8/I$3) -> 568.76858 | F9: =D9/D$3 -> 0.99783961 | G9: =$B9*((D9)-(E$3)) -> 198288.64 | H9: =H8+G9*(A9-A8) -> 13999976 | P9: =1-((3.52*V8)/(10^(0.9813*U8)))+((0.274*V8^2)/(10^(0.8157*U8))) -> 1.3550785 | Q9: =205+273.15 -> 478.15 | R9: =0.709*F9 -> 0.70746829 | S9: =103.9+183.3*R9-39.7*R9^2 -> 213.70864 | U9: =Q9/S9 -> 2.237392 | V9: =D9/T$3 -> 12.424862
A10: 80 | B10: =B$3*C$3/C10 -> 2114.4849 | C10: =1.01325/D10*Q9/288.15*P10 -> 0.0040061471 | D10: =P10*(D$3/P$3)*(1-H9/I$3) -> 568.28822 | F10: =D10/D$3 -> 0.99699688 | G10: =$B10*((D10)-(E$3)) -> 197256.54 | H10: =H9+G10*(A10-A9) -> 15972541 | P10: =1-((3.52*V9)/(10^(0.9813*U9)))+((0.274*V9^2)/(10^(0.8157*U9))) -> 1.354046 | Q10: =205+273.15 -> 478.15 | R10: =0.709*F10 -> 0.70687079 | S10: =103.9+183.3*R10-39.7*R10^2 -> 213.63266 | U10: =Q10/S10 -> 2.2381877 | V10: =D10/T$3 -> 12.414368
A11: 90 | B11: =B$3*C$3/C11 -> 2114.311 | C11: =1.01325/D11*Q10/288.15*P11 -> 0.0040064766 | D11: =P11*(D$3/P$3)*(1-H10/I$3) -> 567.70595 | F11: =D11/D$3 -> 0.99597535 | G11: =$B11*((D11)-(E$3)) -> 196009.22 | H11: =H10+G11*(A11-A10) -> 17932633 | P11: =1-((3.52*V10)/(10^(0.9813*U10)))+((0.274*V10^2)/(10^(0.8157*U10))) -> 1.3527698 | Q11: =205+273.15 -> 478.15 | R11: =0.709*F11 -> 0.70614652 | S11: =103.9+183.3*R11-39.7*R11^2 -> 213.54053 | U11: =Q11/S11 -> 2.2391533 | V11: =D11/T$3 -> 12.401648
A12: 100 | B12: =B$3*C$3/C12 -> 2114.1383 | C12: =1.01325/D12*Q11/288.15*P12 -> 0.0040068041 | D12: =P12*(D$3/P$3)*(1-H11/I$3) -> 567.01229 | F12: =D12/D$3 -> 0.99475841 | G12: =$B12*((D12)-(E$3)) -> 194526.71 | H12: =H11+G12*(A12-A11) -> 19877900 | P12: =1-((3.52*V11)/(10^(0.9813*U11)))+((0.274*V11^2)/(10^(0.8157*U11))) -> 1.3512274 | Q12: =205+273.15 -> 478.15 | R12: =0.709*F12 -> 0.70528371 | S12: =103.9+183.3*R12-39.7*R12^2 -> 213.43073 | U12: =Q12/S12 -> 2.2403053 | V12: =D12/T$3 -> 12.386495
A13: 110 | B13: =B$3*C$3/C13 -> 2113.9668 | C13: =1.01325/D13*Q12/288.15*P13 -> 0.0040071291 | D13: =P13*(D$3/P$3)*(1-H12/I$3) -> 566.19792 | F13: =D13/D$3 -> 0.99332968 | G13: =$B13*((D13)-(E$3)) -> 192789.36 | H13: =H12+G13*(A13-A12) -> 21805794 | P13: =1-((3.52*V12)/(10^(0.9813*U12)))+((0.274*V12^2)/(10^(0.8157*U12))) -> 1.3493961 | Q13: =205+273.15 -> 478.15 | R13: =0.709*F13 -> 0.70427074 | S13: =103.9+183.3*R13-39.7*R13^2 -> 213.30173 | U13: =Q13/S13 -> 2.2416602 | V13: =D13/T$3 -> 12.368705
A14: 120 | B14: =B$3*C$3/C14 -> 2113.7968 | C14: =1.01325/D14*Q13/288.15*P14 -> 0.0040074513 | D14: =P14*(D$3/P$3)*(1-H13/I$3) -> 565.254 | F14: =D14/D$3 -> 0.99167368 | G14: =$B14*((D14)-(E$3)) -> 190778.62 | H14: =H13+G14*(A14-A13) -> 23713580 | P14: =1-((3.52*V13)/(10^(0.9813*U13)))+((0.274*V13^2)/(10^(0.8157*U13))) -> 1.3472548 | Q14: =205+273.15 -> 478.15 | R14: =0.709*F14 -> 0.70309664 | S14: =103.9+183.3*R14-39.7*R14^2 -> 213.15212 | U14: =Q14/S14 -> 2.2432336 | V14: =D14/T$3 -> 12.348085
A15: 130 | B15: =B$3*C$3/C15 -> 2113.6286 | C15: =1.01325/D15*Q14/288.15*P15 -> 0.0040077702 | D15: =P15*(D$3/P$3)*(1-H14/I$3) -> 564.17272 | F15: =D15/D$3 -> 0.9897767 | G15: =$B15*((D15)-(E$3)) -> 188478.01 | H15: =H14+G15*(A15-A14) -> 25598360 | P15: =1-((3.52*V14)/(10^(0.9813*U14)))+((0.274*V14^2)/(10^(0.8157*U14))) -> 1.3447846 | Q15: =205+273.15 -> 478.15 | R15: =0.709*F15 -> 0.70175168 | S15: =103.9+183.3*R15-39.7*R15^2 -> 212.9806 | U15: =Q15/S15 -> 2.2450401 | V15: =D15/T$3 -> 12.324464
... A102: 1000 | B102: =B$3*C$3/C102 -> 2105.8609 | C102: =1.01325/D102*Q101/288.15*P102 -> 0.0040225534 | D102: =P102*(D$3/P$3)*(1-H101/I$3) -> 511.80442 | F102: =D102/D$3 -> 0.89790249 | G102: =$B102*((D102)-(E$3)) -> 77504.984 | H102: =H101+G102*(A102-A101) -> 1.1260343e+08 | P102: =1-((3.52*V101)/(10^(0.9813*U101)))+((0.274*V101^2)/(10^(0.8157*U101))) -> 1.2244575 | Q102: =205+273.15 -> 478.15 | R102: =0.709*F102 -> 0.63661286 | S102: =103.9+183.3*R102-39.7*R102^2 -> 204.50168 | U102: =Q102/S102 -> 2.3381226 | V102: =D102/T$3 -> 11.180468

Sheet J változás 3.
A2: t | B2: J | C2: B | D2: pi (bar) | E2: pwf (bar) | G2: Q m^3/nap | H2: Gp | I2: G (nm^3) | P2: zi | Q2: T (K) | R2: relatív sűrűség | S2: Tpc | T2: Ppc | U2: Tpr | V2: Ppr
A3: 10 | B3: ='fő munkalap'!E31 -> 2246.9457 | C3: ='fő munkalap'!C12 -> 0.0040038102 | D3: ='fő munkalap'!C3 -> 570 | E3: ='fő munkalap'!C4 -> 475 | G3: =$B3*((D3)-(E$3)) -> 213459.84 | H3: =G3*A3 -> 2134598.4 | I3: =24*10^9 -> 24000000000 | P3: =1-((3.52*V3)/(10^(0.9813*U3)))+((0.274*V3^2)/(10^(0.8157*U3))) -> 1.3573323 | Q3: =205+273.15 -> 478.15 | R3: 0.709 | S3: =103.9+183.3*R3-39.7*R3^2 -> 213.90326 | T3: =48.69-3.566*R3-0.766*R3^2 -> 45.776652 | U3: =Q3/S3 -> 2.2353563 | V3: =D3/T$3 -> 12.451762
A4: 20 | B4: =B$3*C$3/C4 -> 2246.7458 | C4: =1.01325/D4*Q3/288.15*P4 -> 0.0040041664 | D4: =P4*(D$3/P$3)*(1-H3/I$3) -> 569.9493 | F4: =D4/D$3 -> 0.99991106 | G4: =$B4*((D4)-(E$3)) -> 213326.95 | H4: =H3+G4*(A4-A3) -> 4267867.9 | P4: =1-((3.52*V3)/(10^(0.9813*U3)))+((0.274*V3^2)/(10^(0.8157*U3))) -> 1.3573323 | Q4: =205+273.15 -> 478.15 | R4: =0.709*F4 -> 0.70893694 | S4: =103.9+183.3*R4-39.7*R4^2 -> 213.89526 | U4: =Q4/S4 -> 2.23544 | V4: =D4/T$3 -> 12.450655
A5: 30 | B5: =B$3*C$3/C5 -> 2246.5461 | C5: =1.01325/D5*Q4/288.15*P5 -> 0.0040045223 | D5: =P5*(D$3/P$3)*(1-H4/I$3) -> 569.84165 | F5: =D5/D$3 -> 0.9997222 | G5: =$B5*((D5)-(E$3)) -> 213066.15 | H5: =H4+G5*(A5-A4) -> 6398529.4 | P5: =1-((3.52*V4)/(10^(0.9813*U4)))+((0.274*V4^2)/(10^(0.8157*U4))) -> 1.3571966 | Q5: =205+273.15 -> 478.15 | R5: =0.709*F5 -> 0.70880304 | S5: =103.9+183.3*R5-39.7*R5^2 -> 213.87825 | U5: =Q5/S5 -> 2.2356177 | V5: =D5/T$3 -> 12.448303
A6: 40 | B6: =B$3*C$3/C6 -> 2246.3466 | C6: =1.01325/D6*Q5/288.15*P6 -> 0.004004878 | D6: =P6*(D$3/P$3)*(1-H5/I$3) -> 569.67011 | F6: =D6/D$3 -> 0.99942125 | G6: =$B6*((D6)-(E$3)) -> 212661.88 | H6: =H5+G6*(A6-A5) -> 8525148.2 | P6: =1-((3.52*V5)/(10^(0.9813*U5)))+((0.274*V5^2)/(10^(0.8157*U5))) -> 1.3569085 | Q6: =205+273.15 -> 478.15 | R6: =0.709*F6 -> 0.70858966 | S6: =103.9+183.3*R6-39.7*R6^2 -> 213.85114 | U6: =Q6/S6 -> 2.2359011 | V6: =D6/T$3 -> 12.444556
A7: 50 | B7: =B$3*C$3/C7 -> 2246.1475 | C7: =1.01325/D7*Q6/288.15*P7 -> 0.004005233 | D7: =P7*(D$3/P$3)*(1-H6/I$3) -> 569.42705 | F7: =D7/D$3 -> 0.99899483 | G7: =$B7*((D7)-(E$3)) -> 212097.09 | H7: =H6+G7*(A7-A6) -> 10646119 | P7: =1-((3.52*V6)/(10^(0.9813*U6)))+((0.274*V6^2)/(10^(0.8157*U6))) -> 1.3564498 | Q7: =205+273.15 -> 478.15 | R7: =0.709*F7 -> 0.70828734 | S7: =103.9+183.3*R7-39.7*R7^2 -> 213.81273 | U7: =Q7/S7 -> 2.2363027 | V7: =D7/T$3 -> 12.439246
A8: 60 | B8: =B$3*C$3/C8 -> 2245.949 | C8: =1.01325/D8*Q7/288.15*P8 -> 0.0040055871 | D8: =P8*(D$3/P$3)*(1-H7/I$3) -> 569.1042 | F8: =D8/D$3 -> 0.99842841 | G8: =$B8*((D8)-(E$3)) -> 211353.22 | H8: =H7+G8*(A8-A7) -> 12759651 | P8: =1-((3.52*V7)/(10^(0.9813*U7)))+((0.274*V7^2)/(10^(0.8157*U7))) -> 1.3558006 | Q8: =205+273.15 -> 478.15 | R8: =0.709*F8 -> 0.70788575 | S8: =103.9+183.3*R8-39.7*R8^2 -> 213.7617 | U8: =Q8/S8 -> 2.2368366 | V8: =D8/T$3 -> 12.432193
A9: 70 | B9: =B$3*C$3/C9 -> 2245.7511 | C9: =1.01325/D9*Q8/288.15*P9 -> 0.00400594 | D9: =P9*(D$3/P$3)*(1-H8/I$3) -> 568.69264 | F9: =D9/D$3 -> 0.99770639 | G9: =$B9*((D9)-(E$3)) -> 210410.36 | H9: =H8+G9*(A9-A8) -> 14863755 | P9: =1-((3.52*V8)/(10^(0.9813*U8)))+((0.274*V8^2)/(10^(0.8157*U8))) -> 1.3549395 | Q9: =205+273.15 -> 478.15 | R9: =0.709*F9 -> 0.70737383 | S9: =103.9+183.3*R9-39.7*R9^2 -> 213.69663 | U9: =Q9/S9 -> 2.2375178 | V9: =D9/T$3 -> 12.423203
A10: 80 | B10: =B$3*C$3/C10 -> 2245.5541 | C10: =1.01325/D10*Q9/288.15*P10 -> 0.0040062914 | D10: =P10*(D$3/P$3)*(1-H9/I$3) -> 568.183 | F10: =D10/D$3 -> 0.99681229 | G10: =$B10*((D10)-(E$3)) -> 209247.48 | H10: =H9+G10*(A10-A9) -> 16956230 | P10: =1-((3.52*V9)/(10^(0.9813*U9)))+((0.274*V9^2)/(10^(0.8157*U9))) -> 1.353844 | Q10: =205+273.15 -> 478.15 | R10: =0.709*F10 -> 0.70673991 | S10: =103.9+183.3*R10-39.7*R10^2 -> 213.61602 | U10: =Q10/S10 -> 2.2383621 | V10: =D10/T$3 -> 12.41207
A11: 90 | B11: =B$3*C$3/C11 -> 2245.3582 | C11: =1.01325/D11*Q10/288.15*P11 -> 0.004006641 | D11: =P11*(D$3/P$3)*(1-H10/I$3) -> 567.56555 | F11: =D11/D$3 -> 0.99572904 | G11: =$B11*((D11)-(E$3)) -> 207842.82 | H11: =H10+G11*(A11-A10) -> 19034658 | P11: =1-((3.52*V10)/(10^(0.9813*U10)))+((0.274*V10^2)/(10^(0.8157*U10))) -> 1.3524908 | Q11: =205+273.15 -> 478.15 | R11: =0.709*F11 -> 0.70597189 | S11: =103.9+183.3*R11-39.7*R11^2 -> 213.51831 | U11: =Q11/S11 -> 2.2393864 | V11: =D11/T$3 -> 12.398581
A12: 100 | B12: =B$3*C$3/C12 -> 2245.1636 | C12: =1.01325/D12*Q11/288.15*P12 -> 0.0040069882 | D12: =P12*(D$3/P$3)*(1-H11/I$3) -> 566.83048 | F12: =D12/D$3 -> 0.99443943 | G12: =$B12*((D12)-(E$3)) -> 206174.44 | H12: =H11+G12*(A12-A11) -> 21096402 | P12: =1-((3.52*V11)/(10^(0.9813*U11)))+((0.274*V11^2)/(10^(0.8157*U11))) -> 1.3508562 | Q12: =205+273.15 -> 478.15 | R12: =0.709*F12 -> 0.70505756 | S12: =103.9+183.3*R12-39.7*R12^2 -> 213.40194 | U12: =Q12/S12 -> 2.2406076 | V12: =D12/T$3 -> 12.382524
A13: 110 | B13: =B$3*C$3/C13 -> 2244.9706 | C13: =1.01325/D13*Q12/288.15*P13 -> 0.0040073327 | D13: =P13*(D$3/P$3)*(1-H12/I$3) -> 565.96822 | F13: =D13/D$3 -> 0.99292671 | G13: =$B13*((D13)-(E$3)) -> 204220.99 | H13: =H12+G13*(A13-A12) -> 23138612 | P13: =1-((3.52*V12)/(10^(0.9813*U12)))+((0.274*V12^2)/(10^(0.8157*U12))) -> 1.3489172 | Q13: =205+273.15 -> 478.15 | R13: =0.709*F13 -> 0.70398504 | S13: =103.9+183.3*R13-39.7*R13^2 -> 213.26534 | U13: =Q13/S13 -> 2.2420427 | V13: =D13/T$3 -> 12.363687
A14: 120 | B14: =B$3*C$3/C14 -> 2244.7794 | C14: =1.01325/D14*Q13/288.15*P14 -> 0.0040076741 | D14: =P14*(D$3/P$3)*(1-H13/I$3) -> 564.96991 | F14: =D14/D$3 -> 0.99117529 | G14: =$B14*((D14)-(E$3)) -> 201962.61 | H14: =H13+G14*(A14-A13) -> 25158238 | P14: =1-((3.52*V13)/(10^(0.9813*U13)))+((0.274*V13^2)/(10^(0.8157*U13))) -> 1.3466526 | Q14: =205+273.15 -> 478.15 | R14: =0.709*F14 -> 0.70274328 | S14: =103.9+183.3*R14-39.7*R14^2 -> 213.10707 | U14: =Q14/S14 -> 2.2437078 | V14: =D14/T$3 -> 12.341879
A15: 130 | B15: =B$3*C$3/C15 -> 2244.5903 | C15: =1.01325/D15*Q14/288.15*P15 -> 0.0040080117 | D15: =P15*(D$3/P$3)*(1-H14/I$3) -> 563.82788 | F15: =D15/D$3 -> 0.98917173 | G15: =$B15*((D15)-(E$3)) -> 199382.21 | H15: =H14+G15*(A15-A14) -> 27152060 | P15: =1-((3.52*V14)/(10^(0.9813*U14)))+((0.274*V14^2)/(10^(0.8157*U14))) -> 1.3440437 | Q15: =205+273.15 -> 478.15 | R15: =0.709*F15 -> 0.70132275 | S15: =103.9+183.3*R15-39.7*R15^2 -> 212.92587 | U15: =Q15/S15 -> 2.2456172 | V15: =D15/T$3 -> 12.316931
... A102: 1000 | B102: =B$3*C$3/C102 -> 2235.9456 | C102: =1.01325/D102*Q101/288.15*P102 -> 0.0040235076 | D102: =P102*(D$3/P$3)*(1-H101/I$3) -> 511.20514 | F102: =D102/D$3 -> 0.89685113 | G102: =$B102*((D102)-(E$3)) -> 80952.726 | H102: =H101+G102*(A102-A101) -> 1.1830347e+08 | P102: =1-((3.52*V101)/(10^(0.9813*U101)))+((0.274*V101^2)/(10^(0.8157*U101))) -> 1.2233139 | Q102: =205+273.15 -> 478.15 | R102: =0.709*F102 -> 0.63586745 | S102: =103.9+183.3*R102-39.7*R102^2 -> 204.4027 | U102: =Q102/S102 -> 2.3392548 | V102: =D102/T$3 -> 11.167377

Sheet J változás 4.
A2: t | B2: J | C2: B | D2: pi (bar) | E2: pwf (bar) | G2: Q m^3/nap | H2: Gp | I2: G (nm^3) | P2: zi | Q2: T (K) | R2: relatív sűrűség | S2: Tpc | T2: Ppc | U2: Tpr | V2: Ppr
A3: 10 | B3: ='fő munkalap'!F31 -> 2350.3792 | C3: ='fő munkalap'!C12 -> 0.0040038102 | D3: ='fő munkalap'!C3 -> 570 | E3: ='fő munkalap'!C4 -> 475 | G3: =$B3*((D3)-(E$3)) -> 223286.02 | H3: =G3*A3 -> 2232860.2 | I3: =24*10^9 -> 24000000000 | P3: =1-((3.52*V3)/(10^(0.9813*U3)))+((0.274*V3^2)/(10^(0.8157*U3))) -> 1.3573323 | Q3: =205+273.15 -> 478.15 | R3: 0.709 | S3: =103.9+183.3*R3-39.7*R3^2 -> 213.90326 | T3: =48.69-3.566*R3-0.766*R3^2 -> 45.776652 | U3: =Q3/S3 -> 2.2353563 | V3: =D3/T$3 -> 12.451762
A4: 20 | B4: =B$3*C$3/C4 -> 2350.1605 | C4: =1.01325/D4*Q3/288.15*P4 -> 0.0040041828 | D4: =P4*(D$3/P$3)*(1-H3/I$3) -> 569.94697 | F4: =D4/D$3 -> 0.99990696 | G4: =$B4*((D4)-(E$3)) -> 223140.62 | H4: =H3+G4*(A4-A3) -> 4464266.4 | P4: =1-((3.52*V3)/(10^(0.9813*U3)))+((0.274*V3^2)/(10^(0.8157*U3))) -> 1.3573323 | Q4: =205+273.15 -> 478.15 | R4: =0.709*F4 -> 0.70893404 | S4: =103.9+183.3*R4-39.7*R4^2 -> 213.89489 | U4: =Q4/S4 -> 2.2354438 | V4: =D4/T$3 -> 12.450604
A5: 30 | B5: =B$3*C$3/C5 -> 2349.942 | C5: =1.01325/D5*Q4/288.15*P5 -> 0.0040045551 | D5: =P5*(D$3/P$3)*(1-H4/I$3) -> 569.83437 | F5: =D5/D$3 -> 0.99970941 | G5: =$B5*((D5)-(E$3)) -> 222855.25 | H5: =H4+G5*(A5-A4) -> 6692818.9 | P5: =1-((3.52*V4)/(10^(0.9813*U4)))+((0.274*V4^2)/(10^(0.8157*U4))) -> 1.3571904 | Q5: =205+273.15 -> 478.15 | R5: =0.709*F5 -> 0.70879397 | S5: =103.9+183.3*R5-39.7*R5^2 -> 213.8771 | U5: =Q5/S5 -> 2.2356298 | V5: =D5/T$3 -> 12.448144
A6: 40 | B6: =B$3*C$3/C6 -> 2349.7237 | C6: =1.01325/D6*Q5/288.15*P6 -> 0.0040049271 | D6: =P6*(D$3/P$3)*(1-H5/I$3) -> 569.65494 | F6: =D6/D$3 -> 0.99939463 | G6: =$B6*((D6)-(E$3)) -> 222412.95 | H6: =H5+G6*(A6-A5) -> 8916948.5 | P6: =1-((3.52*V5)/(10^(0.9813*U5)))+((0.274*V5^2)/(10^(0.8157*U5))) -> 1.356889 | Q6: =205+273.15 -> 478.15 | R6: =0.709*F6 -> 0.70857079 | S6: =103.9+183.3*R6-39.7*R6^2 -> 213.84875 | U6: =Q6/S6 -> 2.2359261 | V6: =D6/T$3 -> 12.444224
A7: 50 | B7: =B$3*C$3/C7 -> 2349.5059 | C7: =1.01325/D7*Q6/288.15*P7 -> 0.0040052984 | D7: =P7*(D$3/P$3)*(1-H6/I$3) -> 569.40073 | F7: =D7/D$3 -> 0.99894865 | G7: =$B7*((D7)-(E$3)) -> 221795.08 | H7: =H6+G7*(A7-A6) -> 11134899 | P7: =1-((3.52*V6)/(10^(0.9813*U6)))+((0.274*V6^2)/(10^(0.8157*U6))) -> 1.3564093 | Q7: =205+273.15 -> 478.15 | R7: =0.709*F7 -> 0.7082546 | S7: =103.9+183.3*R7-39.7*R7^2 -> 213.80857 | U7: =Q7/S7 -> 2.2363463 | V7: =D7/T$3 -> 12.438671
A8: 60 | B8: =B$3*C$3/C8 -> 2349.2887 | C8: =1.01325/D8*Q7/288.15*P8 -> 0.0040056687 | D8: =P8*(D$3/P$3)*(1-H7/I$3) -> 569.06311 | F8: =D8/D$3 -> 0.99835634 | G8: =$B8*((D8)-(E$3)) -> 220981.4 | H8: =H7+G8*(A8-A7) -> 13344713 | P8: =1-((3.52*V7)/(10^(0.9813*U7)))+((0.274*V7^2)/(10^(0.8157*U7))) -> 1.3557303 | Q8: =205+273.15 -> 478.15 | R8: =0.709*F8 -> 0.70783464 | S8: =103.9+183.3*R8-39.7*R8^2 -> 213.7552 | U8: =Q8/S8 -> 2.2369046 | V8: =D8/T$3 -> 12.431296
A9: 70 | B9: =B$3*C$3/C9 -> 2349.0723 | C9: =1.01325/D9*Q8/288.15*P9 -> 0.0040060377 | D9: =P9*(D$3/P$3)*(1-H8/I$3) -> 568.63283 | F9: =D9/D$3 -> 0.99760145 | G9: =$B9*((D9)-(E$3)) -> 219950.28 | H9: =H8+G9*(A9-A8) -> 15544216 | P9: =1-((3.52*V8)/(10^(0.9813*U8)))+((0.274*V8^2)/(10^(0.8157*U8))) -> 1.35483 | Q9: =205+273.15 -> 478.15 | R9: =0.709*F9 -> 0.70729943 | S9: =103.9+183.3*R9-39.7*R9^2 -> 213.68717 | U9: =Q9/S9 -> 2.2376168 | V9: =D9/T$3 -> 12.421896
A10: 80 | B10: =B$3*C$3/C10 -> 2348.8569 | C10: =1.01325/D10*Q9/288.15*P10 -> 0.0040064051 | D10: =P10*(D$3/P$3)*(1-H9/I$3) -> 568.10015 | F10: =D10/D$3 -> 0.99666693 | G10: =$B10*((D10)-(E$3)) -> 218678.92 | H10: =H9+G10*(A10-A9) -> 17731005 | P10: =1-((3.52*V9)/(10^(0.9813*U9)))+((0.274*V9^2)/(10^(0.8157*U9))) -> 1.353685 | Q10: =205+273.15 -> 478.15 | R10: =0.709*F10 -> 0.70663685 | S10: =103.9+183.3*R10-39.7*R10^2 -> 213.60291 | U10: =Q10/S10 -> 2.2384995 | V10: =D10/T$3 -> 12.41026
A11: 90 | B11: =B$3*C$3/C11 -> 2348.6427 | C11: =1.01325/D11*Q10/288.15*P11 -> 0.0040067704 | D11: =P11*(D$3/P$3)*(1-H10/I$3) -> 567.45504 | F11: =D11/D$3 -> 0.99553516 | G11: =$B11*((D11)-(E$3)) -> 217143.85 | H11: =H10+G11*(A11-A10) -> 19902444 | P11: =1-((3.52*V10)/(10^(0.9813*U10)))+((0.274*V10^2)/(10^(0.8157*U10))) -> 1.3522711 | Q11: =205+273.15 -> 478.15 | R11: =0.709*F11 -> 0.70583443 | S11: =103.9+183.3*R11-39.7*R11^2 -> 213.50082 | U11: =Q11/S11 -> 2.2395698 | V11: =D11/T$3 -> 12.396167
A12: 100 | B12: =B$3*C$3/C12 -> 2348.4301 | C12: =1.01325/D12*Q11/288.15*P12 -> 0.0040071332 | D12: =P12*(D$3/P$3)*(1-H11/I$3) -> 566.68745 | F12: =D12/D$3 -> 0.99418851 | G12: =$B12*((D12)-(E$3)) -> 215321.56 | H12: =H11+G12*(A12-A11) -> 22055659 | P12: =1-((3.52*V11)/(10^(0.9813*U11)))+((0.274*V11^2)/(10^(0.8157*U11))) -> 1.3505642 | Q12: =205+273.15 -> 478.15 | R12: =0.709*F12 -> 0.70487965 | S12: =103.9+183.3*R12-39.7*R12^2 -> 213.37928 | U12: =Q12/S12 -> 2.2408455 | V12: =D12/T$3 -> 12.379399
A13: 110 | B13: =B$3*C$3/C13 -> 2348.2192 | C13: =1.01325/D13*Q12/288.15*P13 -> 0.0040074931 | D13: =P13*(D$3/P$3)*(1-H12/I$3) -> 565.78767 | F13: =D13/D$3 -> 0.99260995 | G13: =$B13*((D13)-(E$3)) -> 213189.35 | H13: =H12+G13*(A13-A12) -> 24187553 | P13: =1-((3.52*V12)/(10^(0.9813*U12)))+((0.274*V12^2)/(10^(0.8157*U12))) -> 1.3485409 | Q13: =205+273.15 -> 478.15 | R13: =0.709*F13 -> 0.70376045 | S13: =103.9+183.3*R13-39.7*R13^2 -> 213.23672 | U13: =Q13/S13 -> 2.2423436 | V13: =D13/T$3 -> 12.359743
A14: 120 | B14: =B$3*C$3/C14 -> 2348.0104 | C14: =1.01325/D14*Q13/288.15*P14 -> 0.0040078494 | D14: =P14*(D$3/P$3)*(1-H13/I$3) -> 564.74681 | F14: =D14/D$3 -> 0.99078388 | G14: =$B14*((D14)-(E$3)) -> 210726.45 | H14: =H13+G14*(A14-A13) -> 26294818 | P14: =1-((3.52*V13)/(10^(0.9813*U13)))+((0.274*V13^2)/(10^(0.8157*U13))) -> 1.3461797 | Q14: =205+273.15 -> 478.15 | R14: =0.709*F14 -> 0.70246577 | S14: =103.9+183.3*R14-39.7*R14^2 -> 213.07169 | U14: =Q14/S14 -> 2.2440804 | V14: =D14/T$3 -> 12.337006
A15: 130 | B15: =B$3*C$3/C15 -> 2347.804 | C15: =1.01325/D15*Q14/288.15*P15 -> 0.0040082017 | D15: =P15*(D$3/P$3)*(1-H14/I$3) -> 563.55739 | F15: =D15/D$3 -> 0.98869717 | G15: =$B15*((D15)-(E$3)) -> 207915.39 | H15: =H14+G15*(A15-A14) -> 28373971 | P15: =1-((3.52*V14)/(10^(0.9813*U14)))+((0.274*V14^2)/(10^(0.8157*U14))) -> 1.3434625 | Q15: =205+273.15 -> 478.15 | R15: =0.709*F15 -> 0.70098629 | S15: =103.9+183.3*R15-39.7*R15^2 -> 212.88293 | U15: =Q15/S15 -> 2.2460702 | V15: =D15/T$3 -> 12.311022
... A102: 1000 | B102: =B$3*C$3/C102 -> 2338.4421 | C102: =1.01325/D102*Q101/288.15*P102 -> 0.0040242484 | D102: =P102*(D$3/P$3)*(1-H101/I$3) -> 510.74654 | F102: =D102/D$3 -> 0.89604655 | G102: =$B102*((D102)-(E$3)) -> 83591.205 | H102: =H101+G102*(A102-A101) -> 1.2272621e+08 | P102: =1-((3.52*V101)/(10^(0.9813*U101)))+((0.274*V101^2)/(10^(0.8157*U101))) -> 1.2224414 | Q102: =205+273.15 -> 478.15 | R102: =0.709*F102 -> 0.63529701 | S102: =103.9+183.3*R102-39.7*R102^2 -> 204.32693 | U102: =Q102/S102 -> 2.3401223 | V102: =D102/T$3 -> 11.157359

Sheet J változás 5.
A2: t | B2: J | C2: B | D2: pi (bar) | E2: pwf (bar) | G2: Q m^3/nap | H2: Gp | I2: G (nm^3) | P2: zi | Q2: T (K) | R2: relatív sűrűség | S2: Tpc | T2: Ppc | U2: Tpr | V2: Ppr
A3: 10 | B3: ='fő munkalap'!G31 -> 2437.4091 | C3: ='fő munkalap'!C12 -> 0.0040038102 | D3: ='fő munkalap'!C3 -> 570 | E3: ='fő munkalap'!C4 -> 475 | G3: =$B3*((D3)-(E$3)) -> 231553.86 | H3: =G3*A3 -> 2315538.6 | I3: =24*10^9 -> 24000000000 | P3: =1-((3.52*V3)/(10^(0.9813*U3)))+((0.274*V3^2)/(10^(0.8157*U3))) -> 1.3573323 | Q3: =205+273.15 -> 478.15 | R3: 0.709 | S3: =103.9+183.3*R3-39.7*R3^2 -> 213.90326 | T3: =48.69-3.566*R3-0.766*R3^2 -> 45.776652 | U3: =Q3/S3 -> 2.2353563 | V3: =D3/T$3 -> 12.451762
A4: 20 | B4: =B$3*C$3/C4 -> 2437.1739 | C4: =1.01325/D4*Q3/288.15*P4 -> 0.0040041966 | D4: =P4*(D$3/P$3)*(1-H3/I$3) -> 569.94501 | F4: =D4/D$3 -> 0.99990352 | G4: =$B4*((D4)-(E$3)) -> 231397.49 | H4: =H3+G4*(A4-A3) -> 4629513.5 | P4: =1-((3.52*V3)/(10^(0.9813*U3)))+((0.274*V3^2)/(10^(0.8157*U3))) -> 1.3573323 | Q4: =205+273.15 -> 478.15 | R4: =0.709*F4 -> 0.7089316 | S4: =103.9+183.3*R4-39.7*R4^2 -> 213.89458 | U4: =Q4/S4 -> 2.2354471 | V4: =D4/T$3 -> 12.450561
A5: 30 | B5: =B$3*C$3/C5 -> 2436.9389 | C5: =1.01325/D5*Q4/288.15*P5 -> 0.0040045827 | D5: =P5*(D$3/P$3)*(1-H4/I$3) -> 569.82823 | F5: =D5/D$3 -> 0.99969866 | G5: =$B5*((D5)-(E$3)) -> 231090.61 | H5: =H4+G5*(A5-A4) -> 6940419.6 | P5: =1-((3.52*V4)/(10^(0.9813*U4)))+((0.274*V4^2)/(10^(0.8157*U4))) -> 1.3571851 | Q5: =205+273.15 -> 478.15 | R5: =0.709*F5 -> 0.70878635 | S5: =103.9+183.3*R5-39.7*R5^2 -> 213.87613 | U5: =Q5/S5 -> 2.2356399 | V5: =D5/T$3 -> 12.44801
A6: 40 | B6: =B$3*C$3/C6 -> 2436.7042 | C6: =1.01325/D6*Q5/288.15*P6 -> 0.0040049684 | D6: =P6*(D$3/P$3)*(1-H5/I$3) -> 569.64217 | F6: =D6/D$3 -> 0.99937224 | G6: =$B6*((D6)-(E$3)) -> 230614.98 | H6: =H5+G6*(A6-A5) -> 9246569.4 | P6: =1-((3.52*V5)/(10^(0.9813*U5)))+((0.274*V5^2)/(10^(0.8157*U5))) -> 1.3568726 | Q6: =205+273.15 -> 478.15 | R6: =0.709*F6 -> 0.70855491 | S6: =103.9+183.3*R6-39.7*R6^2 -> 213.84673 | U6: =Q6/S6 -> 2.2359472 | V6: =D6/T$3 -> 12.443946
A7: 50 | B7: =B$3*C$3/C7 -> 2436.47 | C7: =1.01325/D7*Q6/288.15*P7 -> 0.0040053534 | D7: =P7*(D$3/P$3)*(1-H6/I$3) -> 569.37859 | F7: =D7/D$3 -> 0.99890981 | G7: =$B7*((D7)-(E$3)) -> 229950.6 | H7: =H6+G7*(A7-A6) -> 11546075 | P7: =1-((3.52*V6)/(10^(0.9813*U6)))+((0.274*V6^2)/(10^(0.8157*U6))) -> 1.3563751 | Q7: =205+273.15 -> 478.15 | R7: =0.709*F7 -> 0.70822705 | S7: =103.9+183.3*R7-39.7*R7^2 -> 213.80507 | U7: =Q7/S7 -> 2.2363829 | V7: =D7/T$3 -> 12.438188
A8: 60 | B8: =B$3*C$3/C8 -> 2436.2365 | C8: =1.01325/D8*Q7/288.15*P8 -> 0.0040057373 | D8: =P8*(D$3/P$3)*(1-H7/I$3) -> 569.02855 | F8: =D8/D$3 -> 0.99829571 | G8: =$B8*((D8)-(E$3)) -> 229075.79 | H8: =H7+G8*(A8-A7) -> 13836833 | P8: =1-((3.52*V7)/(10^(0.9813*U7)))+((0.274*V7^2)/(10^(0.8157*U7))) -> 1.3556712 | Q8: =205+273.15 -> 478.15 | R8: =0.709*F8 -> 0.70779166 | S8: =103.9+183.3*R8-39.7*R8^2 -> 213.74974 | U8: =Q8/S8 -> 2.2369618 | V8: =D8/T$3 -> 12.430541
A9: 70 | B9: =B$3*C$3/C9 -> 2436.0038 | C9: =1.01325/D9*Q8/288.15*P9 -> 0.0040061199 | D9: =P9*(D$3/P$3)*(1-H8/I$3) -> 568.58252 | F9: =D9/D$3 -> 0.9975132 | G9: =$B9*((D9)-(E$3)) -> 227967.38 | H9: =H8+G9*(A9-A8) -> 16116507 | P9: =1-((3.52*V8)/(10^(0.9813*U8)))+((0.274*V8^2)/(10^(0.8157*U8))) -> 1.354738 | Q9: =205+273.15 -> 478.15 | R9: =0.709*F9 -> 0.70723686 | S9: =103.9+183.3*R9-39.7*R9^2 -> 213.67921 | U9: =Q9/S9 -> 2.2377001 | V9: =D9/T$3 -> 12.420797
A10: 80 | B10: =B$3*C$3/C10 -> 2435.7723 | C10: =1.01325/D10*Q9/288.15*P10 -> 0.0040065007 | D10: =P10*(D$3/P$3)*(1-H9/I$3) -> 568.03049 | F10: =D10/D$3 -> 0.99654471 | G10: =$B10*((D10)-(E$3)) -> 226601.08 | H10: =H9+G10*(A10-A9) -> 18382518 | P10: =1-((3.52*V9)/(10^(0.9813*U9)))+((0.274*V9^2)/(10^(0.8157*U9))) -> 1.3535513 | Q10: =205+273.15 -> 478.15 | R10: =0.709*F10 -> 0.7065502 | S10: =103.9+183.3*R10-39.7*R10^2 -> 213.59189 | U10: =Q10/S10 -> 2.238615 | V10: =D10/T$3 -> 12.408738
A11: 90 | B11: =B$3*C$3/C11 -> 2435.5422 | C11: =1.01325/D11*Q10/288.15*P11 -> 0.0040068793 | D11: =P11*(D$3/P$3)*(1-H10/I$3) -> 567.36216 | F11: =D11/D$3 -> 0.99537221 | G11: =$B11*((D11)-(E$3)) -> 224951.93 | H11: =H10+G11*(A11-A10) -> 20632037 | P11: =1-((3.52*V10)/(10^(0.9813*U10)))+((0.274*V10^2)/(10^(0.8157*U10))) -> 1.3520865 | Q11: =205+273.15 -> 478.15 | R11: =0.709*F11 -> 0.7057189 | S11: =103.9+183.3*R11-39.7*R11^2 -> 213.48612 | U11: =Q11/S11 -> 2.2397241 | V11: =D11/T$3 -> 12.394138
A12: 100 | B12: =B$3*C$3/C12 -> 2435.3137 | C12: =1.01325/D12*Q11/288.15*P12 -> 0.0040072551 | D12: =P12*(D$3/P$3)*(1-H11/I$3) -> 566.5673 | F12: =D12/D$3 -> 0.99397771 | G12: =$B12*((D12)-(E$3)) -> 222995.09 | H12: =H11+G12*(A12-A11) -> 22861988 | P12: =1-((3.52*V11)/(10^(0.9813*U11)))+((0.274*V11^2)/(10^(0.8157*U11))) -> 1.3503189 | Q12: =205+273.15 -> 478.15 | R12: =0.709*F12 -> 0.7047302 | S12: =103.9+183.3*R12-39.7*R12^2 -> 213.36025 | U12: =Q12/S12 -> 2.2410453 | V12: =D12/T$3 -> 12.376774
A13: 110 | B13: =B$3*C$3/C13 -> 2435.0872 | C13: =1.01325/D13*Q12/288.15*P13 -> 0.0040076278 | D13: =P13*(D$3/P$3)*(1-H12/I$3) -> 565.63609 | F13: =D13/D$3 -> 0.99234401 | G13: =$B13*((D13)-(E$3)) -> 220706.77 | H13: =H12+G13*(A13-A12) -> 25069056 | P13: =1-((3.52*V12)/(10^(0.9813*U12)))+((0.274*V12^2)/(10^(0.8157*U12))) -> 1.3482249 | Q13: =205+273.15 -> 478.15 | R13: =0.709*F13 -> 0.7035719 | S13: =103.9+183.3*R13-39.7*R13^2 -> 213.2127 | U13: =Q13/S13 -> 2.2425963 | V13: =D13/T$3 -> 12.356432
A14: 120 | B14: =B$3*C$3/C14 -> 2434.8631 | C14: =1.01325/D14*Q13/288.15*P14 -> 0.0040079968 | D14: =P14*(D$3/P$3)*(1-H13/I$3) -> 564.55965 | F14: =D14/D$3 -> 0.99045553 | G14: =$B14*((D14)-(E$3)) -> 218065.49 | H14: =H13+G14*(A14-A13) -> 27249711 | P14: =1-((3.52*V13)/(10^(0.9813*U13)))+((0.274*V13^2)/(10^(0.8157*U13))) -> 1.345783 | Q14: =205+273.15 -> 478.15 | R14: =0.709*F14 -> 0.70223297 | S14: =103.9+183.3*R14-39.7*R14^2 -> 213.042 | U14: =Q14/S14 -> 2.2443932 | V14: =D14/T$3 -> 12.332917
A15: 130 | B15: =B$3*C$3/C15 -> 2434.6416 | C15: =1.01325/D15*Q14/288.15*P15 -> 0.0040083613 | D15: =P15*(D$3/P$3)*(1-H14/I$3) -> 563.33067 | F15: =D15/D$3 -> 0.98829942 | G15: =$B15*((D15)-(E$3)) -> 215053.53 | H15: =H14+G15*(A15-A14) -> 29400246 | P15: =1-((3.52*V14)/(10^(0.9813*U14)))+((0.274*V14^2)/(10^(0.8157*U14))) -> 1.3429756 | Q15: =205+273.15 -> 478.15 | R15: =0.709*F15 -> 0.70070429 | S15: =103.9+183.3*R15-39.7*R15^2 -> 212.84693 | U15: =Q15/S15 -> 2.24645 | V15: =D15/T$3 -> 12.30607
... A102: 1000 | B102: =B$3*C$3/C102 -> 2424.659 | C102: =1.01325/D102*Q101/288.15*P102 -> 0.0040248642 | D102: =P102*(D$3/P$3)*(1-H101/I$3) -> 510.36955 | F102: =D102/D$3 -> 0.89538518 | G102: =$B102*((D102)-(E$3)) -> 85759.103 | H102: =H101+G102*(A102-A101) -> 1.2640122e+08 | P102: =1-((3.52*V101)/(10^(0.9813*U101)))+((0.274*V101^2)/(10^(0.8157*U101))) -> 1.2217261 | Q102: =205+273.15 -> 478.15 | R102: =0.709*F102 -> 0.63482809 | S102: =103.9+183.3*R102-39.7*R102^2 -> 204.26462 | U102: =Q102/S102 -> 2.3408361 | V102: =D102/T$3 -> 11.149124

Sheet J változás 6.
A2: t | B2: J | C2: B | D2: pi (bar) | E2: pwf (bar) | G2: Q m^3/nap | H2: Gp | I2: G (nm^3) | P2: zi | Q2: T (K) | R2: relatív sűrűség | S2: Tpc | T2: Ppc | U2: Tpr | V2: Ppr
A3: 10 | B3: ='fő munkalap'!H31 -> 2513.4513 | C3: ='fő munkalap'!C12 -> 0.0040038102 | D3: ='fő munkalap'!C3 -> 570 | E3: ='fő munkalap'!C4 -> 475 | G3: =$B3*((D3)-(E$3)) -> 238777.87 | H3: =G3*A3 -> 2387778.7 | I3: =24*10^9 -> 24000000000 | P3: =1-((3.52*V3)/(10^(0.9813*U3)))+((0.274*V3^2)/(10^(0.8157*U3))) -> 1.3573323 | Q3: =205+273.15 -> 478.15 | R3: 0.709 | S3: =103.9+183.3*R3-39.7*R3^2 -> 213.90326 | T3: =48.69-3.566*R3-0.766*R3^2 -> 45.776652 | U3: =Q3/S3 -> 2.2353563 | V3: =D3/T$3 -> 12.451762
A4: 20 | B4: =B$3*C$3/C4 -> 2513.2012 | C4: =1.01325/D4*Q3/288.15*P4 -> 0.0040042086 | D4: =P4*(D$3/P$3)*(1-H3/I$3) -> 569.94329 | F4: =D4/D$3 -> 0.99990051 | G4: =$B4*((D4)-(E$3)) -> 238611.59 | H4: =H3+G4*(A4-A3) -> 4773894.6 | P4: =1-((3.52*V3)/(10^(0.9813*U3)))+((0.274*V3^2)/(10^(0.8157*U3))) -> 1.3573323 | Q4: =205+273.15 -> 478.15 | R4: =0.709*F4 -> 0.70892946 | S4: =103.9+183.3*R4-39.7*R4^2 -> 213.89431 | U4: =Q4/S4 -> 2.2354499 | V4: =D4/T$3 -> 12.450524
A5: 30 | B5: =B$3*C$3/C5 -> 2512.9513 | C5: =1.01325/D5*Q4/288.15*P5 -> 0.0040046068 | D5: =P5*(D$3/P$3)*(1-H4/I$3) -> 569.82288 | F5: =D5/D$3 -> 0.99968926 | G5: =$B5*((D5)-(E$3)) -> 238285.27 | H5: =H4+G5*(A5-A4) -> 7156747.3 | P5: =1-((3.52*V4)/(10^(0.9813*U4)))+((0.274*V4^2)/(10^(0.8157*U4))) -> 1.3571805 | Q5: =205+273.15 -> 478.15 | R5: =0.709*F5 -> 0.70877968 | S5: =103.9+183.3*R5-39.7*R5^2 -> 213.87528 | U5: =Q5/S5 -> 2.2356487 | V5: =D5/T$3 -> 12.447893
A6: 40 | B6: =B$3*C$3/C6 -> 2512.7017 | C6: =1.01325/D6*Q5/288.15*P6 -> 0.0040050045 | D6: =P6*(D$3/P$3)*(1-H5/I$3) -> 569.63102 | F6: =D6/D$3 -> 0.99935267 | G6: =$B6*((D6)-(E$3)) -> 237779.54 | H6: =H5+G6*(A6-A5) -> 9534542.7 | P6: =1-((3.52*V5)/(10^(0.9813*U5)))+((0.274*V5^2)/(10^(0.8157*U5))) -> 1.3568583 | Q6: =205+273.15 -> 478.15 | R6: =0.709*F6 -> 0.70854104 | S6: =103.9+183.3*R6-39.7*R6^2 -> 213.84497 | U6: =Q6/S6 -> 2.2359657 | V6: =D6/T$3 -> 12.443702
A7: 50 | B7: =B$3*C$3/C7 -> 2512.4527 | C7: =1.01325/D7*Q6/288.15*P7 -> 0.0040054015 | D7: =P7*(D$3/P$3)*(1-H6/I$3) -> 569.35924 | F7: =D7/D$3 -> 0.99887587 | G7: =$B7*((D7)-(E$3)) -> 237073.14 | H7: =H6+G7*(A7-A6) -> 11905274 | P7: =1-((3.52*V6)/(10^(0.9813*U6)))+((0.274*V6^2)/(10^(0.8157*U6))) -> 1.3563453 | Q7: =205+273.15 -> 478.15 | R7: =0.709*F7 -> 0.70820299 | S7: =103.9+183.3*R7-39.7*R7^2 -> 213.80201 | U7: =Q7/S7 -> 2.2364148 | V7: =D7/T$3 -> 12.437765
A8: 60 | B8: =B$3*C$3/C8 -> 2512.2045 | C8: =1.01325/D8*Q7/288.15*P8 -> 0.0040057973 | D8: =P8*(D$3/P$3)*(1-H7/I$3) -> 568.99836 | F8: =D8/D$3 -> 0.99824275 | G8: =$B8*((D8)-(E$3)) -> 236143.11 | H8: =H7+G8*(A8-A7) -> 14266705 | P8: =1-((3.52*V7)/(10^(0.9813*U7)))+((0.274*V7^2)/(10^(0.8157*U7))) -> 1.3556196 | Q8: =205+273.15 -> 478.15 | R8: =0.709*F8 -> 0.70775411 | S8: =103.9+183.3*R8-39.7*R8^2 -> 213.74497 | U8: =Q8/S8 -> 2.2370117 | V8: =D8/T$3 -> 12.429882
A9: 70 | B9: =B$3*C$3/C9 -> 2511.9571 | C9: =1.01325/D9*Q8/288.15*P9 -> 0.0040061917 | D9: =P9*(D$3/P$3)*(1-H8/I$3) -> 568.53859 | F9: =D9/D$3 -> 0.99743612 | G9: =$B9*((D9)-(E$3)) -> 234964.92 | H9: =H8+G9*(A9-A8) -> 16616354 | P9: =1-((3.52*V8)/(10^(0.9813*U8)))+((0.274*V8^2)/(10^(0.8157*U8))) -> 1.3546576 | Q9: =205+273.15 -> 478.15 | R9: =0.709*F9 -> 0.70718221 | S9: =103.9+183.3*R9-39.7*R9^2 -> 213.67226 | U9: =Q9/S9 -> 2.2377729 | V9: =D9/T$3 -> 12.419838
A10: 80 | B10: =B$3*C$3/C10 -> 2511.7111 | C10: =1.01325/D10*Q9/288.15*P10 -> 0.0040065842 | D10: =P10*(D$3/P$3)*(1-H9/I$3) -> 567.96966 | F10: =D10/D$3 -> 0.996438 | G10: =$B10*((D10)-(E$3)) -> 233512.92 | H10: =H9+G10*(A10-A9) -> 18951484 | P10: =1-((3.52*V9)/(10^(0.9813*U9)))+((0.274*V9^2)/(10^(0.8157*U9))) -> 1.3534346 | Q10: =205+273.15 -> 478.15 | R10: =0.709*F10 -> 0.70647454 | S10: =103.9+183.3*R10-39.7*R10^2 -> 213.58226 | U10: =Q10/S10 -> 2.2387159 | V10: =D10/T$3 -> 12.407409
A11: 90 | B11: =B$3*C$3/C11 -> 2511.4665 | C11: =1.01325/D11*Q10/288.15*P11 -> 0.0040069743 | D11: =P11*(D$3/P$3)*(1-H10/I$3) -> 567.28108 | F11: =D11/D$3 -> 0.99522997 | G11: =$B11*((D11)-(E$3)) -> 231760.85 | H11: =H10+G11*(A11-A10) -> 21269092 | P11: =1-((3.52*V10)/(10^(0.9813*U10)))+((0.274*V10^2)/(10^(0.8157*U10))) -> 1.3519254 | Q11: =205+273.15 -> 478.15 | R11: =0.709*F11 -> 0.70561805 | S11: =103.9+183.3*R11-39.7*R11^2 -> 213.47328 | U11: =Q11/S11 -> 2.2398587 | V11: =D11/T$3 -> 12.392367
A12: 100 | B12: =B$3*C$3/C12 -> 2511.2238 | C12: =1.01325/D12*Q11/288.15*P12 -> 0.0040073616 | D12: =P12*(D$3/P$3)*(1-H11/I$3) -> 566.46246 | F12: =D12/D$3 -> 0.99379379 | G12: =$B12*((D12)-(E$3)) -> 229682.7 | H12: =H11+G12*(A12-A11) -> 23565919 | P12: =1-((3.52*V11)/(10^(0.9813*U11)))+((0.274*V11^2)/(10^(0.8157*U11))) -> 1.3501049 | Q12: =205+273.15 -> 478.15 | R12: =0.709*F12 -> 0.70459979 | S12: =103.9+183.3*R12-39.7*R12^2 -> 213.34365 | U12: =Q12/S12 -> 2.2412198 | V12: =D12/T$3 -> 12.374484
A13: 110 | B13: =B$3*C$3/C13 -> 2510.9833 | C13: =1.01325/D13*Q12/288.15*P13 -> 0.0040077455 | D13: =P13*(D$3/P$3)*(1-H12/I$3) -> 565.50389 | F13: =D13/D$3 -> 0.99211209 | G13: =$B13*((D13)-(E$3)) -> 227253.75 | H13: =H12+G13*(A13-A12) -> 25838457 | P13: =1-((3.52*V12)/(10^(0.9813*U12)))+((0.274*V12^2)/(10^(0.8157*U12))) -> 1.3479494 | Q13: =205+273.15 -> 478.15 | R13: =0.709*F13 -> 0.70340747 | S13: =103.9+183.3*R13-39.7*R13^2 -> 213.19174 | U13: =Q13/S13 -> 2.2428167 | V13: =D13/T$3 -> 12.353544
A14: 120 | B14: =B$3*C$3/C14 -> 2510.7453 | C14: =1.01325/D14*Q13/288.15*P14 -> 0.0040081254 | D14: =P14*(D$3/P$3)*(1-H13/I$3) -> 564.39653 | F14: =D14/D$3 -> 0.99016936 | G14: =$B14*((D14)-(E$3)) -> 224451.92 | H14: =H13+G14*(A14-A13) -> 28082976 | P14: =1-((3.52*V13)/(10^(0.9813*U13)))+((0.274*V13^2)/(10^(0.8157*U13))) -> 1.3454374 | Q14: =205+273.15 -> 478.15 | R14: =0.709*F14 -> 0.70203007 | S14: =103.9+183.3*R14-39.7*R14^2 -> 213.01612 | U14: =Q14/S14 -> 2.2446658 | V14: =D14/T$3 -> 12.329354
A15: 130 | B15: =B$3*C$3/C15 -> 2510.5102 | C15: =1.01325/D15*Q14/288.15*P15 -> 0.0040085007 | D15: =P15*(D$3/P$3)*(1-H14/I$3) -> 563.13324 | F15: =D15/D$3 -> 0.98795305 | G15: =$B15*((D15)-(E$3)) -> 221259.4 | H15: =H14+G15*(A15-A14) -> 30295570 | P15: =1-((3.52*V14)/(10^(0.9813*U14)))+((0.274*V14^2)/(10^(0.8157*U14))) -> 1.3425516 | Q15: =205+273.15 -> 478.15 | R15: =0.709*F15 -> 0.70045871 | S15: =103.9+183.3*R15-39.7*R15^2 -> 212.81558 | U15: =Q15/S15 -> 2.246781 | V15: =D15/T$3 -> 12.301757
... A102: 1000 | B102: =B$3*C$3/C102 -> 2499.9726 | C102: =1.01325/D102*Q101/288.15*P102 -> 0.0040253968 | D102: =P102*(D$3/P$3)*(1-H101/I$3) -> 510.04653 | F102: =D102/D$3 -> 0.89481848 | G102: =$B102*((D102)-(E$3)) -> 87615.369 | H102: =H101+G102*(A102-A101) -> 1.2957848e+08 | P102: =1-((3.52*V101)/(10^(0.9813*U101)))+((0.274*V101^2)/(10^(0.8157*U101))) -> 1.2211144 | Q102: =205+273.15 -> 478.15 | R102: =0.709*F102 -> 0.6344263 | S102: =103.9+183.3*R102-39.7*R102^2 -> 204.21122 | U102: =Q102/S102 -> 2.3414482 | V102: =D102/T$3 -> 11.142067

Sheet J változás 7.
A2: t | B2: J | C2: B | D2: pi (bar) | E2: pwf (bar) | G2: Q m^3/nap | H2: Gp | I2: G (nm^3) | P2: zi | Q2: T (K) | R2: relatív sűrűség | S2: Tpc | T2: Ppc | U2: Tpr | V2: Ppr
A3: 10 | B3: ='fő munkalap'!I31 -> 2581.546 | C3: ='fő munkalap'!C12 -> 0.0040038102 | D3: ='fő munkalap'!C3 -> 570 | E3: ='fő munkalap'!C4 -> 475 | G3: =$B3*((D3)-(E$3)) -> 245246.87 | H3: =G3*A3 -> 2452468.7 | I3: =24*10^9 -> 24000000000 | P3: =1-((3.52*V3)/(10^(0.9813*U3)))+((0.274*V3^2)/(10^(0.8157*U3))) -> 1.3573323 | Q3: =205+273.15 -> 478.15 | R3: 0.709 | S3: =103.9+183.3*R3-39.7*R3^2 -> 213.90326 | T3: =48.69-3.566*R3-0.766*R3^2 -> 45.776652 | U3: =Q3/S3 -> 2.2353563 | V3: =D3/T$3 -> 12.451762
A4: 20 | B4: =B$3*C$3/C4 -> 2581.2822 | C4: =1.01325/D4*Q3/288.15*P4 -> 0.0040042194 | D4: =P4*(D$3/P$3)*(1-H3/I$3) -> 569.94175 | F4: =D4/D$3 -> 0.99989781 | G4: =$B4*((D4)-(E$3)) -> 245071.46 | H4: =H3+G4*(A4-A3) -> 4903183.3 | P4: =1-((3.52*V3)/(10^(0.9813*U3)))+((0.274*V3^2)/(10^(0.8157*U3))) -> 1.3573323 | Q4: =205+273.15 -> 478.15 | R4: =0.709*F4 -> 0.70892755 | S4: =103.9+183.3*R4-39.7*R4^2 -> 213.89406 | U4: =Q4/S4 -> 2.2354524 | V4: =D4/T$3 -> 12.45049
A5: 30 | B5: =B$3*C$3/C5 -> 2581.0186 | C5: =1.01325/D5*Q4/288.15*P5 -> 0.0040046284 | D5: =P5*(D$3/P$3)*(1-H4/I$3) -> 569.81808 | F5: =D5/D$3 -> 0.99968084 | G5: =$B5*((D5)-(E$3)) -> 244727.23 | H5: =H4+G5*(A5-A4) -> 7350455.6 | P5: =1-((3.52*V4)/(10^(0.9813*U4)))+((0.274*V4^2)/(10^(0.8157*U4))) -> 1.3571764 | Q5: =205+273.15 -> 478.15 | R5: =0.709*F5 -> 0.70877372 | S5: =103.9+183.3*R5-39.7*R5^2 -> 213.87452 | U5: =Q5/S5 -> 2.2356566 | V5: =D5/T$3 -> 12.447788
A6: 40 | B6: =B$3*C$3/C6 -> 2580.7553 | C6: =1.01325/D6*Q5/288.15*P6 -> 0.0040050369 | D6: =P6*(D$3/P$3)*(1-H5/I$3) -> 569.62104 | F6: =D6/D$3 -> 0.99933515 | G6: =$B6*((D6)-(E$3)) -> 244193.75 | H6: =H5+G6*(A6-A5) -> 9792393 | P6: =1-((3.52*V5)/(10^(0.9813*U5)))+((0.274*V5^2)/(10^(0.8157*U5))) -> 1.3568455 | Q6: =205+273.15 -> 478.15 | R6: =0.709*F6 -> 0.70852862 | S6: =103.9+183.3*R6-39.7*R6^2 -> 213.84339 | U6: =Q6/S6 -> 2.2359822 | V6: =D6/T$3 -> 12.443484
A7: 50 | B7: =B$3*C$3/C7 -> 2580.4927 | C7: =1.01325/D7*Q6/288.15*P7 -> 0.0040054445 | D7: =P7*(D$3/P$3)*(1-H6/I$3) -> 569.34192 | F7: =D7/D$3 -> 0.99884548 | G7: =$B7*((D7)-(E$3)) -> 243448.64 | H7: =H6+G7*(A7-A6) -> 12226879 | P7: =1-((3.52*V6)/(10^(0.9813*U6)))+((0.274*V6^2)/(10^(0.8157*U6))) -> 1.3563187 | Q7: =205+273.15 -> 478.15 | R7: =0.709*F7 -> 0.70818145 | S7: =103.9+183.3*R7-39.7*R7^2 -> 213.79928 | U7: =Q7/S7 -> 2.2364435 | V7: =D7/T$3 -> 12.437387
A8: 60 | B8: =B$3*C$3/C8 -> 2580.2308 | C8: =1.01325/D8*Q7/288.15*P8 -> 0.004005851 | D8: =P8*(D$3/P$3)*(1-H7/I$3) -> 568.97134 | F8: =D8/D$3 -> 0.99819533 | G8: =$B8*((D8)-(E$3)) -> 242467.74 | H8: =H7+G8*(A8-A7) -> 14651557 | P8: =1-((3.52*V7)/(10^(0.9813*U7)))+((0.274*V7^2)/(10^(0.8157*U7))) -> 1.3555734 | Q8: =205+273.15 -> 478.15 | R8: =0.709*F8 -> 0.70772049 | S8: =103.9+183.3*R8-39.7*R8^2 -> 213.74069 | U8: =Q8/S8 -> 2.2370565 | V8: =D8/T$3 -> 12.429291
A9: 70 | B9: =B$3*C$3/C9 -> 2579.97 | C9: =1.01325/D9*Q8/288.15*P9 -> 0.004006256 | D9: =P9*(D$3/P$3)*(1-H8/I$3) -> 568.49926 | F9: =D9/D$3 -> 0.99736712 | G9: =$B9*((D9)-(E$3)) -> 241225.28 | H9: =H8+G9*(A9-A8) -> 17063810 | P9: =1-((3.52*V8)/(10^(0.9813*U8)))+((0.274*V8^2)/(10^(0.8157*U8))) -> 1.3545856 | Q9: =205+273.15 -> 478.15 | R9: =0.709*F9 -> 0.70713329 | S9: =103.9+183.3*R9-39.7*R9^2 -> 213.66604 | U9: =Q9/S9 -> 2.237838 | V9: =D9/T$3 -> 12.418978
A10: 80 | B10: =B$3*C$3/C10 -> 2579.7105 | C10: =1.01325/D10*Q9/288.15*P10 -> 0.0040066589 | D10: =P10*(D$3/P$3)*(1-H9/I$3) -> 567.91522 | F10: =D10/D$3 -> 0.99634249 | G10: =$B10*((D10)-(E$3)) -> 239694.37 | H10: =H9+G10*(A10-A9) -> 19460753 | P10: =1-((3.52*V9)/(10^(0.9813*U9)))+((0.274*V9^2)/(10^(0.8157*U9))) -> 1.3533301 | Q10: =205+273.15 -> 478.15 | R10: =0.709*F10 -> 0.70640682 | S10: =103.9+183.3*R10-39.7*R10^2 -> 213.57365 | U10: =Q10/S10 -> 2.2388061 | V10: =D10/T$3 -> 12.40622
A11: 90 | B11: =B$3*C$3/C11 -> 2579.4527 | C11: =1.01325/D11*Q10/288.15*P11 -> 0.0040070594 | D11: =P11*(D$3/P$3)*(1-H10/I$3) -> 567.20854 | F11: =D11/D$3 -> 0.99510271 | G11: =$B11*((D11)-(E$3)) -> 237847.57 | H11: =H10+G11*(A11-A10) -> 21839229 | P11: =1-((3.52*V10)/(10^(0.9813*U10)))+((0.274*V10^2)/(10^(0.8157*U10))) -> 1.3517812 | Q11: =205+273.15 -> 478.15 | R11: =0.709*F11 -> 0.70552782 | S11: =103.9+183.3*R11-39.7*R11^2 -> 213.4618 | U11: =Q11/S11 -> 2.2399792 | V11: =D11/T$3 -> 12.390782
A12: 100 | B12: =B$3*C$3/C12 -> 2579.1969 | C12: =1.01325/D12*Q11/288.15*P12 -> 0.0040074569 | D12: =P12*(D$3/P$3)*(1-H11/I$3) -> 566.36869 | F12: =D12/D$3 -> 0.99362928 | G12: =$B12*((D12)-(E$3)) -> 235657.84 | H12: =H11+G12*(A12-A11) -> 24195808 | P12: =1-((3.52*V11)/(10^(0.9813*U11)))+((0.274*V11^2)/(10^(0.8157*U11))) -> 1.3499135 | Q12: =205+273.15 -> 478.15 | R12: =0.709*F12 -> 0.70448316 | S12: =103.9+183.3*R12-39.7*R12^2 -> 213.32879 | U12: =Q12/S12 -> 2.2413758 | V12: =D12/T$3 -> 12.372436
A13: 110 | B13: =B$3*C$3/C13 -> 2578.9434 | C13: =1.01325/D13*Q12/288.15*P13 -> 0.0040078508 | D13: =P13*(D$3/P$3)*(1-H12/I$3) -> 565.38571 | F13: =D13/D$3 -> 0.99190475 | G13: =$B13*((D13)-(E$3)) -> 233099.62 | H13: =H12+G13*(A13-A12) -> 26526804 | P13: =1-((3.52*V12)/(10^(0.9813*U12)))+((0.274*V12^2)/(10^(0.8157*U12))) -> 1.3477031 | Q13: =205+273.15 -> 478.15 | R13: =0.709*F13 -> 0.70326047 | S13: =103.9+183.3*R13-39.7*R13^2 -> 213.173 | U13: =Q13/S13 -> 2.2430138 | V13: =D13/T$3 -> 12.350962
A14: 120 | B14: =B$3*C$3/C14 -> 2578.6927 | C14: =1.01325/D14*Q13/288.15*P14 -> 0.0040082405 | D14: =P14*(D$3/P$3)*(1-H13/I$3) -> 564.25079 | F14: =D14/D$3 -> 0.98991366 | G14: =$B14*((D14)-(E$3)) -> 230150.35 | H14: =H13+G14*(A14-A13) -> 28828307 | P14: =1-((3.52*V13)/(10^(0.9813*U13)))+((0.274*V13^2)/(10^(0.8157*U13))) -> 1.3451286 | Q14: =205+273.15 -> 478.15 | R14: =0.709*F14 -> 0.70184879 | S14: =103.9+183.3*R14-39.7*R14^2 -> 212.99299 | U14: =Q14/S14 -> 2.2449095 | V14: =D14/T$3 -> 12.32617
A15: 130 | B15: =B$3*C$3/C15 -> 2578.4451 | C15: =1.01325/D15*Q14/288.15*P15 -> 0.0040086253 | D15: =P15*(D$3/P$3)*(1-H14/I$3) -> 562.95696 | F15: =D15/D$3 -> 0.98764379 | G15: =$B15*((D15)-(E$3)) -> 226792.19 | H15: =H14+G15*(A15-A14) -> 31096229 | P15: =1-((3.52*V14)/(10^(0.9813*U14)))+((0.274*V14^2)/(10^(0.8157*U14))) -> 1.342173 | Q15: =205+273.15 -> 478.15 | R15: =0.709*F15 -> 0.70023945 | S15: =103.9+183.3*R15-39.7*R15^2 -> 212.78758 | U15: =Q15/S15 -> 2.2470766 | V15: =D15/T$3 -> 12.297906
... A102: 1000 | B102: =B$3*C$3/C102 -> 2567.4007 | C102: =1.01325/D102*Q101/288.15*P102 -> 0.0040258695 | D102: =P102*(D$3/P$3)*(1-H101/I$3) -> 509.76213 | F102: =D102/D$3 -> 0.89431952 | G102: =$B102*((D102)-(E$3)) -> 89248.316 | H102: =H101+G102*(A102-A101) -> 1.3239753e+08 | P102: =1-((3.52*V101)/(10^(0.9813*U101)))+((0.274*V101^2)/(10^(0.8157*U101))) -> 1.2205768 | Q102: =205+273.15 -> 478.15 | R102: =0.709*F102 -> 0.63407254 | S102: =103.9+183.3*R102-39.7*R102^2 -> 204.16419 | U102: =Q102/S102 -> 2.3419876 | V102: =D102/T$3 -> 11.135854

Sheet J változás 8.
A2: t | B2: J | C2: B | D2: pi (bar) | E2: pwf (bar) | G2: Q m^3/nap | H2: Gp | I2: G (nm^3) | P2: zi | Q2: T (K) | R2: relatív sűrűség | S2: Tpc | T2: Ppc | U2: Tpr | V2: Ppr
A3: 10 | B3: ='fő munkalap'!J31 -> 2643.5864 | C3: ='fő munkalap'!C12 -> 0.0040038102 | D3: ='fő munkalap'!C3 -> 570 | E3: ='fő munkalap'!C4 -> 475 | G3: =$B3*((D3)-(E$3)) -> 251140.71 | H3: =G3*A3 -> 2511407.1 | I3: =24*10^9 -> 24000000000 | P3: =1-((3.52*V3)/(10^(0.9813*U3)))+((0.274*V3^2)/(10^(0.8157*U3))) -> 1.3573323 | Q3: =205+273.15 -> 478.15 | R3: 0.709 | S3: =103.9+183.3*R3-39.7*R3^2 -> 213.90326 | T3: =48.69-3.566*R3-0.766*R3^2 -> 45.776652 | U3: =Q3/S3 -> 2.2353563 | V3: =D3/T$3 -> 12.451762
A4: 20 | B4: =B$3*C$3/C4 -> 2643.3098 | C4: =1.01325/D4*Q3/288.15*P4 -> 0.0040042292 | D4: =P4*(D$3/P$3)*(1-H3/I$3) -> 569.94035 | F4: =D4/D$3 -> 0.99989536 | G4: =$B4*((D4)-(E$3)) -> 250956.76 | H4: =H3+G4*(A4-A3) -> 5020974.7 | P4: =1-((3.52*V3)/(10^(0.9813*U3)))+((0.274*V3^2)/(10^(0.8157*U3))) -> 1.3573323 | Q4: =205+273.15 -> 478.15 | R4: =0.709*F4 -> 0.70892581 | S4: =103.9+183.3*R4-39.7*R4^2 -> 213.89384 | U4: =Q4/S4 -> 2.2354547 | V4: =D4/T$3 -> 12.450459
A5: 30 | B5: =B$3*C$3/C5 -> 2643.0333 | C5: =1.01325/D5*Q4/288.15*P5 -> 0.004004648 | D5: =P5*(D$3/P$3)*(1-H4/I$3) -> 569.81371 | F5: =D5/D$3 -> 0.99967318 | G5: =$B5*((D5)-(E$3)) -> 250595.8 | H5: =H4+G5*(A5-A4) -> 7526932.7 | P5: =1-((3.52*V4)/(10^(0.9813*U4)))+((0.274*V4^2)/(10^(0.8157*U4))) -> 1.3571726 | Q5: =205+273.15 -> 478.15 | R5: =0.709*F5 -> 0.70876828 | S5: =103.9+183.3*R5-39.7*R5^2 -> 213.87383 | U5: =Q5/S5 -> 2.2356639 | V5: =D5/T$3 -> 12.447693
A6: 40 | B6: =B$3*C$3/C6 -> 2642.7573 | C6: =1.01325/D6*Q5/288.15*P6 -> 0.0040050663 | D6: =P6*(D$3/P$3)*(1-H5/I$3) -> 569.61194 | F6: =D6/D$3 -> 0.99931919 | G6: =$B6*((D6)-(E$3)) -> 250036.39 | H6: =H5+G6*(A6-A5) -> 10027297 | P6: =1-((3.52*V5)/(10^(0.9813*U5)))+((0.274*V5^2)/(10^(0.8157*U5))) -> 1.3568338 | Q6: =205+273.15 -> 478.15 | R6: =0.709*F6 -> 0.70851731 | S6: =103.9+183.3*R6-39.7*R6^2 -> 213.84195 | U6: =Q6/S6 -> 2.2359972 | V6: =D6/T$3 -> 12.443285
A7: 50 | B7: =B$3*C$3/C7 -> 2642.4819 | C7: =1.01325/D7*Q6/288.15*P7 -> 0.0040054837 | D7: =P7*(D$3/P$3)*(1-H6/I$3) -> 569.32615 | F7: =D7/D$3 -> 0.9988178 | G7: =$B7*((D7)-(E$3)) -> 249255.13 | H7: =H6+G7*(A7-A6) -> 12519848 | P7: =1-((3.52*V6)/(10^(0.9813*U6)))+((0.274*V6^2)/(10^(0.8157*U6))) -> 1.3562944 | Q7: =205+273.15 -> 478.15 | R7: =0.709*F7 -> 0.70816182 | S7: =103.9+183.3*R7-39.7*R7^2 -> 213.79678 | U7: =Q7/S7 -> 2.2364696 | V7: =D7/T$3 -> 12.437042
A8: 60 | B8: =B$3*C$3/C8 -> 2642.2073 | C8: =1.01325/D8*Q7/288.15*P8 -> 0.0040059 | D8: =P8*(D$3/P$3)*(1-H7/I$3) -> 568.94672 | F8: =D8/D$3 -> 0.99815214 | G8: =$B8*((D8)-(E$3)) -> 248226.71 | H8: =H7+G8*(A8-A7) -> 15002115 | P8: =1-((3.52*V7)/(10^(0.9813*U7)))+((0.274*V7^2)/(10^(0.8157*U7))) -> 1.3555313 | Q8: =205+273.15 -> 478.15 | R8: =0.709*F8 -> 0.70768987 | S8: =103.9+183.3*R8-39.7*R8^2 -> 213.7368 | U8: =Q8/S8 -> 2.2370972 | V8: =D8/T$3 -> 12.428753
A9: 70 | B9: =B$3*C$3/C9 -> 2641.9339 | C9: =1.01325/D9*Q8/288.15*P9 -> 0.0040063145 | D9: =P9*(D$3/P$3)*(1-H8/I$3) -> 568.46344 | F9: =D9/D$3 -> 0.99730428 | G9: =$B9*((D9)-(E$3)) -> 246924.23 | H9: =H8+G9*(A9-A8) -> 17471357 | P9: =1-((3.52*V8)/(10^(0.9813*U8)))+((0.274*V8^2)/(10^(0.8157*U8))) -> 1.35452 | Q9: =205+273.15 -> 478.15 | R9: =0.709*F9 -> 0.70708873 | S9: =103.9+183.3*R9-39.7*R9^2 -> 213.66038 | U9: =Q9/S9 -> 2.2378974 | V9: =D9/T$3 -> 12.418196
A10: 80 | B10: =B$3*C$3/C10 -> 2641.6619 | C10: =1.01325/D10*Q9/288.15*P10 -> 0.004006727 | D10: =P10*(D$3/P$3)*(1-H9/I$3) -> 567.86565 | F10: =D10/D$3 -> 0.99625552 | G10: =$B10*((D10)-(E$3)) -> 245319.64 | H10: =H9+G10*(A10-A9) -> 19924554 | P10: =1-((3.52*V9)/(10^(0.9813*U9)))+((0.274*V9^2)/(10^(0.8157*U9))) -> 1.3532349 | Q10: =205+273.15 -> 478.15 | R10: =0.709*F10 -> 0.70634516 | S10: =103.9+183.3*R10-39.7*R10^2 -> 213.56581 | U10: =Q10/S10 -> 2.2388884 | V10: =D10/T$3 -> 12.405137
A11: 90 | B11: =B$3*C$3/C11 -> 2641.3917 | C11: =1.01325/D11*Q10/288.15*P11 -> 0.0040071369 | D11: =P11*(D$3/P$3)*(1-H10/I$3) -> 567.1425 | F11: =D11/D$3 -> 0.99498685 | G11: =$B11*((D11)-(E$3)) -> 243384.44 | H11: =H10+G11*(A11-A10) -> 22358398 | P11: =1-((3.52*V10)/(10^(0.9813*U10)))+((0.274*V10^2)/(10^(0.8157*U10))) -> 1.3516499 | Q11: =205+273.15 -> 478.15 | R11: =0.709*F11 -> 0.70544567 | S11: =103.9+183.3*R11-39.7*R11^2 -> 213.45134 | U11: =Q11/S11 -> 2.240089 | V11: =D11/T$3 -> 12.38934
A12: 100 | B12: =B$3*C$3/C12 -> 2641.1236 | C12: =1.01325/D12*Q11/288.15*P12 -> 0.0040075437 | D12: =P12*(D$3/P$3)*(1-H11/I$3) -> 566.28335 | F12: =D12/D$3 -> 0.99347956 | G12: =$B12*((D12)-(E$3)) -> 241090.62 | H12: =H11+G12*(A12-A11) -> 24769304 | P12: =1-((3.52*V11)/(10^(0.9813*U11)))+((0.274*V11^2)/(10^(0.8157*U11))) -> 1.3497393 | Q12: =205+273.15 -> 478.15 | R12: =0.709*F12 -> 0.70437701 | S12: =103.9+183.3*R12-39.7*R12^2 -> 213.31527 | U12: =Q12/S12 -> 2.2415179 | V12: =D12/T$3 -> 12.370572
A13: 110 | B13: =B$3*C$3/C13 -> 2640.8581 | C13: =1.01325/D13*Q12/288.15*P13 -> 0.0040079467 | D13: =P13*(D$3/P$3)*(1-H12/I$3) -> 565.27819 | F13: =D13/D$3 -> 0.99171613 | G13: =$B13*((D13)-(E$3)) -> 238411.89 | H13: =H12+G13*(A13-A12) -> 27153423 | P13: =1-((3.52*V12)/(10^(0.9813*U12)))+((0.274*V12^2)/(10^(0.8157*U12))) -> 1.347479 | Q13: =205+273.15 -> 478.15 | R13: =0.709*F13 -> 0.70312673 | S13: =103.9+183.3*R13-39.7*R13^2 -> 213.15596 | U13: =Q13/S13 -> 2.2431932 | V13: =D13/T$3 -> 12.348614
A14: 120 | B14: =B$3*C$3/C14 -> 2640.5954 | C14: =1.01325/D14*Q13/288.15*P14 -> 0.0040083452 | D14: =P14*(D$3/P$3)*(1-H13/I$3) -> 564.11827 | F14: =D14/D$3 -> 0.98968118 | G14: =$B14*((D14)-(E$3)) -> 235325.3 | H14: =H13+G14*(A14-A13) -> 29506676 | P14: =1-((3.52*V13)/(10^(0.9813*U13)))+((0.274*V13^2)/(10^(0.8157*U13))) -> 1.3448478 | Q14: =205+273.15 -> 478.15 | R14: =0.709*F14 -> 0.70168395 | S14: =103.9+183.3*R14-39.7*R14^2 -> 212.97196 | U14: =Q14/S14 -> 2.2451312 | V14: =D14/T$3 -> 12.323275
A15: 130 | B15: =B$3*C$3/C15 -> 2640.3362 | C15: =1.01325/D15*Q14/288.15*P15 -> 0.0040087388 | D15: =P15*(D$3/P$3)*(1-H14/I$3) -> 562.79678 | F15: =D15/D$3 -> 0.98736277 | G15: =$B15*((D15)-(E$3)) -> 231813.02 | H15: =H14+G15*(A15-A14) -> 31824806 | P15: =1-((3.52*V14)/(10^(0.9813*U14)))+((0.274*V14^2)/(10^(0.8157*U14))) -> 1.3418291 | Q15: =205+273.15 -> 478.15 | R15: =0.709*F15 -> 0.70004021 | S15: =103.9+183.3*R15-39.7*R15^2 -> 212.76213 | U15: =Q15/S15 -> 2.2473454 | V15: =D15/T$3 -> 12.294407
... A102: 1000 | B102: =B$3*C$3/C102 -> 2628.8222 | C102: =1.01325/D102*Q101/288.15*P102 -> 0.0040262967 | D102: =P102*(D$3/P$3)*(1-H101/I$3) -> 509.50688 | F102: =D102/D$3 -> 0.89387172 | G102: =$B102*((D102)-(E$3)) -> 90712.461 | H102: =H101+G102*(A102-A101) -> 1.3494482e+08 | P102: =1-((3.52*V101)/(10^(0.9813*U101)))+((0.274*V101^2)/(10^(0.8157*U101))) -> 1.2200951 | Q102: =205+273.15 -> 478.15 | R102: =0.709*F102 -> 0.63375505 | S102: =103.9+183.3*R102-39.7*R102^2 -> 204.12198 | U102: =Q102/S102 -> 2.3424719 | V102: =D102/T$3 -> 11.130278

Sheet J változás 9.
A2: t | B2: J | C2: B | D2: pi (bar) | E2: pwf (bar) | G2: Q m^3/nap | H2: Gp | I2: G (nm^3) | P2: zi | Q2: T (K) | R2: relatív sűrűség | S2: Tpc | T2: Ppc | U2: Tpr | V2: Ppr
A3: 10 | B3: ='fő munkalap'!K31 -> 2700.8386 | C3: ='fő munkalap'!C12 -> 0.0040038102 | D3: ='fő munkalap'!C3 -> 570 | E3: ='fő munkalap'!C4 -> 475 | G3: =$B3*((D3)-(E$3)) -> 256579.67 | H3: =G3*A3 -> 2565796.7 | I3: =24*10^9 -> 24000000000 | P3: =1-((3.52*V3)/(10^(0.9813*U3)))+((0.274*V3^2)/(10^(0.8157*U3))) -> 1.3573323 | Q3: =205+273.15 -> 478.15 | R3: 0.709 | S3: =103.9+183.3*R3-39.7*R3^2 -> 213.90326 | T3: =48.69-3.566*R3-0.766*R3^2 -> 45.776652 | U3: =Q3/S3 -> 2.2353563 | V3: =D3/T$3 -> 12.451762
A4: 20 | B4: =B$3*C$3/C4 -> 2700.5499 | C4: =1.01325/D4*Q3/288.15*P4 -> 0.0040042383 | D4: =P4*(D$3/P$3)*(1-H3/I$3) -> 569.93906 | F4: =D4/D$3 -> 0.99989309 | G4: =$B4*((D4)-(E$3)) -> 256387.68 | H4: =H3+G4*(A4-A3) -> 5129673.5 | P4: =1-((3.52*V3)/(10^(0.9813*U3)))+((0.274*V3^2)/(10^(0.8157*U3))) -> 1.3573323 | Q4: =205+273.15 -> 478.15 | R4: =0.709*F4 -> 0.7089242 | S4: =103.9+183.3*R4-39.7*R4^2 -> 213.89364 | U4: =Q4/S4 -> 2.2354569 | V4: =D4/T$3 -> 12.450431
A5: 30 | B5: =B$3*C$3/C5 -> 2700.2614 | C5: =1.01325/D5*Q4/288.15*P5 -> 0.0040046662 | D5: =P5*(D$3/P$3)*(1-H4/I$3) -> 569.80968 | F5: =D5/D$3 -> 0.9996661 | G5: =$B5*((D5)-(E$3)) -> 256010.91 | H5: =H4+G5*(A5-A4) -> 7689782.6 | P5: =1-((3.52*V4)/(10^(0.9813*U4)))+((0.274*V4^2)/(10^(0.8157*U4))) -> 1.3571692 | Q5: =205+273.15 -> 478.15 | R5: =0.709*F5 -> 0.70876327 | S5: =103.9+183.3*R5-39.7*R5^2 -> 213.8732 | U5: =Q5/S5 -> 2.2356705 | V5: =D5/T$3 -> 12.447605
A6: 40 | B6: =B$3*C$3/C6 -> 2699.9733 | C6: =1.01325/D6*Q5/288.15*P6 -> 0.0040050935 | D6: =P6*(D$3/P$3)*(1-H5/I$3) -> 569.60354 | F6: =D6/D$3 -> 0.99930446 | G6: =$B6*((D6)-(E$3)) -> 255427.04 | H6: =H5+G6*(A6-A5) -> 10244053 | P6: =1-((3.52*V5)/(10^(0.9813*U5)))+((0.274*V5^2)/(10^(0.8157*U5))) -> 1.356823 | Q6: =205+273.15 -> 478.15 | R6: =0.709*F6 -> 0.70850686 | S6: =103.9+183.3*R6-39.7*R6^2 -> 213.84062 | U6: =Q6/S6 -> 2.2360111 | V6: =D6/T$3 -> 12.443102
A7: 50 | B7: =B$3*C$3/C7 -> 2699.6858 | C7: =1.01325/D7*Q6/288.15*P7 -> 0.0040055199 | D7: =P7*(D$3/P$3)*(1-H6/I$3) -> 569.31159 | F7: =D7/D$3 -> 0.99879226 | G7: =$B7*((D7)-(E$3)) -> 254611.65 | H7: =H6+G7*(A7-A6) -> 12790169 | P7: =1-((3.52*V6)/(10^(0.9813*U6)))+((0.274*V6^2)/(10^(0.8157*U6))) -> 1.3562719 | Q7: =205+273.15 -> 478.15 | R7: =0.709*F7 -> 0.70814371 | S7: =103.9+183.3*R7-39.7*R7^2 -> 213.79448 | U7: =Q7/S7 -> 2.2364936 | V7: =D7/T$3 -> 12.436724
A8: 60 | B8: =B$3*C$3/C8 -> 2699.3993 | C8: =1.01325/D8*Q7/288.15*P8 -> 0.0040059451 | D8: =P8*(D$3/P$3)*(1-H7/I$3) -> 568.924 | F8: =D8/D$3 -> 0.99811229 | G8: =$B8*((D8)-(E$3)) -> 253538.39 | H8: =H7+G8*(A8-A7) -> 15325553 | P8: =1-((3.52*V7)/(10^(0.9813*U7)))+((0.274*V7^2)/(10^(0.8157*U7))) -> 1.3554924 | Q8: =205+273.15 -> 478.15 | R8: =0.709*F8 -> 0.70766161 | S8: =103.9+183.3*R8-39.7*R8^2 -> 213.73321 | U8: =Q8/S8 -> 2.2371348 | V8: =D8/T$3 -> 12.428257
A9: 70 | B9: =B$3*C$3/C9 -> 2699.114 | C9: =1.01325/D9*Q8/288.15*P9 -> 0.0040063686 | D9: =P9*(D$3/P$3)*(1-H8/I$3) -> 568.43039 | F9: =D9/D$3 -> 0.9972463 | G9: =$B9*((D9)-(E$3)) -> 252179.28 | H9: =H8+G9*(A9-A8) -> 17847346 | P9: =1-((3.52*V8)/(10^(0.9813*U8)))+((0.274*V8^2)/(10^(0.8157*U8))) -> 1.3544596 | Q9: =205+273.15 -> 478.15 | R9: =0.709*F9 -> 0.70704763 | S9: =103.9+183.3*R9-39.7*R9^2 -> 213.65515 | U9: =Q9/S9 -> 2.2379521 | V9: =D9/T$3 -> 12.417474
A10: 80 | B10: =B$3*C$3/C10 -> 2698.8302 | C10: =1.01325/D10*Q9/288.15*P10 -> 0.0040067898 | D10: =P10*(D$3/P$3)*(1-H9/I$3) -> 567.81992 | F10: =D10/D$3 -> 0.9961753 | G10: =$B10*((D10)-(E$3)) -> 250505.2 | H10: =H9+G10*(A10-A9) -> 20352398 | P10: =1-((3.52*V9)/(10^(0.9813*U9)))+((0.274*V9^2)/(10^(0.8157*U9))) -> 1.3531472 | Q10: =205+273.15 -> 478.15 | R10: =0.709*F10 -> 0.70628829 | S10: =103.9+183.3*R10-39.7*R10^2 -> 213.55857 | U10: =Q10/S10 -> 2.2389642 | V10: =D10/T$3 -> 12.404138
A11: 90 | B11: =B$3*C$3/C11 -> 2698.5483 | C11: =1.01325/D11*Q10/288.15*P11 -> 0.0040072084 | D11: =P11*(D$3/P$3)*(1-H10/I$3) -> 567.0816 | F11: =D11/D$3 -> 0.99488 | G11: =$B11*((D11)-(E$3)) -> 248486.65 | H11: =H10+G11*(A11-A10) -> 22837265 | P11: =1-((3.52*V10)/(10^(0.9813*U10)))+((0.274*V10^2)/(10^(0.8157*U10))) -> 1.3515289 | Q11: =205+273.15 -> 478.15 | R11: =0.709*F11 -> 0.70536992 | S11: =103.9+183.3*R11-39.7*R11^2 -> 213.4417 | U11: =Q11/S11 -> 2.2401902 | V11: =D11/T$3 -> 12.388009
A12: 100 | B12: =B$3*C$3/C12 -> 2698.2687 | C12: =1.01325/D12*Q11/288.15*P12 -> 0.0040076237 | D12: =P12*(D$3/P$3)*(1-H11/I$3) -> 566.20468 | F12: =D12/D$3 -> 0.99334154 | G12: =$B12*((D12)-(E$3)) -> 246094.73 | H12: =H11+G12*(A12-A11) -> 25298212 | P12: =1-((3.52*V11)/(10^(0.9813*U11)))+((0.274*V11^2)/(10^(0.8157*U11))) -> 1.3495788 | Q12: =205+273.15 -> 478.15 | R12: =0.709*F12 -> 0.70427915 | S12: =103.9+183.3*R12-39.7*R12^2 -> 213.30281 | U12: =Q12/S12 -> 2.2416489 | V12: =D12/T$3 -> 12.368853
A13: 110 | B13: =B$3*C$3/C13 -> 2697.9917 | C13: =1.01325/D13*Q12/288.15*P13 -> 0.0040080351 | D13: =P13*(D$3/P$3)*(1-H12/I$3) -> 565.17911 | F13: =D13/D$3 -> 0.9915423 | G13: =$B13*((D13)-(E$3)) -> 243302.5 | H13: =H12+G13*(A13-A12) -> 27731237 | P13: =1-((3.52*V12)/(10^(0.9813*U12)))+((0.274*V12^2)/(10^(0.8157*U12))) -> 1.3472726 | Q13: =205+273.15 -> 478.15 | R13: =0.709*F13 -> 0.70300349 | S13: =103.9+183.3*R13-39.7*R13^2 -> 213.14025 | U13: =Q13/S13 -> 2.2433586 | V13: =D13/T$3 -> 12.346449
A14: 120 | B14: =B$3*C$3/C14 -> 2697.7179 | C14: =1.01325/D14*Q13/288.15*P14 -> 0.0040084419 | D14: =P14*(D$3/P$3)*(1-H13/I$3) -> 563.99621 | F14: =D14/D$3 -> 0.98946703 | G14: =$B14*((D14)-(E$3)) -> 240086.66 | H14: =H13+G14*(A14-A13) -> 30132104 | P14: =1-((3.52*V13)/(10^(0.9813*U13)))+((0.274*V13^2)/(10^(0.8157*U13))) -> 1.3445892 | Q14: =205+273.15 -> 478.15 | R14: =0.709*F14 -> 0.70153212 | S14: =103.9+183.3*R14-39.7*R14^2 -> 212.95259 | U14: =Q14/S14 -> 2.2453355 | V14: =D14/T$3 -> 12.320608
A15: 130 | B15: =B$3*C$3/C15 -> 2697.4477 | C15: =1.01325/D15*Q14/288.15*P15 -> 0.0040088434 | D15: =P15*(D$3/P$3)*(1-H14/I$3) -> 562.64932 | F15: =D15/D$3 -> 0.98710407 | G15: =$B15*((D15)-(E$3)) -> 236429.46 | H15: =H14+G15*(A15-A14) -> 32496398 | P15: =1-((3.52*V14)/(10^(0.9813*U14)))+((0.274*V14^2)/(10^(0.8157*U14))) -> 1.3415125 | Q15: =205+273.15 -> 478.15 | R15: =0.709*F15 -> 0.69985679 | S15: =103.9+183.3*R15-39.7*R15^2 -> 212.73871 | U15: =Q15/S15 -> 2.2475929 | V15: =D15/T$3 -> 12.291185
... A102: 1000 | B102: =B$3*C$3/C102 -> 2685.4937 | C102: =1.01325/D102*Q101/288.15*P102 -> 0.0040266881 | D102: =P102*(D$3/P$3)*(1-H101/I$3) -> 509.27452 | F102: =D102/D$3 -> 0.89346407 | G102: =$B102*((D102)-(E$3)) -> 92044.001 | H102: =H101+G102*(A102-A101) -> 1.3727796e+08 | P102: =1-((3.52*V101)/(10^(0.9813*U101)))+((0.274*V101^2)/(10^(0.8157*U101))) -> 1.2196572 | Q102: =205+273.15 -> 478.15 | R102: =0.709*F102 -> 0.63346602 | S102: =103.9+183.3*R102-39.7*R102^2 -> 204.08354 | U102: =Q102/S102 -> 2.3429131 | V102: =D102/T$3 -> 11.125202

Sheet J változás 10.
A2: t | B2: J | C2: B | D2: pi (bar) | E2: pwf (bar) | G2: Q m^3/nap | H2: Gp | I2: G (nm^3) | P2: zi | Q2: T (K) | R2: relatív sűrűség | S2: Tpc | T2: Ppc | U2: Tpr | V2: Ppr
A3: 10 | B3: ='fő munkalap'!L31 -> 2754.1954 | C3: ='fő munkalap'!C12 -> 0.0040038102 | D3: ='fő munkalap'!C3 -> 570 | E3: ='fő munkalap'!C4 -> 475 | G3: =$B3*((D3)-(E$3)) -> 261648.56 | H3: =G3*A3 -> 2616485.6 | I3: =24*10^9 -> 24000000000 | P3: =1-((3.52*V3)/(10^(0.9813*U3)))+((0.274*V3^2)/(10^(0.8157*U3))) -> 1.3573323 | Q3: =205+273.15 -> 478.15 | R3: 0.709 | S3: =103.9+183.3*R3-39.7*R3^2 -> 213.90326 | T3: =48.69-3.566*R3-0.766*R3^2 -> 45.776652 | U3: =Q3/S3 -> 2.2353563 | V3: =D3/T$3 -> 12.451762
A4: 20 | B4: =B$3*C$3/C4 -> 2753.8951 | C4: =1.01325/D4*Q3/288.15*P4 -> 0.0040042468 | D4: =P4*(D$3/P$3)*(1-H3/I$3) -> 569.93786 | F4: =D4/D$3 -> 0.99989098 | G4: =$B4*((D4)-(E$3)) -> 261448.9 | H4: =H3+G4*(A4-A3) -> 5230974.6 | P4: =1-((3.52*V3)/(10^(0.9813*U3)))+((0.274*V3^2)/(10^(0.8157*U3))) -> 1.3573323 | Q4: =205+273.15 -> 478.15 | R4: =0.709*F4 -> 0.7089227 | S4: =103.9+183.3*R4-39.7*R4^2 -> 213.89345 | U4: =Q4/S4 -> 2.2354589 | V4: =D4/T$3 -> 12.450405
A5: 30 | B5: =B$3*C$3/C5 -> 2753.5951 | C5: =1.01325/D5*Q4/288.15*P5 -> 0.0040046831 | D5: =P5*(D$3/P$3)*(1-H4/I$3) -> 569.80592 | F5: =D5/D$3 -> 0.99965951 | G5: =$B5*((D5)-(E$3)) -> 261057.11 | H5: =H4+G5*(A5-A4) -> 7841545.7 | P5: =1-((3.52*V4)/(10^(0.9813*U4)))+((0.274*V4^2)/(10^(0.8157*U4))) -> 1.357166 | Q5: =205+273.15 -> 478.15 | R5: =0.709*F5 -> 0.70875859 | S5: =103.9+183.3*R5-39.7*R5^2 -> 213.8726 | U5: =Q5/S5 -> 2.2356767 | V5: =D5/T$3 -> 12.447523
A6: 40 | B6: =B$3*C$3/C6 -> 2753.2955 | C6: =1.01325/D6*Q5/288.15*P6 -> 0.0040051188 | D6: =P6*(D$3/P$3)*(1-H5/I$3) -> 569.59572 | F6: =D6/D$3 -> 0.99929074 | G6: =$B6*((D6)-(E$3)) -> 260449.97 | H6: =H5+G6*(A6-A5) -> 10446045 | P6: =1-((3.52*V5)/(10^(0.9813*U5)))+((0.274*V5^2)/(10^(0.8157*U5))) -> 1.3568129 | Q6: =205+273.15 -> 478.15 | R6: =0.709*F6 -> 0.70849713 | S6: =103.9+183.3*R6-39.7*R6^2 -> 213.83939 | U6: =Q6/S6 -> 2.236024 | V6: =D6/T$3 -> 12.442931
A7: 50 | B7: =B$3*C$3/C7 -> 2752.9966 | C7: =1.01325/D7*Q6/288.15*P7 -> 0.0040055537 | D7: =P7*(D$3/P$3)*(1-H6/I$3) -> 569.29802 | F7: =D7/D$3 -> 0.99876845 | G7: =$B7*((D7)-(E$3)) -> 259602.12 | H7: =H6+G7*(A7-A6) -> 13042067 | P7: =1-((3.52*V6)/(10^(0.9813*U6)))+((0.274*V6^2)/(10^(0.8157*U6))) -> 1.356251 | Q7: =205+273.15 -> 478.15 | R7: =0.709*F7 -> 0.70812683 | S7: =103.9+183.3*R7-39.7*R7^2 -> 213.79234 | U7: =Q7/S7 -> 2.2365161 | V7: =D7/T$3 -> 12.436427
A8: 60 | B8: =B$3*C$3/C8 -> 2752.6987 | C8: =1.01325/D8*Q7/288.15*P8 -> 0.0040059872 | D8: =P8*(D$3/P$3)*(1-H7/I$3) -> 568.90284 | F8: =D8/D$3 -> 0.99807516 | G8: =$B8*((D8)-(E$3)) -> 258486.22 | H8: =H7+G8*(A8-A7) -> 15626929 | P8: =1-((3.52*V7)/(10^(0.9813*U7)))+((0.274*V7^2)/(10^(0.8157*U7))) -> 1.3554563 | Q8: =205+273.15 -> 478.15 | R8: =0.709*F8 -> 0.70763529 | S8: =103.9+183.3*R8-39.7*R8^2 -> 213.72986 | U8: =Q8/S8 -> 2.2371698 | V8: =D8/T$3 -> 12.427795
A9: 70 | B9: =B$3*C$3/C9 -> 2752.402 | C9: =1.01325/D9*Q8/288.15*P9 -> 0.0040064189 | D9: =P9*(D$3/P$3)*(1-H8/I$3) -> 568.39961 | F9: =D9/D$3 -> 0.99719229 | G9: =$B9*((D9)-(E$3)) -> 257073.26 | H9: =H8+G9*(A9-A8) -> 18197661 | P9: =1-((3.52*V8)/(10^(0.9813*U8)))+((0.274*V8^2)/(10^(0.8157*U8))) -> 1.3544032 | Q9: =205+273.15 -> 478.15 | R9: =0.709*F9 -> 0.70700933 | S9: =103.9+183.3*R9-39.7*R9^2 -> 213.65028 | U9: =Q9/S9 -> 2.2380031 | V9: =D9/T$3 -> 12.416801
A10: 80 | B10: =B$3*C$3/C10 -> 2752.107 | C10: =1.01325/D10*Q9/288.15*P10 -> 0.0040068484 | D10: =P10*(D$3/P$3)*(1-H9/I$3) -> 567.77733 | F10: =D10/D$3 -> 0.99610057 | G10: =$B10*((D10)-(E$3)) -> 255333.13 | H10: =H9+G10*(A10-A9) -> 20750993 | P10: =1-((3.52*V9)/(10^(0.9813*U9)))+((0.274*V9^2)/(10^(0.8157*U9))) -> 1.3530654 | Q10: =205+273.15 -> 478.15 | R10: =0.709*F10 -> 0.7062353 | S10: =103.9+183.3*R10-39.7*R10^2 -> 213.55183 | U10: =Q10/S10 -> 2.2390349 | V10: =D10/T$3 -> 12.403208
A11: 90 | B11: =B$3*C$3/C11 -> 2751.814 | C11: =1.01325/D11*Q10/288.15*P11 -> 0.004007275 | D11: =P11*(D$3/P$3)*(1-H10/I$3) -> 567.02488 | F11: =D11/D$3 -> 0.9947805 | G11: =$B11*((D11)-(E$3)) -> 253235.36 | H11: =H10+G11*(A11-A10) -> 23283346 | P11: =1-((3.52*V10)/(10^(0.9813*U10)))+((0.274*V10^2)/(10^(0.8157*U10))) -> 1.3514162 | Q11: =205+273.15 -> 478.15 | R11: =0.709*F11 -> 0.70529937 | S11: =103.9+183.3*R11-39.7*R11^2 -> 213.43272 | U11: =Q11/S11 -> 2.2402844 | V11: =D11/T$3 -> 12.38677
A12: 100 | B12: =B$3*C$3/C12 -> 2751.5234 | C12: =1.01325/D12*Q11/288.15*P12 -> 0.0040076983 | D12: =P12*(D$3/P$3)*(1-H11/I$3) -> 566.13143 | F12: =D12/D$3 -> 0.99321303 | G12: =$B12*((D12)-(E$3)) -> 250750.25 | H12: =H11+G12*(A12-A11) -> 25790849 | P12: =1-((3.52*V11)/(10^(0.9813*U11)))+((0.274*V11^2)/(10^(0.8157*U11))) -> 1.3494293 | Q12: =205+273.15 -> 478.15 | R12: =0.709*F12 -> 0.70418804 | S12: =103.9+183.3*R12-39.7*R12^2 -> 213.2912 | U12: =Q12/S12 -> 2.2417709 | V12: =D12/T$3 -> 12.367253
A13: 110 | B13: =B$3*C$3/C13 -> 2751.2356 | C13: =1.01325/D13*Q12/288.15*P13 -> 0.0040081174 | D13: =P13*(D$3/P$3)*(1-H12/I$3) -> 565.08689 | F13: =D13/D$3 -> 0.99138052 | G13: =$B13*((D13)-(E$3)) -> 247850.27 | H13: =H12+G13*(A13-A12) -> 28269352 | P13: =1-((3.52*V12)/(10^(0.9813*U12)))+((0.274*V12^2)/(10^(0.8157*U12))) -> 1.3470804 | Q13: =205+273.15 -> 478.15 | R13: =0.709*F13 -> 0.70288879 | S13: =103.9+183.3*R13-39.7*R13^2 -> 213.12562 | U13: =Q13/S13 -> 2.2435125 | V13: =D13/T$3 -> 12.344435
A14: 120 | B14: =B$3*C$3/C14 -> 2750.9512 | C14: =1.01325/D14*Q13/288.15*P14 -> 0.0040085318 | D14: =P14*(D$3/P$3)*(1-H13/I$3) -> 563.88264 | F14: =D14/D$3 -> 0.98926779 | G14: =$B14*((D14)-(E$3)) -> 244511.81 | H14: =H13+G14*(A14-A13) -> 30714470 | P14: =1-((3.52*V13)/(10^(0.9813*U13)))+((0.274*V13^2)/(10^(0.8157*U13))) -> 1.3443486 | Q14: =205+273.15 -> 478.15 | R14: =0.709*F14 -> 0.70139086 | S14: =103.9+183.3*R14-39.7*R14^2 -> 212.93456 | U14: =Q14/S14 -> 2.2455255 | V14: =D14/T$3 -> 12.318128
A15: 130 | B15: =B$3*C$3/C15 -> 2750.6706 | C15: =1.01325/D15*Q14/288.15*P15 -> 0.0040089408 | D15: =P15*(D$3/P$3)*(1-H14/I$3) -> 562.5122 | F15: =D15/D$3 -> 0.98686351 | G15: =$B15*((D15)-(E$3)) -> 240717.24 | H15: =H14+G15*(A15-A14) -> 33121642 | P15: =1-((3.52*V14)/(10^(0.9813*U14)))+((0.274*V14^2)/(10^(0.8157*U14))) -> 1.3412182 | Q15: =205+273.15 -> 478.15 | R15: =0.709*F15 -> 0.69968623 | S15: =103.9+183.3*R15-39.7*R15^2 -> 212.71692 | U15: =Q15/S15 -> 2.2478231 | V15: =D15/T$3 -> 12.28819
... A102: 1000 | B102: =B$3*C$3/C102 -> 2738.3008 | C102: =1.01325/D102*Q101/288.15*P102 -> 0.0040270505 | D102: =P102*(D$3/P$3)*(1-H101/I$3) -> 509.06064 | F102: =D102/D$3 -> 0.89308885 | G102: =$B102*((D102)-(E$3)) -> 93268.284 | H102: =H101+G102*(A102-A101) -> 1.3943741e+08 | P102: =1-((3.52*V101)/(10^(0.9813*U101)))+((0.274*V101^2)/(10^(0.8157*U101))) -> 1.2192547 | Q102: =205+273.15 -> 478.15 | R102: =0.709*F102 -> 0.63319999 | S102: =103.9+183.3*R102-39.7*R102^2 -> 204.04815 | U102: =Q102/S102 -> 2.3433194 | V102: =D102/T$3 -> 11.12053

Sheet J változás 11.
A2: t | B2: J | C2: B | D2: pi (bar) | E2: pwf (bar) | G2: Q m^3/nap | H2: Gp | I2: G (nm^3) | P2: zi | Q2: T (K) | R2: relatív sűrűség | S2: Tpc | T2: Ppc | U2: Tpr | V2: Ppr
A3: 10 | B3: ='fő munkalap'!M31 -> 2804.3115 | C3: ='fő munkalap'!C12 -> 0.0040038102 | D3: ='fő munkalap'!C3 -> 570 | E3: ='fő munkalap'!C4 -> 475 | G3: =$B3*((D3)-(E$3)) -> 266409.6 | H3: =G3*A3 -> 2664096 | I3: =24*10^9 -> 24000000000 | P3: =1-((3.52*V3)/(10^(0.9813*U3)))+((0.274*V3^2)/(10^(0.8157*U3))) -> 1.3573323 | Q3: =205+273.15 -> 478.15 | R3: 0.709 | S3: =103.9+183.3*R3-39.7*R3^2 -> 213.90326 | T3: =48.69-3.566*R3-0.766*R3^2 -> 45.776652 | U3: =Q3/S3 -> 2.2353563 | V3: =D3/T$3 -> 12.451762
A4: 20 | B4: =B$3*C$3/C4 -> 2804.0003 | C4: =1.01325/D4*Q3/288.15*P4 -> 0.0040042547 | D4: =P4*(D$3/P$3)*(1-H3/I$3) -> 569.93673 | F4: =D4/D$3 -> 0.999889 | G4: =$B4*((D4)-(E$3)) -> 266202.61 | H4: =H3+G4*(A4-A3) -> 5326122.1 | P4: =1-((3.52*V3)/(10^(0.9813*U3)))+((0.274*V3^2)/(10^(0.8157*U3))) -> 1.3573323 | Q4: =205+273.15 -> 478.15 | R4: =0.709*F4 -> 0.7089213 | S4: =103.9+183.3*R4-39.7*R4^2 -> 213.89327 | U4: =Q4/S4 -> 2.2354607 | V4: =D4/T$3 -> 12.45038
A5: 30 | B5: =B$3*C$3/C5 -> 2803.6892 | C5: =1.01325/D5*Q4/288.15*P5 -> 0.004004699 | D5: =P5*(D$3/P$3)*(1-H4/I$3) -> 569.80239 | F5: =D5/D$3 -> 0.99965331 | G5: =$B5*((D5)-(E$3)) -> 265796.43 | H5: =H4+G5*(A5-A4) -> 7984086.4 | P5: =1-((3.52*V4)/(10^(0.9813*U4)))+((0.274*V4^2)/(10^(0.8157*U4))) -> 1.3571629 | Q5: =205+273.15 -> 478.15 | R5: =0.709*F5 -> 0.7087542 | S5: =103.9+183.3*R5-39.7*R5^2 -> 213.87204 | U5: =Q5/S5 -> 2.2356826 | V5: =D5/T$3 -> 12.447446
A6: 40 | B6: =B$3*C$3/C6 -> 2803.3786 | C6: =1.01325/D6*Q5/288.15*P6 -> 0.0040051426 | D6: =P6*(D$3/P$3)*(1-H5/I$3) -> 569.58837 | F6: =D6/D$3 -> 0.99927785 | G6: =$B6*((D6)-(E$3)) -> 265167.02 | H6: =H5+G6*(A6-A5) -> 10635757 | P6: =1-((3.52*V5)/(10^(0.9813*U5)))+((0.274*V5^2)/(10^(0.8157*U5))) -> 1.3568035 | Q6: =205+273.15 -> 478.15 | R6: =0.709*F6 -> 0.70848799 | S6: =103.9+183.3*R6-39.7*R6^2 -> 213.83823 | U6: =Q6/S6 -> 2.2360361 | V6: =D6/T$3 -> 12.44277
A7: 50 | B7: =B$3*C$3/C7 -> 2803.0688 | C7: =1.01325/D7*Q6/288.15*P7 -> 0.0040055853 | D7: =P7*(D$3/P$3)*(1-H6/I$3) -> 569.28528 | F7: =D7/D$3 -> 0.9987461 | G7: =$B7*((D7)-(E$3)) -> 264288.11 | H7: =H6+G7*(A7-A6) -> 13278638 | P7: =1-((3.52*V6)/(10^(0.9813*U6)))+((0.274*V6^2)/(10^(0.8157*U6))) -> 1.3562314 | Q7: =205+273.15 -> 478.15 | R7: =0.709*F7 -> 0.70811098 | S7: =103.9+183.3*R7-39.7*R7^2 -> 213.79032 | U7: =Q7/S7 -> 2.2365372 | V7: =D7/T$3 -> 12.436149
A8: 60 | B8: =B$3*C$3/C8 -> 2802.76 | C8: =1.01325/D8*Q7/288.15*P8 -> 0.0040060267 | D8: =P8*(D$3/P$3)*(1-H7/I$3) -> 568.88296 | F8: =D8/D$3 -> 0.99804028 | G8: =$B8*((D8)-(E$3)) -> 263131.41 | H8: =H7+G8*(A8-A7) -> 15909952 | P8: =1-((3.52*V7)/(10^(0.9813*U7)))+((0.274*V7^2)/(10^(0.8157*U7))) -> 1.3554223 | Q8: =205+273.15 -> 478.15 | R8: =0.709*F8 -> 0.70761056 | S8: =103.9+183.3*R8-39.7*R8^2 -> 213.72672 | U8: =Q8/S8 -> 2.2372027 | V8: =D8/T$3 -> 12.427361
A9: 70 | B9: =B$3*C$3/C9 -> 2802.4525 | C9: =1.01325/D9*Q8/288.15*P9 -> 0.0040064662 | D9: =P9*(D$3/P$3)*(1-H8/I$3) -> 568.37069 | F9: =D9/D$3 -> 0.99714157 | G9: =$B9*((D9)-(E$3)) -> 261666.94 | H9: =H8+G9*(A9-A8) -> 18526621 | P9: =1-((3.52*V8)/(10^(0.9813*U8)))+((0.274*V8^2)/(10^(0.8157*U8))) -> 1.3543503 | Q9: =205+273.15 -> 478.15 | R9: =0.709*F9 -> 0.70697337 | S9: =103.9+183.3*R9-39.7*R9^2 -> 213.64571 | U9: =Q9/S9 -> 2.238051 | V9: =D9/T$3 -> 12.41617
A10: 80 | B10: =B$3*C$3/C10 -> 2802.1468 | C10: =1.01325/D10*Q9/288.15*P10 -> 0.0040069033 | D10: =P10*(D$3/P$3)*(1-H9/I$3) -> 567.73733 | F10: =D10/D$3 -> 0.99603041 | G10: =$B10*((D10)-(E$3)) -> 259863.62 | H10: =H9+G10*(A10-A9) -> 21125257 | P10: =1-((3.52*V9)/(10^(0.9813*U9)))+((0.274*V9^2)/(10^(0.8157*U9))) -> 1.3529887 | Q10: =205+273.15 -> 478.15 | R10: =0.709*F10 -> 0.70618556 | S10: =103.9+183.3*R10-39.7*R10^2 -> 213.5455 | U10: =Q10/S10 -> 2.2391013 | V10: =D10/T$3 -> 12.402334
A11: 90 | B11: =B$3*C$3/C11 -> 2801.8431 | C11: =1.01325/D11*Q10/288.15*P11 -> 0.0040073376 | D11: =P11*(D$3/P$3)*(1-H10/I$3) -> 566.97164 | F11: =D11/D$3 -> 0.99468709 | G11: =$B11*((D11)-(E$3)) -> 257690.11 | H11: =H10+G11*(A11-A10) -> 23702159 | P11: =1-((3.52*V10)/(10^(0.9813*U10)))+((0.274*V10^2)/(10^(0.8157*U10))) -> 1.3513104 | Q11: =205+273.15 -> 478.15 | R11: =0.709*F11 -> 0.70523315 | S11: =103.9+183.3*R11-39.7*R11^2 -> 213.42429 | U11: =Q11/S11 -> 2.2403729 | V11: =D11/T$3 -> 12.385607
A12: 100 | B12: =B$3*C$3/C12 -> 2801.542 | C12: =1.01325/D12*Q11/288.15*P12 -> 0.0040077683 | D12: =P12*(D$3/P$3)*(1-H11/I$3) -> 566.06268 | F12: =D12/D$3 -> 0.99309243 | G12: =$B12*((D12)-(E$3)) -> 255115.93 | H12: =H11+G12*(A12-A11) -> 26253318 | P12: =1-((3.52*V11)/(10^(0.9813*U11)))+((0.274*V11^2)/(10^(0.8157*U11))) -> 1.349289 | Q12: =205+273.15 -> 478.15 | R12: =0.709*F12 -> 0.70410253 | S12: =103.9+183.3*R12-39.7*R12^2 -> 213.28031 | U12: =Q12/S12 -> 2.2418854 | V12: =D12/T$3 -> 12.365751
A13: 110 | B13: =B$3*C$3/C13 -> 2801.2439 | C13: =1.01325/D13*Q12/288.15*P13 -> 0.0040081948 | D13: =P13*(D$3/P$3)*(1-H12/I$3) -> 565.00038 | F13: =D13/D$3 -> 0.99122873 | G13: =$B13*((D13)-(E$3)) -> 252113.01 | H13: =H12+G13*(A13-A12) -> 28774448 | P13: =1-((3.52*V12)/(10^(0.9813*U12)))+((0.274*V12^2)/(10^(0.8157*U12))) -> 1.3469002 | Q13: =205+273.15 -> 478.15 | R13: =0.709*F13 -> 0.70278117 | S13: =103.9+183.3*R13-39.7*R13^2 -> 213.1119 | U13: =Q13/S13 -> 2.2436569 | V13: =D13/T$3 -> 12.342545
A14: 120 | B14: =B$3*C$3/C14 -> 2800.9494 | C14: =1.01325/D14*Q13/288.15*P14 -> 0.0040086163 | D14: =P14*(D$3/P$3)*(1-H13/I$3) -> 563.77614 | F14: =D14/D$3 -> 0.98908096 | G14: =$B14*((D14)-(E$3)) -> 248657.49 | H14: =H13+G14*(A14-A13) -> 31261023 | P14: =1-((3.52*V13)/(10^(0.9813*U13)))+((0.274*V13^2)/(10^(0.8157*U13))) -> 1.3441231 | Q14: =205+273.15 -> 478.15 | R14: =0.709*F14 -> 0.7012584 | S14: =103.9+183.3*R14-39.7*R14^2 -> 212.91766 | U14: =Q14/S14 -> 2.2457038 | V14: =D14/T$3 -> 12.315801
A15: 130 | B15: =B$3*C$3/C15 -> 2800.6588 | C15: =1.01325/D15*Q14/288.15*P15 -> 0.0040090322 | D15: =P15*(D$3/P$3)*(1-H14/I$3) -> 562.38368 | F15: =D15/D$3 -> 0.98663804 | G15: =$B15*((D15)-(E$3)) -> 244731.88 | H15: =H14+G15*(A15-A14) -> 33708342 | P15: =1-((3.52*V14)/(10^(0.9813*U14)))+((0.274*V14^2)/(10^(0.8157*U14))) -> 1.3409423 | Q15: =205+273.15 -> 478.15 | R15: =0.709*F15 -> 0.69952637 | S15: =103.9+183.3*R15-39.7*R15^2 -> 212.6965 | U15: =Q15/S15 -> 2.2480389 | V15: =D15/T$3 -> 12.285382
... A102: 1000 | B102: =B$3*C$3/C102 -> 2787.8936 | C102: =1.01325/D102*Q101/288.15*P102 -> 0.0040273887 | D102: =P102*(D$3/P$3)*(1-H101/I$3) -> 508.86205 | F102: =D102/D$3 -> 0.89274045 | G102: =$B102*((D102)-(E$3)) -> 94403.805 | H102: =H101+G102*(A102-A101) -> 1.4145276e+08 | P102: =1-((3.52*V101)/(10^(0.9813*U101)))+((0.274*V101^2)/(10^(0.8157*U101))) -> 1.2188814 | Q102: =205+273.15 -> 478.15 | R102: =0.709*F102 -> 0.63295298 | S102: =103.9+183.3*R102-39.7*R102^2 -> 204.01529 | U102: =Q102/S102 -> 2.3436969 | V102: =D102/T$3 -> 11.116192

Sheet J változás 12.
A2: t | B2: J | C2: B | D2: pi (bar) | E2: pwf (bar) | G2: Q m^3/nap | H2: Gp | I2: G (nm^3) | P2: zi | Q2: T (K) | R2: relatív sűrűség | S2: Tpc | T2: Ppc | U2: Tpr | V2: Ppr
A3: 10 | B3: ='fő munkalap'!N31 -> 2851.6835 | C3: ='fő munkalap'!C12 -> 0.0040038102 | D3: ='fő munkalap'!C3 -> 570 | E3: ='fő munkalap'!C4 -> 475 | G3: =$B3*((D3)-(E$3)) -> 270909.93 | H3: =G3*A3 -> 2709099.3 | I3: =24*10^9 -> 24000000000 | P3: =1-((3.52*V3)/(10^(0.9813*U3)))+((0.274*V3^2)/(10^(0.8157*U3))) -> 1.3573323 | Q3: =205+273.15 -> 478.15 | R3: 0.709 | S3: =103.9+183.3*R3-39.7*R3^2 -> 213.90326 | T3: =48.69-3.566*R3-0.766*R3^2 -> 45.776652 | U3: =Q3/S3 -> 2.2353563 | V3: =D3/T$3 -> 12.451762
A4: 20 | B4: =B$3*C$3/C4 -> 2851.3616 | C4: =1.01325/D4*Q3/288.15*P4 -> 0.0040042622 | D4: =P4*(D$3/P$3)*(1-H3/I$3) -> 569.93566 | F4: =D4/D$3 -> 0.99988712 | G4: =$B4*((D4)-(E$3)) -> 270695.89 | H4: =H3+G4*(A4-A3) -> 5416058.3 | P4: =1-((3.52*V3)/(10^(0.9813*U3)))+((0.274*V3^2)/(10^(0.8157*U3))) -> 1.3573323 | Q4: =205+273.15 -> 478.15 | R4: =0.709*F4 -> 0.70891997 | S4: =103.9+183.3*R4-39.7*R4^2 -> 213.8931 | U4: =Q4/S4 -> 2.2354625 | V4: =D4/T$3 -> 12.450357
A5: 30 | B5: =B$3*C$3/C5 -> 2851.04 | C5: =1.01325/D5*Q4/288.15*P5 -> 0.004004714 | D5: =P5*(D$3/P$3)*(1-H4/I$3) -> 569.79905 | F5: =D5/D$3 -> 0.99964746 | G5: =$B5*((D5)-(E$3)) -> 270275.89 | H5: =H4+G5*(A5-A4) -> 8118817.1 | P5: =1-((3.52*V4)/(10^(0.9813*U4)))+((0.274*V4^2)/(10^(0.8157*U4))) -> 1.3571601 | Q5: =205+273.15 -> 478.15 | R5: =0.709*F5 -> 0.70875005 | S5: =103.9+183.3*R5-39.7*R5^2 -> 213.87152 | U5: =Q5/S5 -> 2.2356881 | V5: =D5/T$3 -> 12.447373
A6: 40 | B6: =B$3*C$3/C6 -> 2850.7188 | C6: =1.01325/D6*Q5/288.15*P6 -> 0.0040051651 | D6: =P6*(D$3/P$3)*(1-H5/I$3) -> 569.58143 | F6: =D6/D$3 -> 0.99926566 | G6: =$B6*((D6)-(E$3)) -> 269625.06 | H6: =H5+G6*(A6-A5) -> 10815068 | P6: =1-((3.52*V5)/(10^(0.9813*U5)))+((0.274*V5^2)/(10^(0.8157*U5))) -> 1.3567946 | Q6: =205+273.15 -> 478.15 | R6: =0.709*F6 -> 0.70847935 | S6: =103.9+183.3*R6-39.7*R6^2 -> 213.83713 | U6: =Q6/S6 -> 2.2360476 | V6: =D6/T$3 -> 12.442619
A7: 50 | B7: =B$3*C$3/C7 -> 2850.3985 | C7: =1.01325/D7*Q6/288.15*P7 -> 0.0040056153 | D7: =P7*(D$3/P$3)*(1-H6/I$3) -> 569.27323 | F7: =D7/D$3 -> 0.99872497 | G7: =$B7*((D7)-(E$3)) -> 268716.27 | H7: =H6+G7*(A7-A6) -> 13502230 | P7: =1-((3.52*V6)/(10^(0.9813*U6)))+((0.274*V6^2)/(10^(0.8157*U6))) -> 1.3562128 | Q7: =205+273.15 -> 478.15 | R7: =0.709*F7 -> 0.708096 | S7: =103.9+183.3*R7-39.7*R7^2 -> 213.78842 | U7: =Q7/S7 -> 2.2365571 | V7: =D7/T$3 -> 12.435886
A8: 60 | B8: =B$3*C$3/C8 -> 2850.0792 | C8: =1.01325/D8*Q7/288.15*P8 -> 0.004006064 | D8: =P8*(D$3/P$3)*(1-H7/I$3) -> 568.86418 | F8: =D8/D$3 -> 0.99800733 | G8: =$B8*((D8)-(E$3)) -> 267520.34 | H8: =H7+G8*(A8-A7) -> 16177434 | P8: =1-((3.52*V7)/(10^(0.9813*U7)))+((0.274*V7^2)/(10^(0.8157*U7))) -> 1.3553901 | Q8: =205+273.15 -> 478.15 | R8: =0.709*F8 -> 0.7075872 | S8: =103.9+183.3*R8-39.7*R8^2 -> 213.72375 | U8: =Q8/S8 -> 2.2372338 | V8: =D8/T$3 -> 12.42695
A9: 70 | B9: =B$3*C$3/C9 -> 2849.7613 | C9: =1.01325/D9*Q8/288.15*P9 -> 0.0040065109 | D9: =P9*(D$3/P$3)*(1-H8/I$3) -> 568.34337 | F9: =D9/D$3 -> 0.99709364 | G9: =$B9*((D9)-(E$3)) -> 266006.34 | H9: =H8+G9*(A9-A8) -> 18837497 | P9: =1-((3.52*V8)/(10^(0.9813*U8)))+((0.274*V8^2)/(10^(0.8157*U8))) -> 1.3543003 | Q9: =205+273.15 -> 478.15 | R9: =0.709*F9 -> 0.70693939 | S9: =103.9+183.3*R9-39.7*R9^2 -> 213.64139 | U9: =Q9/S9 -> 2.2380963 | V9: =D9/T$3 -> 12.415573
A10: 80 | B10: =B$3*C$3/C10 -> 2849.4452 | C10: =1.01325/D10*Q9/288.15*P10 -> 0.0040069553 | D10: =P10*(D$3/P$3)*(1-H9/I$3) -> 567.69955 | F10: =D10/D$3 -> 0.99596412 | G10: =$B10*((D10)-(E$3)) -> 264142.28 | H10: =H9+G10*(A10-A9) -> 21478920 | P10: =1-((3.52*V9)/(10^(0.9813*U9)))+((0.274*V9^2)/(10^(0.8157*U9))) -> 1.3529162 | Q10: =205+273.15 -> 478.15 | R10: =0.709*F10 -> 0.70613856 | S10: =103.9+183.3*R10-39.7*R10^2 -> 213.53952 | U10: =Q10/S10 -> 2.239164 | V10: =D10/T$3 -> 12.401509
A11: 90 | B11: =B$3*C$3/C11 -> 2849.1314 | C11: =1.01325/D11*Q10/288.15*P11 -> 0.0040073967 | D11: =P11*(D$3/P$3)*(1-H10/I$3) -> 566.92134 | F11: =D11/D$3 -> 0.99459885 | G11: =$B11*((D11)-(E$3)) -> 261895.98 | H11: =H10+G11*(A11-A10) -> 24097880 | P11: =1-((3.52*V10)/(10^(0.9813*U10)))+((0.274*V10^2)/(10^(0.8157*U10))) -> 1.3512104 | Q11: =205+273.15 -> 478.15 | R11: =0.709*F11 -> 0.70517058 | S11: =103.9+183.3*R11-39.7*R11^2 -> 213.41633 | U11: =Q11/S11 -> 2.2404565 | V11: =D11/T$3 -> 12.384509
A12: 100 | B12: =B$3*C$3/C12 -> 2848.8202 | C12: =1.01325/D12*Q11/288.15*P12 -> 0.0040078344 | D12: =P12*(D$3/P$3)*(1-H11/I$3) -> 565.99776 | F12: =D12/D$3 -> 0.99297852 | G12: =$B12*((D12)-(E$3)) -> 259236.25 | H12: =H11+G12*(A12-A11) -> 26690242 | P12: =1-((3.52*V11)/(10^(0.9813*U11)))+((0.274*V11^2)/(10^(0.8157*U11))) -> 1.3491565 | Q12: =205+273.15 -> 478.15 | R12: =0.709*F12 -> 0.70402177 | S12: =103.9+183.3*R12-39.7*R12^2 -> 213.27002 | U12: =Q12/S12 -> 2.2419935 | V12: =D12/T$3 -> 12.364333
A13: 110 | B13: =B$3*C$3/C13 -> 2848.5122 | C13: =1.01325/D13*Q12/288.15*P13 -> 0.0040082678 | D13: =P13*(D$3/P$3)*(1-H12/I$3) -> 564.91869 | F13: =D13/D$3 -> 0.99108542 | G13: =$B13*((D13)-(E$3)) -> 256134.49 | H13: =H12+G13*(A13-A12) -> 29251587 | P13: =1-((3.52*V12)/(10^(0.9813*U12)))+((0.274*V12^2)/(10^(0.8157*U12))) -> 1.34673 | Q13: =205+273.15 -> 478.15 | R13: =0.709*F13 -> 0.70267957 | S13: =103.9+183.3*R13-39.7*R13^2 -> 213.09895 | U13: =Q13/S13 -> 2.2437933 | V13: =D13/T$3 -> 12.34076
A14: 120 | B14: =B$3*C$3/C14 -> 2848.2078 | C14: =1.01325/D14*Q13/288.15*P14 -> 0.0040086961 | D14: =P14*(D$3/P$3)*(1-H13/I$3) -> 563.67563 | F14: =D14/D$3 -> 0.98890462 | G14: =$B14*((D14)-(E$3)) -> 252566.63 | H14: =H13+G14*(A14-A13) -> 31777253 | P14: =1-((3.52*V13)/(10^(0.9813*U13)))+((0.274*V13^2)/(10^(0.8157*U13))) -> 1.3439102 | Q14: =205+273.15 -> 478.15 | R14: =0.709*F14 -> 0.70113337 | S14: =103.9+183.3*R14-39.7*R14^2 -> 212.9017 | U14: =Q14/S14 -> 2.2458721 | V14: =D14/T$3 -> 12.313605
A15: 130 | B15: =B$3*C$3/C15 -> 2847.9077 | C15: =1.01325/D15*Q14/288.15*P15 -> 0.0040091185 | D15: =P15*(D$3/P$3)*(1-H14/I$3) -> 562.26244 | F15: =D15/D$3 -> 0.98642533 | G15: =$B15*((D15)-(E$3)) -> 248515.38 | H15: =H14+G15*(A15-A14) -> 34262407 | P15: =1-((3.52*V14)/(10^(0.9813*U14)))+((0.274*V14^2)/(10^(0.8157*U14))) -> 1.3406821 | Q15: =205+273.15 -> 478.15 | R15: =0.709*F15 -> 0.69937556 | S15: =103.9+183.3*R15-39.7*R15^2 -> 212.67723 | U15: =Q15/S15 -> 2.2482425 | V15: =D15/T$3 -> 12.282734
... A102: 1000 | B102: =B$3*C$3/C102 -> 2834.7645 | C102: =1.01325/D102*Q101/288.15*P102 -> 0.0040277066 | D102: =P102*(D$3/P$3)*(1-H101/I$3) -> 508.67634 | F102: =D102/D$3 -> 0.89241464 | G102: =$B102*((D102)-(E$3)) -> 95464.501 | H102: =H101+G102*(A102-A101) -> 1.4334638e+08 | P102: =1-((3.52*V101)/(10^(0.9813*U101)))+((0.274*V101^2)/(10^(0.8157*U101))) -> 1.2185328 | Q102: =205+273.15 -> 478.15 | R102: =0.709*F102 -> 0.63272198 | S102: =103.9+183.3*R102-39.7*R102^2 -> 203.98456 | U102: =Q102/S102 -> 2.34405 | V102: =D102/T$3 -> 11.112135

Sheet J változás 13.
A2: t | B2: J | C2: B | D2: pi (bar) | E2: pwf (bar) | G2: Q m^3/nap | H2: Gp | I2: G (nm^3) | P2: zi | Q2: T (K) | R2: relatív sűrűség | S2: Tpc | T2: Ppc | U2: Tpr | V2: Ppr
A3: 10 | B3: ='fő munkalap'!O31 -> 2896.6971 | C3: ='fő munkalap'!C12 -> 0.0040038102 | D3: ='fő munkalap'!C3 -> 570 | E3: ='fő munkalap'!C4 -> 475 | G3: =$B3*((D3)-(E$3)) -> 275186.23 | H3: =G3*A3 -> 2751862.3 | I3: =24*10^9 -> 24000000000 | P3: =1-((3.52*V3)/(10^(0.9813*U3)))+((0.274*V3^2)/(10^(0.8157*U3))) -> 1.3573323 | Q3: =205+273.15 -> 478.15 | R3: 0.709 | S3: =103.9+183.3*R3-39.7*R3^2 -> 213.90326 | T3: =48.69-3.566*R3-0.766*R3^2 -> 45.776652 | U3: =Q3/S3 -> 2.2353563 | V3: =D3/T$3 -> 12.451762
A4: 20 | B4: =B$3*C$3/C4 -> 2896.365 | C4: =1.01325/D4*Q3/288.15*P4 -> 0.0040042694 | D4: =P4*(D$3/P$3)*(1-H3/I$3) -> 569.93464 | F4: =D4/D$3 -> 0.99988534 | G4: =$B4*((D4)-(E$3)) -> 274965.38 | H4: =H3+G4*(A4-A3) -> 5501516 | P4: =1-((3.52*V3)/(10^(0.9813*U3)))+((0.274*V3^2)/(10^(0.8157*U3))) -> 1.3573323 | Q4: =205+273.15 -> 478.15 | R4: =0.709*F4 -> 0.70891871 | S4: =103.9+183.3*R4-39.7*R4^2 -> 213.89294 | U4: =Q4/S4 -> 2.2354642 | V4: =D4/T$3 -> 12.450335
A5: 30 | B5: =B$3*C$3/C5 -> 2896.0331 | C5: =1.01325/D5*Q4/288.15*P5 -> 0.0040047282 | D5: =P5*(D$3/P$3)*(1-H4/I$3) -> 569.79588 | F5: =D5/D$3 -> 0.9996419 | G5: =$B5*((D5)-(E$3)) -> 274532.01 | H5: =H4+G5*(A5-A4) -> 8246836.2 | P5: =1-((3.52*V4)/(10^(0.9813*U4)))+((0.274*V4^2)/(10^(0.8157*U4))) -> 1.3571574 | Q5: =205+273.15 -> 478.15 | R5: =0.709*F5 -> 0.7087461 | S5: =103.9+183.3*R5-39.7*R5^2 -> 213.87102 | U5: =Q5/S5 -> 2.2356933 | V5: =D5/T$3 -> 12.447303
A6: 40 | B6: =B$3*C$3/C6 -> 2895.7018 | C6: =1.01325/D6*Q5/288.15*P6 -> 0.0040051865 | D6: =P6*(D$3/P$3)*(1-H5/I$3) -> 569.57483 | F6: =D6/D$3 -> 0.99925408 | G6: =$B6*((D6)-(E$3)) -> 273860.5 | H6: =H5+G6*(A6-A5) -> 10985441 | P6: =1-((3.52*V5)/(10^(0.9813*U5)))+((0.274*V5^2)/(10^(0.8157*U5))) -> 1.3567861 | Q6: =205+273.15 -> 478.15 | R6: =0.709*F6 -> 0.70847115 | S6: =103.9+183.3*R6-39.7*R6^2 -> 213.83609 | U6: =Q6/S6 -> 2.2360585 | V6: =D6/T$3 -> 12.442474
A7: 50 | B7: =B$3*C$3/C7 -> 2895.3712 | C7: =1.01325/D7*Q6/288.15*P7 -> 0.0040056437 | D7: =P7*(D$3/P$3)*(1-H6/I$3) -> 569.26179 | F7: =D7/D$3 -> 0.99870489 | G7: =$B7*((D7)-(E$3)) -> 272922.87 | H7: =H6+G7*(A7-A6) -> 13714670 | P7: =1-((3.52*V6)/(10^(0.9813*U6)))+((0.274*V6^2)/(10^(0.8157*U6))) -> 1.3561952 | Q7: =205+273.15 -> 478.15 | R7: =0.709*F7 -> 0.70808177 | S7: =103.9+183.3*R7-39.7*R7^2 -> 213.78661 | U7: =Q7/S7 -> 2.236576 | V7: =D7/T$3 -> 12.435636
A8: 60 | B8: =B$3*C$3/C8 -> 2895.0418 | C8: =1.01325/D8*Q7/288.15*P8 -> 0.0040060995 | D8: =P8*(D$3/P$3)*(1-H7/I$3) -> 568.84633 | F8: =D8/D$3 -> 0.99797602 | G8: =$B8*((D8)-(E$3)) -> 271689.05 | H8: =H7+G8*(A8-A7) -> 16431560 | P8: =1-((3.52*V7)/(10^(0.9813*U7)))+((0.274*V7^2)/(10^(0.8157*U7))) -> 1.3553596 | Q8: =205+273.15 -> 478.15 | R8: =0.709*F8 -> 0.707565 | S8: =103.9+183.3*R8-39.7*R8^2 -> 213.72093 | U8: =Q8/S8 -> 2.2372633 | V8: =D8/T$3 -> 12.42656
A9: 70 | B9: =B$3*C$3/C9 -> 2894.7139 | C9: =1.01325/D9*Q8/288.15*P9 -> 0.0040065533 | D9: =P9*(D$3/P$3)*(1-H8/I$3) -> 568.31742 | F9: =D9/D$3 -> 0.9970481 | G9: =$B9*((D9)-(E$3)) -> 270127.23 | H9: =H8+G9*(A9-A8) -> 19132833 | P9: =1-((3.52*V8)/(10^(0.9813*U8)))+((0.274*V8^2)/(10^(0.8157*U8))) -> 1.3542528 | Q9: =205+273.15 -> 478.15 | R9: =0.709*F9 -> 0.70690711 | S9: =103.9+183.3*R9-39.7*R9^2 -> 213.63728 | U9: =Q9/S9 -> 2.2381393 | V9: =D9/T$3 -> 12.415006
A10: 80 | B10: =B$3*C$3/C10 -> 2894.3879 | C10: =1.01325/D10*Q9/288.15*P10 -> 0.0040070046 | D10: =P10*(D$3/P$3)*(1-H9/I$3) -> 567.66365 | F10: =D10/D$3 -> 0.99590115 | G10: =$B10*((D10)-(E$3)) -> 268204.56 | H10: =H9+G10*(A10-A9) -> 21814878 | P10: =1-((3.52*V9)/(10^(0.9813*U9)))+((0.274*V9^2)/(10^(0.8157*U9))) -> 1.3528473 | Q10: =205+273.15 -> 478.15 | R10: =0.709*F10 -> 0.70609391 | S10: =103.9+183.3*R10-39.7*R10^2 -> 213.53384 | U10: =Q10/S10 -> 2.2392235 | V10: =D10/T$3 -> 12.400724
A11: 90 | B11: =B$3*C$3/C11 -> 2894.0642 | C11: =1.01325/D11*Q10/288.15*P11 -> 0.0040074528 | D11: =P11*(D$3/P$3)*(1-H10/I$3) -> 566.87357 | F11: =D11/D$3 -> 0.99451504 | G11: =$B11*((D11)-(E$3)) -> 265888.02 | H11: =H10+G11*(A11-A10) -> 24473758 | P11: =1-((3.52*V10)/(10^(0.9813*U10)))+((0.274*V10^2)/(10^(0.8157*U10))) -> 1.3511155 | Q11: =205+273.15 -> 478.15 | R11: =0.709*F11 -> 0.70511117 | S11: =103.9+183.3*R11-39.7*R11^2 -> 213.40876 | U11: =Q11/S11 -> 2.2405359 | V11: =D11/T$3 -> 12.383465
A12: 100 | B12: =B$3*C$3/C12 -> 2893.7433 | C12: =1.01325/D12*Q11/288.15*P12 -> 0.0040078972 | D12: =P12*(D$3/P$3)*(1-H11/I$3) -> 565.93611 | F12: =D12/D$3 -> 0.99287037 | G12: =$B12*((D12)-(E$3)) -> 263145.76 | H12: =H11+G12*(A12-A11) -> 27105216 | P12: =1-((3.52*V11)/(10^(0.9813*U11)))+((0.274*V11^2)/(10^(0.8157*U11))) -> 1.3490307 | Q12: =205+273.15 -> 478.15 | R12: =0.709*F12 -> 0.70394509 | S12: =103.9+183.3*R12-39.7*R12^2 -> 213.26025 | U12: =Q12/S12 -> 2.2420962 | V12: =D12/T$3 -> 12.362986
A13: 110 | B13: =B$3*C$3/C13 -> 2893.4256 | C13: =1.01325/D13*Q12/288.15*P13 -> 0.0040083372 | D13: =P13*(D$3/P$3)*(1-H12/I$3) -> 564.84115 | F13: =D13/D$3 -> 0.99094939 | G13: =$B13*((D13)-(E$3)) -> 259948.7 | H13: =H12+G13*(A13-A12) -> 29704703 | P13: =1-((3.52*V12)/(10^(0.9813*U12)))+((0.274*V12^2)/(10^(0.8157*U12))) -> 1.3465684 | Q13: =205+273.15 -> 478.15 | R13: =0.709*F13 -> 0.70258312 | S13: =103.9+183.3*R13-39.7*R13^2 -> 213.08665 | U13: =Q13/S13 -> 2.2439228 | V13: =D13/T$3 -> 12.339066
A14: 120 | B14: =B$3*C$3/C14 -> 2893.1119 | C14: =1.01325/D14*Q13/288.15*P14 -> 0.0040087719 | D14: =P14*(D$3/P$3)*(1-H13/I$3) -> 563.58026 | F14: =D14/D$3 -> 0.9887373 | G14: =$B14*((D14)-(E$3)) -> 256272.6 | H14: =H13+G14*(A14-A13) -> 32267429 | P14: =1-((3.52*V13)/(10^(0.9813*U13)))+((0.274*V13^2)/(10^(0.8157*U13))) -> 1.3437082 | Q14: =205+273.15 -> 478.15 | R14: =0.709*F14 -> 0.70101474 | S14: =103.9+183.3*R14-39.7*R14^2 -> 212.88656 | U14: =Q14/S14 -> 2.2460319 | V14: =D14/T$3 -> 12.311522
A15: 130 | B15: =B$3*C$3/C15 -> 2892.8026 | C15: =1.01325/D15*Q14/288.15*P15 -> 0.0040092005 | D15: =P15*(D$3/P$3)*(1-H14/I$3) -> 562.14745 | F15: =D15/D$3 -> 0.98622359 | G15: =$B15*((D15)-(E$3)) -> 252100.36 | H15: =H14+G15*(A15-A14) -> 34788433 | P15: =1-((3.52*V14)/(10^(0.9813*U14)))+((0.274*V14^2)/(10^(0.8157*U14))) -> 1.3404353 | Q15: =205+273.15 -> 478.15 | R15: =0.709*F15 -> 0.69923253 | S15: =103.9+183.3*R15-39.7*R15^2 -> 212.65896 | U15: =Q15/S15 -> 2.2484358 | V15: =D15/T$3 -> 12.280222
... A102: 1000 | B102: =B$3*C$3/C102 -> 2879.2963 | C102: =1.01325/D102*Q101/288.15*P102 -> 0.004028007 | D102: =P102*(D$3/P$3)*(1-H101/I$3) -> 508.50164 | F102: =D102/D$3 -> 0.89210815 | G102: =$B102*((D102)-(E$3)) -> 96461.158 | H102: =H101+G102*(A102-A101) -> 1.451356e+08 | P102: =1-((3.52*V101)/(10^(0.9813*U101)))+((0.274*V101^2)/(10^(0.8157*U101))) -> 1.2182051 | Q102: =205+273.15 -> 478.15 | R102: =0.709*F102 -> 0.63250468 | S102: =103.9+183.3*R102-39.7*R102^2 -> 203.95564 | U102: =Q102/S102 -> 2.3443823 | V102: =D102/T$3 -> 11.108319

Sheet J változás 14.
A2: t | B2: J | C2: B | D2: pi (bar) | E2: pwf (bar) | G2: Q m^3/nap | H2: Gp | I2: G (nm^3) | P2: zi | Q2: T (K) | R2: relatív sűrűség | S2: Tpc | T2: Ppc | U2: Tpr | V2: Ppr
A3: 10 | B3: ='fő munkalap'!P31 -> 2939.659 | C3: ='fő munkalap'!C12 -> 0.0040038102 | D3: ='fő munkalap'!C3 -> 570 | E3: ='fő munkalap'!C4 -> 475 | G3: =$B3*((D3)-(E$3)) -> 279267.6 | H3: =G3*A3 -> 2792676 | I3: =24*10^9 -> 24000000000 | P3: =1-((3.52*V3)/(10^(0.9813*U3)))+((0.274*V3^2)/(10^(0.8157*U3))) -> 1.3573323 | Q3: =205+273.15 -> 478.15 | R3: 0.709 | S3: =103.9+183.3*R3-39.7*R3^2 -> 213.90326 | T3: =48.69-3.566*R3-0.766*R3^2 -> 45.776652 | U3: =Q3/S3 -> 2.2353563 | V3: =D3/T$3 -> 12.451762
A4: 20 | B4: =B$3*C$3/C4 -> 2939.3169 | C4: =1.01325/D4*Q3/288.15*P4 -> 0.0040042762 | D4: =P4*(D$3/P$3)*(1-H3/I$3) -> 569.93367 | F4: =D4/D$3 -> 0.99988364 | G4: =$B4*((D4)-(E$3)) -> 279040.15 | H4: =H3+G4*(A4-A3) -> 5583077.5 | P4: =1-((3.52*V3)/(10^(0.9813*U3)))+((0.274*V3^2)/(10^(0.8157*U3))) -> 1.3573323 | Q4: =205+273.15 -> 478.15 | R4: =0.709*F4 -> 0.7089175 | S4: =103.9+183.3*R4-39.7*R4^2 -> 213.89279 | U4: =Q4/S4 -> 2.2354658 | V4: =D4/T$3 -> 12.450314
A5: 30 | B5: =B$3*C$3/C5 -> 2938.9751 | C5: =1.01325/D5*Q4/288.15*P5 -> 0.0040047419 | D5: =P5*(D$3/P$3)*(1-H4/I$3) -> 569.79285 | F5: =D5/D$3 -> 0.99963659 | G5: =$B5*((D5)-(E$3)) -> 278593.84 | H5: =H4+G5*(A5-A4) -> 8369015.9 | P5: =1-((3.52*V4)/(10^(0.9813*U4)))+((0.274*V4^2)/(10^(0.8157*U4))) -> 1.3571548 | Q5: =205+273.15 -> 478.15 | R5: =0.709*F5 -> 0.70874234 | S5: =103.9+183.3*R5-39.7*R5^2 -> 213.87054 | U5: =Q5/S5 -> 2.2356983 | V5: =D5/T$3 -> 12.447237
A6: 40 | B6: =B$3*C$3/C6 -> 2938.6339 | C6: =1.01325/D6*Q5/288.15*P6 -> 0.0040052069 | D6: =P6*(D$3/P$3)*(1-H5/I$3) -> 569.56853 | F6: =D6/D$3 -> 0.99924303 | G6: =$B6*((D6)-(E$3)) -> 277902.28 | H6: =H5+G6*(A6-A5) -> 11148039 | P6: =1-((3.52*V5)/(10^(0.9813*U5)))+((0.274*V5^2)/(10^(0.8157*U5))) -> 1.356778 | Q6: =205+273.15 -> 478.15 | R6: =0.709*F6 -> 0.70846331 | S6: =103.9+183.3*R6-39.7*R6^2 -> 213.83509 | U6: =Q6/S6 -> 2.2360689 | V6: =D6/T$3 -> 12.442337
A7: 50 | B7: =B$3*C$3/C7 -> 2938.2935 | C7: =1.01325/D7*Q6/288.15*P7 -> 0.0040056709 | D7: =P7*(D$3/P$3)*(1-H6/I$3) -> 569.25087 | F7: =D7/D$3 -> 0.99868573 | G7: =$B7*((D7)-(E$3)) -> 276936.71 | H7: =H6+G7*(A7-A6) -> 13917406 | P7: =1-((3.52*V6)/(10^(0.9813*U6)))+((0.274*V6^2)/(10^(0.8157*U6))) -> 1.3561784 | Q7: =205+273.15 -> 478.15 | R7: =0.709*F7 -> 0.70806818 | S7: =103.9+183.3*R7-39.7*R7^2 -> 213.78488 | U7: =Q7/S7 -> 2.2365941 | V7: =D7/T$3 -> 12.435397
A8: 60 | B8: =B$3*C$3/C8 -> 2937.9543 | C8: =1.01325/D8*Q7/288.15*P8 -> 0.0040061334 | D8: =P8*(D$3/P$3)*(1-H7/I$3) -> 568.8293 | F8: =D8/D$3 -> 0.99794614 | G8: =$B8*((D8)-(E$3)) -> 275666.18 | H8: =H7+G8*(A8-A7) -> 16674068 | P8: =1-((3.52*V7)/(10^(0.9813*U7)))+((0.274*V7^2)/(10^(0.8157*U7))) -> 1.3553305 | Q8: =205+273.15 -> 478.15 | R8: =0.709*F8 -> 0.70754381 | S8: =103.9+183.3*R8-39.7*R8^2 -> 213.71824 | U8: =Q8/S8 -> 2.2372915 | V8: =D8/T$3 -> 12.426188
A9: 70 | B9: =B$3*C$3/C9 -> 2937.6166 | C9: =1.01325/D9*Q8/288.15*P9 -> 0.0040065938 | D9: =P9*(D$3/P$3)*(1-H8/I$3) -> 568.29265 | F9: =D9/D$3 -> 0.99700466 | G9: =$B9*((D9)-(E$3)) -> 274058.05 | H9: =H8+G9*(A9-A8) -> 19414648 | P9: =1-((3.52*V8)/(10^(0.9813*U8)))+((0.274*V8^2)/(10^(0.8157*U8))) -> 1.3542075 | Q9: =205+273.15 -> 478.15 | R9: =0.709*F9 -> 0.7068763 | S9: =103.9+183.3*R9-39.7*R9^2 -> 213.63336 | U9: =Q9/S9 -> 2.2381804 | V9: =D9/T$3 -> 12.414465
A10: 80 | B10: =B$3*C$3/C10 -> 2937.2809 | C10: =1.01325/D10*Q9/288.15*P10 -> 0.0040070517 | D10: =P10*(D$3/P$3)*(1-H9/I$3) -> 567.62941 | F10: =D10/D$3 -> 0.99584107 | G10: =$B10*((D10)-(E$3)) -> 272078.6 | H10: =H9+G10*(A10-A9) -> 22135434 | P10: =1-((3.52*V9)/(10^(0.9813*U9)))+((0.274*V9^2)/(10^(0.8157*U9))) -> 1.3527816 | Q10: =205+273.15 -> 478.15 | R10: =0.709*F10 -> 0.70605132 | S10: =103.9+183.3*R10-39.7*R10^2 -> 213.52842 | U10: =Q10/S10 -> 2.2392804 | V10: =D10/T$3 -> 12.399976
A11: 90 | B11: =B$3*C$3/C11 -> 2936.9477 | C11: =1.01325/D11*Q10/288.15*P11 -> 0.0040075064 | D11: =P11*(D$3/P$3)*(1-H10/I$3) -> 566.82801 | F11: =D11/D$3 -> 0.9944351 | G11: =$B11*((D11)-(E$3)) -> 269694.05 | H11: =H10+G11*(A11-A10) -> 24832375 | P11: =1-((3.52*V10)/(10^(0.9813*U10)))+((0.274*V10^2)/(10^(0.8157*U10))) -> 1.351025 | Q11: =205+273.15 -> 478.15 | R11: =0.709*F11 -> 0.70505449 | S11: =103.9+183.3*R11-39.7*R11^2 -> 213.40154 | U11: =Q11/S11 -> 2.2406117 | V11: =D11/T$3 -> 12.38247
A12: 100 | B12: =B$3*C$3/C12 -> 2936.6173 | C12: =1.01325/D12*Q11/288.15*P12 -> 0.0040079572 | D12: =P12*(D$3/P$3)*(1-H11/I$3) -> 565.87732 | F12: =D12/D$3 -> 0.99276722 | G12: =$B12*((D12)-(E$3)) -> 266871.91 | H12: =H11+G12*(A12-A11) -> 27501094 | P12: =1-((3.52*V11)/(10^(0.9813*U11)))+((0.274*V11^2)/(10^(0.8157*U11))) -> 1.3489107 | Q12: =205+273.15 -> 478.15 | R12: =0.709*F12 -> 0.70387196 | S12: =103.9+183.3*R12-39.7*R12^2 -> 213.25093 | U12: =Q12/S12 -> 2.2421942 | V12: =D12/T$3 -> 12.361702
A13: 110 | B13: =B$3*C$3/C13 -> 2936.2905 | C13: =1.01325/D13*Q12/288.15*P13 -> 0.0040084034 | D13: =P13*(D$3/P$3)*(1-H12/I$3) -> 564.76723 | F13: =D13/D$3 -> 0.9908197 | G13: =$B13*((D13)-(E$3)) -> 263582.65 | H13: =H12+G13*(A13-A12) -> 30136920 | P13: =1-((3.52*V12)/(10^(0.9813*U12)))+((0.274*V12^2)/(10^(0.8157*U12))) -> 1.3464144 | Q13: =205+273.15 -> 478.15 | R13: =0.709*F13 -> 0.70249116 | S13: =103.9+183.3*R13-39.7*R13^2 -> 213.07493 | U13: =Q13/S13 -> 2.2440463 | V13: =D13/T$3 -> 12.337451
A14: 120 | B14: =B$3*C$3/C14 -> 2935.9676 | C14: =1.01325/D14*Q13/288.15*P14 -> 0.0040088442 | D14: =P14*(D$3/P$3)*(1-H13/I$3) -> 563.48936 | F14: =D14/D$3 -> 0.98857782 | G14: =$B14*((D14)-(E$3)) -> 259801.88 | H14: =H13+G14*(A14-A13) -> 32734939 | P14: =1-((3.52*V13)/(10^(0.9813*U13)))+((0.274*V13^2)/(10^(0.8157*U13))) -> 1.3435157 | Q14: =205+273.15 -> 478.15 | R14: =0.709*F14 -> 0.70090167 | S14: =103.9+183.3*R14-39.7*R14^2 -> 212.87213 | U14: =Q14/S14 -> 2.2461841 | V14: =D14/T$3 -> 12.309536
A15: 130 | B15: =B$3*C$3/C15 -> 2935.6494 | C15: =1.01325/D15*Q14/288.15*P15 -> 0.0040092787 | D15: =P15*(D$3/P$3)*(1-H14/I$3) -> 562.03789 | F15: =D15/D$3 -> 0.98603139 | G15: =$B15*((D15)-(E$3)) -> 255512.74 | H15: =H14+G15*(A15-A14) -> 35290067 | P15: =1-((3.52*V14)/(10^(0.9813*U14)))+((0.274*V14^2)/(10^(0.8157*U14))) -> 1.3402003 | Q15: =205+273.15 -> 478.15 | R15: =0.709*F15 -> 0.69909626 | S15: =103.9+183.3*R15-39.7*R15^2 -> 212.64154 | U15: =Q15/S15 -> 2.2486199 | V15: =D15/T$3 -> 12.277829
... A102: 1000 | B102: =B$3*C$3/C102 -> 2921.7932 | C102: =1.01325/D102*Q101/288.15*P102 -> 0.0040282922 | D102: =P102*(D$3/P$3)*(1-H101/I$3) -> 508.33648 | F102: =D102/D$3 -> 0.89181839 | G102: =$B102*((D102)-(E$3)) -> 97402.306 | H102: =H101+G102*(A102-A101) -> 1.4683417e+08 | P102: =1-((3.52*V101)/(10^(0.9813*U101)))+((0.274*V101^2)/(10^(0.8157*U101))) -> 1.2178957 | Q102: =205+273.15 -> 478.15 | R102: =0.709*F102 -> 0.63229924 | S102: =103.9+183.3*R102-39.7*R102^2 -> 203.9283 | U102: =Q102/S102 -> 2.3446967 | V102: =D102/T$3 -> 11.104711

Sheet J változás 15.
A2: t | B2: J | C2: B | D2: pi (bar) | E2: pwf (bar) | G2: Q m^3/nap | H2: Gp | I2: G (nm^3) | P2: zi | Q2: T (K) | R2: relatív sűrűség | S2: Tpc | T2: Ppc | U2: Tpr | V2: Ppr
A3: 10 | B3: ='fő munkalap'!Q31 -> 2980.817 | C3: ='fő munkalap'!C12 -> 0.0040038102 | D3: ='fő munkalap'!C3 -> 570 | E3: ='fő munkalap'!C4 -> 475 | G3: =$B3*((D3)-(E$3)) -> 283177.61 | H3: =G3*A3 -> 2831776.1 | I3: =24*10^9 -> 24000000000 | P3: =1-((3.52*V3)/(10^(0.9813*U3)))+((0.274*V3^2)/(10^(0.8157*U3))) -> 1.3573323 | Q3: =205+273.15 -> 478.15 | R3: 0.709 | S3: =103.9+183.3*R3-39.7*R3^2 -> 213.90326 | T3: =48.69-3.566*R3-0.766*R3^2 -> 45.776652 | U3: =Q3/S3 -> 2.2353563 | V3: =D3/T$3 -> 12.451762
A4: 20 | B4: =B$3*C$3/C4 -> 2980.4652 | C4: =1.01325/D4*Q3/288.15*P4 -> 0.0040042827 | D4: =P4*(D$3/P$3)*(1-H3/I$3) -> 569.93275 | F4: =D4/D$3 -> 0.99988201 | G4: =$B4*((D4)-(E$3)) -> 282943.75 | H4: =H3+G4*(A4-A3) -> 5661213.6 | P4: =1-((3.52*V3)/(10^(0.9813*U3)))+((0.274*V3^2)/(10^(0.8157*U3))) -> 1.3573323 | Q4: =205+273.15 -> 478.15 | R4: =0.709*F4 -> 0.70891634 | S4: =103.9+183.3*R4-39.7*R4^2 -> 213.89264 | U4: =Q4/S4 -> 2.2354673 | V4: =D4/T$3 -> 12.450293
A5: 30 | B5: =B$3*C$3/C5 -> 2980.1138 | C5: =1.01325/D5*Q4/288.15*P5 -> 0.0040047549 | D5: =P5*(D$3/P$3)*(1-H4/I$3) -> 569.78996 | F5: =D5/D$3 -> 0.9996315 | G5: =$B5*((D5)-(E$3)) -> 282484.86 | H5: =H4+G5*(A5-A4) -> 8486062.2 | P5: =1-((3.52*V4)/(10^(0.9813*U4)))+((0.274*V4^2)/(10^(0.8157*U4))) -> 1.3571523 | Q5: =205+273.15 -> 478.15 | R5: =0.709*F5 -> 0.70873873 | S5: =103.9+183.3*R5-39.7*R5^2 -> 213.87008 | U5: =Q5/S5 -> 2.2357031 | V5: =D5/T$3 -> 12.447174
A6: 40 | B6: =B$3*C$3/C6 -> 2979.763 | C6: =1.01325/D6*Q5/288.15*P6 -> 0.0040052264 | D6: =P6*(D$3/P$3)*(1-H5/I$3) -> 569.5625 | F6: =D6/D$3 -> 0.99923245 | G6: =$B6*((D6)-(E$3)) -> 281773.82 | H6: =H5+G6*(A6-A5) -> 11303800 | P6: =1-((3.52*V5)/(10^(0.9813*U5)))+((0.274*V5^2)/(10^(0.8157*U5))) -> 1.3567702 | Q6: =205+273.15 -> 478.15 | R6: =0.709*F6 -> 0.70845581 | S6: =103.9+183.3*R6-39.7*R6^2 -> 213.83414 | U6: =Q6/S6 -> 2.2360789 | V6: =D6/T$3 -> 12.442205
A7: 50 | B7: =B$3*C$3/C7 -> 2979.413 | C7: =1.01325/D7*Q6/288.15*P7 -> 0.0040056969 | D7: =P7*(D$3/P$3)*(1-H6/I$3) -> 569.24041 | F7: =D7/D$3 -> 0.99866738 | G7: =$B7*((D7)-(E$3)) -> 280781.09 | H7: =H6+G7*(A7-A6) -> 14111611 | P7: =1-((3.52*V6)/(10^(0.9813*U6)))+((0.274*V6^2)/(10^(0.8157*U6))) -> 1.3561623 | Q7: =205+273.15 -> 478.15 | R7: =0.709*F7 -> 0.70805517 | S7: =103.9+183.3*R7-39.7*R7^2 -> 213.78323 | U7: =Q7/S7 -> 2.2366114 | V7: =D7/T$3 -> 12.435169
A8: 60 | B8: =B$3*C$3/C8 -> 2979.0643 | C8: =1.01325/D8*Q7/288.15*P8 -> 0.0040061658 | D8: =P8*(D$3/P$3)*(1-H7/I$3) -> 568.81298 | F8: =D8/D$3 -> 0.99791751 | G8: =$B8*((D8)-(E$3)) -> 279474.91 | H8: =H7+G8*(A8-A7) -> 16906360 | P8: =1-((3.52*V7)/(10^(0.9813*U7)))+((0.274*V7^2)/(10^(0.8157*U7))) -> 1.3553026 | Q8: =205+273.15 -> 478.15 | R8: =0.709*F8 -> 0.70752352 | S8: =103.9+183.3*R8-39.7*R8^2 -> 213.71566 | U8: =Q8/S8 -> 2.2373185 | V8: =D8/T$3 -> 12.425832
A9: 70 | B9: =B$3*C$3/C9 -> 2978.7172 | C9: =1.01325/D9*Q8/288.15*P9 -> 0.0040066326 | D9: =P9*(D$3/P$3)*(1-H8/I$3) -> 568.26893 | F9: =D9/D$3 -> 0.99696304 | G9: =$B9*((D9)-(E$3)) -> 277821.77 | H9: =H8+G9*(A9-A8) -> 19684578 | P9: =1-((3.52*V8)/(10^(0.9813*U8)))+((0.274*V8^2)/(10^(0.8157*U8))) -> 1.3541641 | Q9: =205+273.15 -> 478.15 | R9: =0.709*F9 -> 0.7068468 | S9: =103.9+183.3*R9-39.7*R9^2 -> 213.62961 | U9: =Q9/S9 -> 2.2382197 | V9: =D9/T$3 -> 12.413947
A10: 80 | B10: =B$3*C$3/C10 -> 2978.3721 | C10: =1.01325/D10*Q9/288.15*P10 -> 0.0040070968 | D10: =P10*(D$3/P$3)*(1-H9/I$3) -> 567.59661 | F10: =D10/D$3 -> 0.99578353 | G10: =$B10*((D10)-(E$3)) -> 275787.17 | H10: =H9+G10*(A10-A9) -> 22442450 | P10: =1-((3.52*V9)/(10^(0.9813*U9)))+((0.274*V9^2)/(10^(0.8157*U9))) -> 1.3527187 | Q10: =205+273.15 -> 478.15 | R10: =0.709*F10 -> 0.70601053 | S10: =103.9+183.3*R10-39.7*R10^2 -> 213.52323 | U10: =Q10/S10 -> 2.2393348 | V10: =D10/T$3 -> 12.39926
A11: 90 | B11: =B$3*C$3/C11 -> 2978.0296 | C11: =1.01325/D11*Q10/288.15*P11 -> 0.0040075577 | D11: =P11*(D$3/P$3)*(1-H10/I$3) -> 566.78438 | F11: =D11/D$3 -> 0.99435855 | G11: =$B11*((D11)-(E$3)) -> 273336.58 | H11: =H10+G11*(A11-A10) -> 25175816 | P11: =1-((3.52*V10)/(10^(0.9813*U10)))+((0.274*V10^2)/(10^(0.8157*U10))) -> 1.3509383 | Q11: =205+273.15 -> 478.15 | R11: =0.709*F11 -> 0.70500021 | S11: =103.9+183.3*R11-39.7*R11^2 -> 213.39463 | U11: =Q11/S11 -> 2.2406843 | V11: =D11/T$3 -> 12.381516
A12: 100 | B12: =B$3*C$3/C12 -> 2977.6901 | C12: =1.01325/D12*Q11/288.15*P12 -> 0.0040080146 | D12: =P12*(D$3/P$3)*(1-H11/I$3) -> 565.82103 | F12: =D12/D$3 -> 0.99266848 | G12: =$B12*((D12)-(E$3)) -> 270436.89 | H12: =H11+G12*(A12-A11) -> 27880185 | P12: =1-((3.52*V11)/(10^(0.9813*U11)))+((0.274*V11^2)/(10^(0.8157*U11))) -> 1.3487959 | Q12: =205+273.15 -> 478.15 | R12: =0.709*F12 -> 0.70380195 | S12: =103.9+183.3*R12-39.7*R12^2 -> 213.24201 | U12: =Q12/S12 -> 2.242288 | V12: =D12/T$3 -> 12.360472
A13: 110 | B13: =B$3*C$3/C13 -> 2977.3542 | C13: =1.01325/D13*Q12/288.15*P13 -> 0.0040084668 | D13: =P13*(D$3/P$3)*(1-H12/I$3) -> 564.69647 | F13: =D13/D$3 -> 0.99069556 | G13: =$B13*((D13)-(E$3)) -> 267058.17 | H13: =H12+G13*(A13-A12) -> 30550766 | P13: =1-((3.52*V12)/(10^(0.9813*U12)))+((0.274*V12^2)/(10^(0.8157*U12))) -> 1.346267 | Q13: =205+273.15 -> 478.15 | R13: =0.709*F13 -> 0.70240315 | S13: =103.9+183.3*R13-39.7*R13^2 -> 213.0637 | U13: =Q13/S13 -> 2.2441645 | V13: =D13/T$3 -> 12.335906
A14: 120 | B14: =B$3*C$3/C14 -> 2977.0225 | C14: =1.01325/D14*Q13/288.15*P14 -> 0.0040089134 | D14: =P14*(D$3/P$3)*(1-H13/I$3) -> 563.40238 | F14: =D14/D$3 -> 0.98842524 | G14: =$B14*((D14)-(E$3)) -> 263175.89 | H14: =H13+G14*(A14-A13) -> 33182525 | P14: =1-((3.52*V13)/(10^(0.9813*U13)))+((0.274*V13^2)/(10^(0.8157*U13))) -> 1.3433315 | Q14: =205+273.15 -> 478.15 | R14: =0.709*F14 -> 0.70079349 | S14: =103.9+183.3*R14-39.7*R14^2 -> 212.85832 | U14: =Q14/S14 -> 2.2463299 | V14: =D14/T$3 -> 12.307636
A15: 130 | B15: =B$3*C$3/C15 -> 2976.6957 | C15: =1.01325/D15*Q14/288.15*P15 -> 0.0040093536 | D15: =P15*(D$3/P$3)*(1-H14/I$3) -> 561.93312 | F15: =D15/D$3 -> 0.98584758 | G15: =$B15*((D15)-(E$3)) -> 258773.44 | H15: =H14+G15*(A15-A14) -> 35770260 | P15: =1-((3.52*V14)/(10^(0.9813*U14)))+((0.274*V14^2)/(10^(0.8157*U14))) -> 1.3399754 | Q15: =205+273.15 -> 478.15 | R15: =0.709*F15 -> 0.69896593 | S15: =103.9+183.3*R15-39.7*R15^2 -> 212.62489 | U15: =Q15/S15 -> 2.248796 | V15: =D15/T$3 -> 12.27554
... A102: 1000 | B102: =B$3*C$3/C102 -> 2962.501 | C102: =1.01325/D102*Q101/288.15*P102 -> 0.0040285641 | D102: =P102*(D$3/P$3)*(1-H101/I$3) -> 508.17967 | F102: =D102/D$3 -> 0.89154329 | G102: =$B102*((D102)-(E$3)) -> 98294.815 | H102: =H101+G102*(A102-A101) -> 1.4845318e+08 | P102: =1-((3.52*V101)/(10^(0.9813*U101)))+((0.274*V101^2)/(10^(0.8157*U101))) -> 1.2176022 | Q102: =205+273.15 -> 478.15 | R102: =0.709*F102 -> 0.63210419 | S102: =103.9+183.3*R102-39.7*R102^2 -> 203.90234 | U102: =Q102/S102 -> 2.3449952 | V102: =D102/T$3 -> 11.101285

Sheet J változás 16.
A2: t | B2: J | C2: B | D2: pi (bar) | E2: pwf (bar) | G2: Q m^3/nap | H2: Gp | I2: G (nm^3) | P2: zi | Q2: T (K) | R2: relatív sűrűség | S2: Tpc | T2: Ppc | U2: Tpr | V2: Ppr
A3: 10 | B3: ='fő munkalap'!R31 -> 3020.3748 | C3: ='fő munkalap'!C12 -> 0.0040038102 | D3: ='fő munkalap'!C3 -> 570 | E3: ='fő munkalap'!C4 -> 475 | G3: =$B3*((D3)-(E$3)) -> 286935.61 | H3: =G3*A3 -> 2869356.1 | I3: =24*10^9 -> 24000000000 | P3: =1-((3.52*V3)/(10^(0.9813*U3)))+((0.274*V3^2)/(10^(0.8157*U3))) -> 1.3573323 | Q3: =205+273.15 -> 478.15 | R3: 0.709 | S3: =103.9+183.3*R3-39.7*R3^2 -> 213.90326 | T3: =48.69-3.566*R3-0.766*R3^2 -> 45.776652 | U3: =Q3/S3 -> 2.2353563 | V3: =D3/T$3 -> 12.451762
A4: 20 | B4: =B$3*C$3/C4 -> 3020.0137 | C4: =1.01325/D4*Q3/288.15*P4 -> 0.004004289 | D4: =P4*(D$3/P$3)*(1-H3/I$3) -> 569.93185 | F4: =D4/D$3 -> 0.99988044 | G4: =$B4*((D4)-(E$3)) -> 286695.5 | H4: =H3+G4*(A4-A3) -> 5736311.1 | P4: =1-((3.52*V3)/(10^(0.9813*U3)))+((0.274*V3^2)/(10^(0.8157*U3))) -> 1.3573323 | Q4: =205+273.15 -> 478.15 | R4: =0.709*F4 -> 0.70891523 | S4: =103.9+183.3*R4-39.7*R4^2 -> 213.8925 | U4: =Q4/S4 -> 2.2354688 | V4: =D4/T$3 -> 12.450274
A5: 30 | B5: =B$3*C$3/C5 -> 3019.6529 | C5: =1.01325/D5*Q4/288.15*P5 -> 0.0040047674 | D5: =P5*(D$3/P$3)*(1-H4/I$3) -> 569.78717 | F5: =D5/D$3 -> 0.99962661 | G5: =$B5*((D5)-(E$3)) -> 286224.35 | H5: =H4+G5*(A5-A4) -> 8598554.6 | P5: =1-((3.52*V4)/(10^(0.9813*U4)))+((0.274*V4^2)/(10^(0.8157*U4))) -> 1.3571499 | Q5: =205+273.15 -> 478.15 | R5: =0.709*F5 -> 0.70873527 | S5: =103.9+183.3*R5-39.7*R5^2 -> 213.86964 | U5: =Q5/S5 -> 2.2357077 | V5: =D5/T$3 -> 12.447113
A6: 40 | B6: =B$3*C$3/C6 -> 3019.2927 | C6: =1.01325/D6*Q5/288.15*P6 -> 0.0040052452 | D6: =P6*(D$3/P$3)*(1-H5/I$3) -> 569.5567 | F6: =D6/D$3 -> 0.99922228 | G6: =$B6*((D6)-(E$3)) -> 285494.35 | H6: =H5+G6*(A6-A5) -> 11453498 | P6: =1-((3.52*V5)/(10^(0.9813*U5)))+((0.274*V5^2)/(10^(0.8157*U5))) -> 1.3567628 | Q6: =205+273.15 -> 478.15 | R6: =0.709*F6 -> 0.70844859 | S6: =103.9+183.3*R6-39.7*R6^2 -> 213.83322 | U6: =Q6/S6 -> 2.2360885 | V6: =D6/T$3 -> 12.442078
A7: 50 | B7: =B$3*C$3/C7 -> 3018.9334 | C7: =1.01325/D7*Q6/288.15*P7 -> 0.0040057219 | D7: =P7*(D$3/P$3)*(1-H6/I$3) -> 569.23035 | F7: =D7/D$3 -> 0.99864974 | G7: =$B7*((D7)-(E$3)) -> 284475.16 | H7: =H6+G7*(A7-A6) -> 14298250 | P7: =1-((3.52*V6)/(10^(0.9813*U6)))+((0.274*V6^2)/(10^(0.8157*U6))) -> 1.3561468 | Q7: =205+273.15 -> 478.15 | R7: =0.709*F7 -> 0.70804267 | S7: =103.9+183.3*R7-39.7*R7^2 -> 213.78164 | U7: =Q7/S7 -> 2.236628 | V7: =D7/T$3 -> 12.434949
A8: 60 | B8: =B$3*C$3/C8 -> 3018.5754 | C8: =1.01325/D8*Q7/288.15*P8 -> 0.004006197 | D8: =P8*(D$3/P$3)*(1-H7/I$3) -> 568.7973 | F8: =D8/D$3 -> 0.99789001 | G8: =$B8*((D8)-(E$3)) -> 283134.24 | H8: =H7+G8*(A8-A7) -> 17129592 | P8: =1-((3.52*V7)/(10^(0.9813*U7)))+((0.274*V7^2)/(10^(0.8157*U7))) -> 1.3552758 | Q8: =205+273.15 -> 478.15 | R8: =0.709*F8 -> 0.70750402 | S8: =103.9+183.3*R8-39.7*R8^2 -> 213.71318 | U8: =Q8/S8 -> 2.2373445 | V8: =D8/T$3 -> 12.425489
A9: 70 | B9: =B$3*C$3/C9 -> 3018.2191 | C9: =1.01325/D9*Q8/288.15*P9 -> 0.0040066699 | D9: =P9*(D$3/P$3)*(1-H8/I$3) -> 568.24614 | F9: =D9/D$3 -> 0.99692305 | G9: =$B9*((D9)-(E$3)) -> 281437.28 | H9: =H8+G9*(A9-A8) -> 19943965 | P9: =1-((3.52*V8)/(10^(0.9813*U8)))+((0.274*V8^2)/(10^(0.8157*U8))) -> 1.3541224 | Q9: =205+273.15 -> 478.15 | R9: =0.709*F9 -> 0.70681844 | S9: =103.9+183.3*R9-39.7*R9^2 -> 213.62601 | U9: =Q9/S9 -> 2.2382575 | V9: =D9/T$3 -> 12.413449
A10: 80 | B10: =B$3*C$3/C10 -> 3017.8649 | C10: =1.01325/D10*Q9/288.15*P10 -> 0.0040071402 | D10: =P10*(D$3/P$3)*(1-H9/I$3) -> 567.5651 | F10: =D10/D$3 -> 0.99572825 | G10: =$B10*((D10)-(E$3)) -> 279348.98 | H10: =H9+G10*(A10-A9) -> 22737455 | P10: =1-((3.52*V9)/(10^(0.9813*U9)))+((0.274*V9^2)/(10^(0.8157*U9))) -> 1.3526582 | Q10: =205+273.15 -> 478.15 | R10: =0.709*F10 -> 0.70597133 | S10: =103.9+183.3*R10-39.7*R10^2 -> 213.51824 | U10: =Q10/S10 -> 2.2393871 | V10: =D10/T$3 -> 12.398572
A11: 90 | B11: =B$3*C$3/C11 -> 3017.5133 | C11: =1.01325/D11*Q10/288.15*P11 -> 0.004007607 | D11: =P11*(D$3/P$3)*(1-H10/I$3) -> 566.74246 | F11: =D11/D$3 -> 0.99428502 | G11: =$B11*((D11)-(E$3)) -> 276834.09 | H11: =H10+G11*(A11-A10) -> 25505796 | P11: =1-((3.52*V10)/(10^(0.9813*U10)))+((0.274*V10^2)/(10^(0.8157*U10))) -> 1.350855 | Q11: =205+273.15 -> 478.15 | R11: =0.709*F11 -> 0.70494808 | S11: =103.9+183.3*R11-39.7*R11^2 -> 213.388 | U11: =Q11/S11 -> 2.240754 | V11: =D11/T$3 -> 12.380601
A12: 100 | B12: =B$3*C$3/C12 -> 3017.165 | C12: =1.01325/D12*Q11/288.15*P12 -> 0.0040080698 | D12: =P12*(D$3/P$3)*(1-H11/I$3) -> 565.76697 | F12: =D12/D$3 -> 0.99257364 | G12: =$B12*((D12)-(E$3)) -> 273858.93 | H12: =H11+G12*(A12-A11) -> 28244385 | P12: =1-((3.52*V11)/(10^(0.9813*U11)))+((0.274*V11^2)/(10^(0.8157*U11))) -> 1.3486856 | Q12: =205+273.15 -> 478.15 | R12: =0.709*F12 -> 0.70373471 | S12: =103.9+183.3*R12-39.7*R12^2 -> 213.23344 | U12: =Q12/S12 -> 2.2423781 | V12: =D12/T$3 -> 12.359291
A13: 110 | B13: =B$3*C$3/C13 -> 3016.8203 | C13: =1.01325/D13*Q12/288.15*P13 -> 0.0040085277 | D13: =P13*(D$3/P$3)*(1-H12/I$3) -> 564.62853 | F13: =D13/D$3 -> 0.99057637 | G13: =$B13*((D13)-(E$3)) -> 270393.17 | H13: =H12+G13*(A13-A12) -> 30948316 | P13: =1-((3.52*V12)/(10^(0.9813*U12)))+((0.274*V12^2)/(10^(0.8157*U12))) -> 1.3461255 | Q13: =205+273.15 -> 478.15 | R13: =0.709*F13 -> 0.70231865 | S13: =103.9+183.3*R13-39.7*R13^2 -> 213.05292 | U13: =Q13/S13 -> 2.244278 | V13: =D13/T$3 -> 12.334422
A14: 120 | B14: =B$3*C$3/C14 -> 3016.48 | C14: =1.01325/D14*Q13/288.15*P14 -> 0.0040089799 | D14: =P14*(D$3/P$3)*(1-H13/I$3) -> 563.3189 | F14: =D14/D$3 -> 0.98827877 | G14: =$B14*((D14)-(E$3)) -> 266412.19 | H14: =H13+G14*(A14-A13) -> 33612438 | P14: =1-((3.52*V13)/(10^(0.9813*U13)))+((0.274*V13^2)/(10^(0.8157*U13))) -> 1.3431547 | Q14: =205+273.15 -> 478.15 | R14: =0.709*F14 -> 0.70068965 | S14: =103.9+183.3*R14-39.7*R14^2 -> 212.84506 | U14: =Q14/S14 -> 2.2464698 | V14: =D14/T$3 -> 12.305812
A15: 130 | B15: =B$3*C$3/C15 -> 3016.1447 | C15: =1.01325/D15*Q14/288.15*P15 -> 0.0040094255 | D15: =P15*(D$3/P$3)*(1-H14/I$3) -> 561.83258 | F15: =D15/D$3 -> 0.98567119 | G15: =$B15*((D15)-(E$3)) -> 261899.63 | H15: =H14+G15*(A15-A14) -> 36231435 | P15: =1-((3.52*V14)/(10^(0.9813*U14)))+((0.274*V14^2)/(10^(0.8157*U14))) -> 1.3397597 | Q15: =205+273.15 -> 478.15 | R15: =0.709*F15 -> 0.69884088 | S15: =103.9+183.3*R15-39.7*R15^2 -> 212.6089 | U15: =Q15/S15 -> 2.2489651 | V15: =D15/T$3 -> 12.273344
... A102: 1000 | B102: =B$3*C$3/C102 -> 3001.622 | C102: =1.01325/D102*Q101/288.15*P102 -> 0.0040288242 | D102: =P102*(D$3/P$3)*(1-H101/I$3) -> 508.03024 | F102: =D102/D$3 -> 0.89128113 | G102: =$B102*((D102)-(E$3)) -> 99144.308 | H102: =H101+G102*(A102-A101) -> 1.5000172e+08 | P102: =1-((3.52*V101)/(10^(0.9813*U101)))+((0.274*V101^2)/(10^(0.8157*U101))) -> 1.2173228 | Q102: =205+273.15 -> 478.15 | R102: =0.709*F102 -> 0.63191832 | S102: =103.9+183.3*R102-39.7*R102^2 -> 203.87759 | U102: =Q102/S102 -> 2.3452798 | V102: =D102/T$3 -> 11.098021

Sheet J változás 17.
A2: t | B2: J | C2: B | D2: pi (bar) | E2: pwf (bar) | G2: Q m^3/nap | H2: Gp | I2: G (nm^3) | P2: zi | Q2: T (K) | R2: relatív sűrűség | S2: Tpc | T2: Ppc | U2: Tpr | V2: Ppr
A3: 10 | B3: ='fő munkalap'!S31 -> 3058.5022 | C3: ='fő munkalap'!C12 -> 0.0040038102 | D3: ='fő munkalap'!C3 -> 570 | E3: ='fő munkalap'!C4 -> 475 | G3: =$B3*((D3)-(E$3)) -> 290557.71 | H3: =G3*A3 -> 2905577.1 | I3: =24*10^9 -> 24000000000 | P3: =1-((3.52*V3)/(10^(0.9813*U3)))+((0.274*V3^2)/(10^(0.8157*U3))) -> 1.3573323 | Q3: =205+273.15 -> 478.15 | R3: 0.709 | S3: =103.9+183.3*R3-39.7*R3^2 -> 213.90326 | T3: =48.69-3.566*R3-0.766*R3^2 -> 45.776652 | U3: =Q3/S3 -> 2.2353563 | V3: =D3/T$3 -> 12.451762
A4: 20 | B4: =B$3*C$3/C4 -> 3058.1319 | C4: =1.01325/D4*Q3/288.15*P4 -> 0.004004295 | D4: =P4*(D$3/P$3)*(1-H3/I$3) -> 569.93099 | F4: =D4/D$3 -> 0.99987893 | G4: =$B4*((D4)-(E$3)) -> 290311.5 | H4: =H3+G4*(A4-A3) -> 5808692 | P4: =1-((3.52*V3)/(10^(0.9813*U3)))+((0.274*V3^2)/(10^(0.8157*U3))) -> 1.3573323 | Q4: =205+273.15 -> 478.15 | R4: =0.709*F4 -> 0.70891416 | S4: =103.9+183.3*R4-39.7*R4^2 -> 213.89236 | U4: =Q4/S4 -> 2.2354702 | V4: =D4/T$3 -> 12.450255
A5: 30 | B5: =B$3*C$3/C5 -> 3057.7619 | C5: =1.01325/D5*Q4/288.15*P5 -> 0.0040047795 | D5: =P5*(D$3/P$3)*(1-H4/I$3) -> 569.78448 | F5: =D5/D$3 -> 0.9996219 | G5: =$B5*((D5)-(E$3)) -> 289828.39 | H5: =H4+G5*(A5-A4) -> 8706975.9 | P5: =1-((3.52*V4)/(10^(0.9813*U4)))+((0.274*V4^2)/(10^(0.8157*U4))) -> 1.3571476 | Q5: =205+273.15 -> 478.15 | R5: =0.709*F5 -> 0.70873193 | S5: =103.9+183.3*R5-39.7*R5^2 -> 213.86921 | U5: =Q5/S5 -> 2.2357121 | V5: =D5/T$3 -> 12.447054
A6: 40 | B6: =B$3*C$3/C6 -> 3057.3926 | C6: =1.01325/D6*Q5/288.15*P6 -> 0.0040052633 | D6: =P6*(D$3/P$3)*(1-H5/I$3) -> 569.55111 | F6: =D6/D$3 -> 0.99921247 | G6: =$B6*((D6)-(E$3)) -> 289079.86 | H6: =H5+G6*(A6-A5) -> 11597774 | P6: =1-((3.52*V5)/(10^(0.9813*U5)))+((0.274*V5^2)/(10^(0.8157*U5))) -> 1.3567556 | Q6: =205+273.15 -> 478.15 | R6: =0.709*F6 -> 0.70844164 | S6: =103.9+183.3*R6-39.7*R6^2 -> 213.83234 | U6: =Q6/S6 -> 2.2360977 | V6: =D6/T$3 -> 12.441956
A7: 50 | B7: =B$3*C$3/C7 -> 3057.0242 | C7: =1.01325/D7*Q6/288.15*P7 -> 0.004005746 | D7: =P7*(D$3/P$3)*(1-H6/I$3) -> 569.22066 | F7: =D7/D$3 -> 0.99863274 | G7: =$B7*((D7)-(E$3)) -> 288034.84 | H7: =H6+G7*(A7-A6) -> 14478123 | P7: =1-((3.52*V6)/(10^(0.9813*U6)))+((0.274*V6^2)/(10^(0.8157*U6))) -> 1.3561318 | Q7: =205+273.15 -> 478.15 | R7: =0.709*F7 -> 0.70803061 | S7: =103.9+183.3*R7-39.7*R7^2 -> 213.78011 | U7: =Q7/S7 -> 2.236644 | V7: =D7/T$3 -> 12.434738
A8: 60 | B8: =B$3*C$3/C8 -> 3056.6571 | C8: =1.01325/D8*Q7/288.15*P8 -> 0.004006227 | D8: =P8*(D$3/P$3)*(1-H7/I$3) -> 568.78219 | F8: =D8/D$3 -> 0.9978635 | G8: =$B8*((D8)-(E$3)) -> 286660.01 | H8: =H7+G8*(A8-A7) -> 17344723 | P8: =1-((3.52*V7)/(10^(0.9813*U7)))+((0.274*V7^2)/(10^(0.8157*U7))) -> 1.3552499 | Q8: =205+273.15 -> 478.15 | R8: =0.709*F8 -> 0.70748522 | S8: =103.9+183.3*R8-39.7*R8^2 -> 213.71079 | U8: =Q8/S8 -> 2.2373695 | V8: =D8/T$3 -> 12.425159
A9: 70 | B9: =B$3*C$3/C9 -> 3056.2918 | C9: =1.01325/D9*Q8/288.15*P9 -> 0.0040067059 | D9: =P9*(D$3/P$3)*(1-H8/I$3) -> 568.22417 | F9: =D9/D$3 -> 0.99688452 | G9: =$B9*((D9)-(E$3)) -> 284920.28 | H9: =H8+G9*(A9-A8) -> 20193926 | P9: =1-((3.52*V8)/(10^(0.9813*U8)))+((0.274*V8^2)/(10^(0.8157*U8))) -> 1.3540822 | Q9: =205+273.15 -> 478.15 | R9: =0.709*F9 -> 0.70679112 | S9: =103.9+183.3*R9-39.7*R9^2 -> 213.62253 | U9: =Q9/S9 -> 2.2382939 | V9: =D9/T$3 -> 12.412969
A10: 80 | B10: =B$3*C$3/C10 -> 3055.9287 | C10: =1.01325/D10*Q9/288.15*P10 -> 0.0040071819 | D10: =P10*(D$3/P$3)*(1-H9/I$3) -> 567.53474 | F10: =D10/D$3 -> 0.99567499 | G10: =$B10*((D10)-(E$3)) -> 282779.57 | H10: =H9+G10*(A10-A9) -> 23021721 | P10: =1-((3.52*V9)/(10^(0.9813*U9)))+((0.274*V9^2)/(10^(0.8157*U9))) -> 1.3525999 | Q10: =205+273.15 -> 478.15 | R10: =0.709*F10 -> 0.70593357 | S10: =103.9+183.3*R10-39.7*R10^2 -> 213.51344 | U10: =Q10/S10 -> 2.2394375 | V10: =D10/T$3 -> 12.397908
A11: 90 | B11: =B$3*C$3/C11 -> 3055.5683 | C11: =1.01325/D11*Q10/288.15*P11 -> 0.0040076545 | D11: =P11*(D$3/P$3)*(1-H10/I$3) -> 566.70208 | F11: =D11/D$3 -> 0.99421417 | G11: =$B11*((D11)-(E$3)) -> 280201.96 | H11: =H10+G11*(A11-A10) -> 25823741 | P11: =1-((3.52*V10)/(10^(0.9813*U10)))+((0.274*V10^2)/(10^(0.8157*U10))) -> 1.3507747 | Q11: =205+273.15 -> 478.15 | R11: =0.709*F11 -> 0.70489785 | S11: =103.9+183.3*R11-39.7*R11^2 -> 213.3816 | U11: =Q11/S11 -> 2.2408211 | V11: =D11/T$3 -> 12.379719
A12: 100 | B12: =B$3*C$3/C12 -> 3055.2112 | C12: =1.01325/D12*Q11/288.15*P12 -> 0.0040081229 | D12: =P12*(D$3/P$3)*(1-H11/I$3) -> 565.7149 | F12: =D12/D$3 -> 0.99248228 | G12: =$B12*((D12)-(E$3)) -> 277153.19 | H12: =H11+G12*(A12-A11) -> 28595273 | P12: =1-((3.52*V11)/(10^(0.9813*U11)))+((0.274*V11^2)/(10^(0.8157*U11))) -> 1.3485793 | Q12: =205+273.15 -> 478.15 | R12: =0.709*F12 -> 0.70366994 | S12: =103.9+183.3*R12-39.7*R12^2 -> 213.22519 | U12: =Q12/S12 -> 2.2424649 | V12: =D12/T$3 -> 12.358154
A13: 110 | B13: =B$3*C$3/C13 -> 3054.8581 | C13: =1.01325/D13*Q12/288.15*P13 -> 0.0040085863 | D13: =P13*(D$3/P$3)*(1-H12/I$3) -> 564.5631 | F13: =D13/D$3 -> 0.99046159 | G13: =$B13*((D13)-(E$3)) -> 273602.57 | H13: =H12+G13*(A13-A12) -> 31331299 | P13: =1-((3.52*V12)/(10^(0.9813*U12)))+((0.274*V12^2)/(10^(0.8157*U12))) -> 1.3459892 | Q13: =205+273.15 -> 478.15 | R13: =0.709*F13 -> 0.70223727 | S13: =103.9+183.3*R13-39.7*R13^2 -> 213.04254 | U13: =Q13/S13 -> 2.2443874 | V13: =D13/T$3 -> 12.332992
A14: 120 | B14: =B$3*C$3/C14 -> 3054.5094 | C14: =1.01325/D14*Q13/288.15*P14 -> 0.0040090439 | D14: =P14*(D$3/P$3)*(1-H13/I$3) -> 563.23853 | F14: =D14/D$3 -> 0.98813776 | G14: =$B14*((D14)-(E$3)) -> 269525.4 | H14: =H13+G14*(A14-A13) -> 34026553 | P14: =1-((3.52*V13)/(10^(0.9813*U13)))+((0.274*V13^2)/(10^(0.8157*U13))) -> 1.3429846 | Q14: =205+273.15 -> 478.15 | R14: =0.709*F14 -> 0.70058967 | S14: =103.9+183.3*R14-39.7*R14^2 -> 212.8323 | U14: =Q14/S14 -> 2.2466045 | V14: =D14/T$3 -> 12.304057
A15: 130 | B15: =B$3*C$3/C15 -> 3054.1659 | C15: =1.01325/D15*Q14/288.15*P15 -> 0.0040094948 | D15: =P15*(D$3/P$3)*(1-H14/I$3) -> 561.73583 | F15: =D15/D$3 -> 0.98550146 | G15: =$B15*((D15)-(E$3)) -> 264905.61 | H15: =H14+G15*(A15-A14) -> 36675609 | P15: =1-((3.52*V14)/(10^(0.9813*U14)))+((0.274*V14^2)/(10^(0.8157*U14))) -> 1.3395522 | Q15: =205+273.15 -> 478.15 | R15: =0.709*F15 -> 0.69872053 | S15: =103.9+183.3*R15-39.7*R15^2 -> 212.59352 | U15: =Q15/S15 -> 2.2491278 | V15: =D15/T$3 -> 12.27123
... A102: 1000 | B102: =B$3*C$3/C102 -> 3039.3244 | C102: =1.01325/D102*Q101/288.15*P102 -> 0.0040290738 | D102: =P102*(D$3/P$3)*(1-H101/I$3) -> 507.88739 | F102: =D102/D$3 -> 0.89103051 | G102: =$B102*((D102)-(E$3)) -> 99955.45 | H102: =H101+G102*(A102-A101) -> 1.5148734e+08 | P102: =1-((3.52*V101)/(10^(0.9813*U101)))+((0.274*V101^2)/(10^(0.8157*U101))) -> 1.2170559 | Q102: =205+273.15 -> 478.15 | R102: =0.709*F102 -> 0.63174063 | S102: =103.9+183.3*R102-39.7*R102^2 -> 203.85394 | U102: =Q102/S102 -> 2.3455519 | V102: =D102/T$3 -> 11.0949

Sheet J változás 18.
A2: t | B2: J | C2: B | D2: pi (bar) | E2: pwf (bar) | G2: Q m^3/nap | H2: Gp | I2: G (nm^3) | P2: zi | Q2: T (K) | R2: relatív sűrűség | S2: Tpc | T2: Ppc | U2: Tpr | V2: Ppr
A3: 10 | B3: ='fő munkalap'!T31 -> 3095.3418 | C3: ='fő munkalap'!C12 -> 0.0040038102 | D3: ='fő munkalap'!C3 -> 570 | E3: ='fő munkalap'!C4 -> 475 | G3: =$B3*((D3)-(E$3)) -> 294057.47 | H3: =G3*A3 -> 2940574.7 | I3: =24*10^9 -> 24000000000 | P3: =1-((3.52*V3)/(10^(0.9813*U3)))+((0.274*V3^2)/(10^(0.8157*U3))) -> 1.3573323 | Q3: =205+273.15 -> 478.15 | R3: 0.709 | S3: =103.9+183.3*R3-39.7*R3^2 -> 213.90326 | T3: =48.69-3.566*R3-0.766*R3^2 -> 45.776652 | U3: =Q3/S3 -> 2.2353563 | V3: =D3/T$3 -> 12.451762
A4: 20 | B4: =B$3*C$3/C4 -> 3094.9625 | C4: =1.01325/D4*Q3/288.15*P4 -> 0.0040043009 | D4: =P4*(D$3/P$3)*(1-H3/I$3) -> 569.93016 | F4: =D4/D$3 -> 0.99987748 | G4: =$B4*((D4)-(E$3)) -> 293805.29 | H4: =H3+G4*(A4-A3) -> 5878627.7 | P4: =1-((3.52*V3)/(10^(0.9813*U3)))+((0.274*V3^2)/(10^(0.8157*U3))) -> 1.3573323 | Q4: =205+273.15 -> 478.15 | R4: =0.709*F4 -> 0.70891313 | S4: =103.9+183.3*R4-39.7*R4^2 -> 213.89223 | U4: =Q4/S4 -> 2.2354716 | V4: =D4/T$3 -> 12.450237
A5: 30 | B5: =B$3*C$3/C5 -> 3094.5836 | C5: =1.01325/D5*Q4/288.15*P5 -> 0.0040047912 | D5: =P5*(D$3/P$3)*(1-H4/I$3) -> 569.78189 | F5: =D5/D$3 -> 0.99961735 | G5: =$B5*((D5)-(E$3)) -> 293310.48 | H5: =H4+G5*(A5-A4) -> 8811732.5 | P5: =1-((3.52*V4)/(10^(0.9813*U4)))+((0.274*V4^2)/(10^(0.8157*U4))) -> 1.3571454 | Q5: =205+273.15 -> 478.15 | R5: =0.709*F5 -> 0.7087287 | S5: =103.9+183.3*R5-39.7*R5^2 -> 213.8688 | U5: =Q5/S5 -> 2.2357164 | V5: =D5/T$3 -> 12.446998
A6: 40 | B6: =B$3*C$3/C6 -> 3094.2053 | C6: =1.01325/D6*Q5/288.15*P6 -> 0.0040052808 | D6: =P6*(D$3/P$3)*(1-H5/I$3) -> 569.54571 | F6: =D6/D$3 -> 0.999203 | G6: =$B6*((D6)-(E$3)) -> 292543.83 | H6: =H5+G6*(A6-A5) -> 11737171 | P6: =1-((3.52*V5)/(10^(0.9813*U5)))+((0.274*V5^2)/(10^(0.8157*U5))) -> 1.3567487 | Q6: =205+273.15 -> 478.15 | R6: =0.709*F6 -> 0.70843492 | S6: =103.9+183.3*R6-39.7*R6^2 -> 213.83148 | U6: =Q6/S6 -> 2.2361066 | V6: =D6/T$3 -> 12.441838
A7: 50 | B7: =B$3*C$3/C7 -> 3093.828 | C7: =1.01325/D7*Q6/288.15*P7 -> 0.0040057693 | D7: =P7*(D$3/P$3)*(1-H6/I$3) -> 569.2113 | F7: =D7/D$3 -> 0.99861632 | G7: =$B7*((D7)-(E$3)) -> 291473.56 | H7: =H6+G7*(A7-A6) -> 14651906 | P7: =1-((3.52*V6)/(10^(0.9813*U6)))+((0.274*V6^2)/(10^(0.8157*U6))) -> 1.3561174 | Q7: =205+273.15 -> 478.15 | R7: =0.709*F7 -> 0.70801897 | S7: =103.9+183.3*R7-39.7*R7^2 -> 213.77863 | U7: =Q7/S7 -> 2.2366595 | V7: =D7/T$3 -> 12.434533
A8: 60 | B8: =B$3*C$3/C8 -> 3093.4521 | C8: =1.01325/D8*Q7/288.15*P8 -> 0.004006256 | D8: =P8*(D$3/P$3)*(1-H7/I$3) -> 568.7676 | F8: =D8/D$3 -> 0.99783789 | G8: =$B8*((D8)-(E$3)) -> 290065.57 | H8: =H7+G8*(A8-A7) -> 17552562 | P8: =1-((3.52*V7)/(10^(0.9813*U7)))+((0.274*V7^2)/(10^(0.8157*U7))) -> 1.355225 | Q8: =205+273.15 -> 478.15 | R8: =0.709*F8 -> 0.70746706 | S8: =103.9+183.3*R8-39.7*R8^2 -> 213.70848 | U8: =Q8/S8 -> 2.2373937 | V8: =D8/T$3 -> 12.42484
A9: 70 | B9: =B$3*C$3/C9 -> 3093.078 | C9: =1.01325/D9*Q8/288.15*P9 -> 0.0040067406 | D9: =P9*(D$3/P$3)*(1-H8/I$3) -> 568.20296 | F9: =D9/D$3 -> 0.99684729 | G9: =$B9*((D9)-(E$3)) -> 288284.01 | H9: =H8+G9*(A9-A8) -> 20435402 | P9: =1-((3.52*V8)/(10^(0.9813*U8)))+((0.274*V8^2)/(10^(0.8157*U8))) -> 1.3540433 | Q9: =205+273.15 -> 478.15 | R9: =0.709*F9 -> 0.70676473 | S9: =103.9+183.3*R9-39.7*R9^2 -> 213.61917 | U9: =Q9/S9 -> 2.238329 | V9: =D9/T$3 -> 12.412506
A10: 80 | B10: =B$3*C$3/C10 -> 3092.7062 | C10: =1.01325/D10*Q9/288.15*P10 -> 0.0040072223 | D10: =P10*(D$3/P$3)*(1-H9/I$3) -> 567.50541 | F10: =D10/D$3 -> 0.99562353 | G10: =$B10*((D10)-(E$3)) -> 286092.07 | H10: =H9+G10*(A10-A9) -> 23296323 | P10: =1-((3.52*V9)/(10^(0.9813*U9)))+((0.274*V9^2)/(10^(0.8157*U9))) -> 1.3525437 | Q10: =205+273.15 -> 478.15 | R10: =0.709*F10 -> 0.70589709 | S10: =103.9+183.3*R10-39.7*R10^2 -> 213.5088 | U10: =Q10/S10 -> 2.2394862 | V10: =D10/T$3 -> 12.397268
A11: 90 | B11: =B$3*C$3/C11 -> 3092.3372 | C11: =1.01325/D11*Q10/288.15*P11 -> 0.0040077004 | D11: =P11*(D$3/P$3)*(1-H10/I$3) -> 566.66308 | F11: =D11/D$3 -> 0.99414575 | G11: =$B11*((D11)-(E$3)) -> 283453.14 | H11: =H10+G11*(A11-A10) -> 26130854 | P11: =1-((3.52*V10)/(10^(0.9813*U10)))+((0.274*V10^2)/(10^(0.8157*U10))) -> 1.3506973 | Q11: =205+273.15 -> 478.15 | R11: =0.709*F11 -> 0.70484934 | S11: =103.9+183.3*R11-39.7*R11^2 -> 213.37542 | U11: =Q11/S11 -> 2.240886 | V11: =D11/T$3 -> 12.378867
A12: 100 | B12: =B$3*C$3/C12 -> 3091.9716 | C12: =1.01325/D12*Q11/288.15*P12 -> 0.0040081743 | D12: =P12*(D$3/P$3)*(1-H11/I$3) -> 565.66462 | F12: =D12/D$3 -> 0.99239407 | G12: =$B12*((D12)-(E$3)) -> 280332.43 | H12: =H11+G12*(A12-A11) -> 28934179 | P12: =1-((3.52*V11)/(10^(0.9813*U11)))+((0.274*V11^2)/(10^(0.8157*U11))) -> 1.3484768 | Q12: =205+273.15 -> 478.15 | R12: =0.709*F12 -> 0.7036074 | S12: =103.9+183.3*R12-39.7*R12^2 -> 213.21722 | U12: =Q12/S12 -> 2.2425487 | V12: =D12/T$3 -> 12.357055
A13: 110 | B13: =B$3*C$3/C13 -> 3091.6101 | C13: =1.01325/D13*Q12/288.15*P13 -> 0.004008643 | D13: =P13*(D$3/P$3)*(1-H12/I$3) -> 564.49994 | F13: =D13/D$3 -> 0.99035078 | G13: =$B13*((D13)-(E$3)) -> 276698.93 | H13: =H12+G13*(A13-A12) -> 31701168 | P13: =1-((3.52*V12)/(10^(0.9813*U12)))+((0.274*V12^2)/(10^(0.8157*U12))) -> 1.3458577 | Q13: =205+273.15 -> 478.15 | R13: =0.709*F13 -> 0.7021587 | S13: =103.9+183.3*R13-39.7*R13^2 -> 213.03252 | U13: =Q13/S13 -> 2.244493 | V13: =D13/T$3 -> 12.331613
A14: 120 | B14: =B$3*C$3/C14 -> 3091.2532 | C14: =1.01325/D14*Q13/288.15*P14 -> 0.0040091058 | D14: =P14*(D$3/P$3)*(1-H13/I$3) -> 563.16096 | F14: =D14/D$3 -> 0.98800168 | G14: =$B14*((D14)-(E$3)) -> 272527.85 | H14: =H13+G14*(A14-A13) -> 34426446 | P14: =1-((3.52*V13)/(10^(0.9813*U13)))+((0.274*V13^2)/(10^(0.8157*U13))) -> 1.3428203 | Q14: =205+273.15 -> 478.15 | R14: =0.709*F14 -> 0.70049319 | S14: =103.9+183.3*R14-39.7*R14^2 -> 212.81998 | U14: =Q14/S14 -> 2.2467345 | V14: =D14/T$3 -> 12.302362
A15: 130 | B15: =B$3*C$3/C15 -> 3090.9017 | C15: =1.01325/D15*Q14/288.15*P15 -> 0.0040095617 | D15: =P15*(D$3/P$3)*(1-H14/I$3) -> 561.64249 | F15: =D15/D$3 -> 0.9853377 | G15: =$B15*((D15)-(E$3)) -> 267803.42 | H15: =H14+G15*(A15-A14) -> 37104481 | P15: =1-((3.52*V14)/(10^(0.9813*U14)))+((0.274*V14^2)/(10^(0.8157*U14))) -> 1.3393519 | Q15: =205+273.15 -> 478.15 | R15: =0.709*F15 -> 0.69860443 | S15: =103.9+183.3*R15-39.7*R15^2 -> 212.57868 | U15: =Q15/S15 -> 2.2492848 | V15: =D15/T$3 -> 12.269191
... A102: 1000 | B102: =B$3*C$3/C102 -> 3075.7497 | C102: =1.01325/D102*Q101/288.15*P102 -> 0.004029314 | D102: =P102*(D$3/P$3)*(1-H101/I$3) -> 507.75044 | F102: =D102/D$3 -> 0.89079025 | G102: =$B102*((D102)-(E$3)) -> 100732.16 | H102: =H101+G102*(A102-A101) -> 1.5291639e+08 | P102: =1-((3.52*V101)/(10^(0.9813*U101)))+((0.274*V101^2)/(10^(0.8157*U101))) -> 1.2168002 | Q102: =205+273.15 -> 478.15 | R102: =0.709*F102 -> 0.63157028 | S102: =103.9+183.3*R102-39.7*R102^2 -> 203.83126 | U102: =Q102/S102 -> 2.3458129 | V102: =D102/T$3 -> 11.091909

Sheet J változás 19.
A2: t | B2: J | C2: B | D2: pi (bar) | E2: pwf (bar) | G2: Q m^3/nap | H2: Gp | I2: G (nm^3) | P2: zi | Q2: T (K) | R2: relatív sűrűség | S2: Tpc | T2: Ppc | U2: Tpr | V2: Ppr
A3: 10 | B3: ='fő munkalap'!U31 -> 3131.0153 | C3: ='fő munkalap'!C12 -> 0.0040038102 | D3: ='fő munkalap'!C3 -> 570 | E3: ='fő munkalap'!C4 -> 475 | G3: =$B3*((D3)-(E$3)) -> 297446.45 | H3: =G3*A3 -> 2974464.5 | I3: =24*10^9 -> 24000000000 | P3: =1-((3.52*V3)/(10^(0.9813*U3)))+((0.274*V3^2)/(10^(0.8157*U3))) -> 1.3573323 | Q3: =205+273.15 -> 478.15 | R3: 0.709 | S3: =103.9+183.3*R3-39.7*R3^2 -> 213.90326 | T3: =48.69-3.566*R3-0.766*R3^2 -> 45.776652 | U3: =Q3/S3 -> 2.2353563 | V3: =D3/T$3 -> 12.451762
A4: 20 | B4: =B$3*C$3/C4 -> 3130.6272 | C4: =1.01325/D4*Q3/288.15*P4 -> 0.0040043065 | D4: =P4*(D$3/P$3)*(1-H3/I$3) -> 569.92936 | F4: =D4/D$3 -> 0.99987606 | G4: =$B4*((D4)-(E$3)) -> 297188.43 | H4: =H3+G4*(A4-A3) -> 5946348.8 | P4: =1-((3.52*V3)/(10^(0.9813*U3)))+((0.274*V3^2)/(10^(0.8157*U3))) -> 1.3573323 | Q4: =205+273.15 -> 478.15 | R4: =0.709*F4 -> 0.70891213 | S4: =103.9+183.3*R4-39.7*R4^2 -> 213.8921 | U4: =Q4/S4 -> 2.2354729 | V4: =D4/T$3 -> 12.450219
A5: 30 | B5: =B$3*C$3/C5 -> 3130.2395 | C5: =1.01325/D5*Q4/288.15*P5 -> 0.0040048025 | D5: =P5*(D$3/P$3)*(1-H4/I$3) -> 569.77938 | F5: =D5/D$3 -> 0.99961294 | G5: =$B5*((D5)-(E$3)) -> 296682.15 | H5: =H4+G5*(A5-A4) -> 8913170.3 | P5: =1-((3.52*V4)/(10^(0.9813*U4)))+((0.274*V4^2)/(10^(0.8157*U4))) -> 1.3571432 | Q5: =205+273.15 -> 478.15 | R5: =0.709*F5 -> 0.70872558 | S5: =103.9+183.3*R5-39.7*R5^2 -> 213.86841 | U5: =Q5/S5 -> 2.2357206 | V5: =D5/T$3 -> 12.446943
A6: 40 | B6: =B$3*C$3/C6 -> 3129.8525 | C6: =1.01325/D6*Q5/288.15*P6 -> 0.0040052977 | D6: =P6*(D$3/P$3)*(1-H5/I$3) -> 569.54048 | F6: =D6/D$3 -> 0.99919382 | G6: =$B6*((D6)-(E$3)) -> 295897.75 | H6: =H5+G6*(A6-A5) -> 11872148 | P6: =1-((3.52*V5)/(10^(0.9813*U5)))+((0.274*V5^2)/(10^(0.8157*U5))) -> 1.3567419 | Q6: =205+273.15 -> 478.15 | R6: =0.709*F6 -> 0.70842842 | S6: =103.9+183.3*R6-39.7*R6^2 -> 213.83066 | U6: =Q6/S6 -> 2.2361153 | V6: =D6/T$3 -> 12.441724
A7: 50 | B7: =B$3*C$3/C7 -> 3129.4665 | C7: =1.01325/D7*Q6/288.15*P7 -> 0.0040057918 | D7: =P7*(D$3/P$3)*(1-H6/I$3) -> 569.20223 | F7: =D7/D$3 -> 0.99860041 | G7: =$B7*((D7)-(E$3)) -> 294802.73 | H7: =H6+G7*(A7-A6) -> 14820175 | P7: =1-((3.52*V6)/(10^(0.9813*U6)))+((0.274*V6^2)/(10^(0.8157*U6))) -> 1.3561034 | Q7: =205+273.15 -> 478.15 | R7: =0.709*F7 -> 0.70800769 | S7: =103.9+183.3*R7-39.7*R7^2 -> 213.7772 | U7: =Q7/S7 -> 2.2366745 | V7: =D7/T$3 -> 12.434335
A8: 60 | B8: =B$3*C$3/C8 -> 3129.0819 | C8: =1.01325/D8*Q7/288.15*P8 -> 0.0040062841 | D8: =P8*(D$3/P$3)*(1-H7/I$3) -> 568.75346 | F8: =D8/D$3 -> 0.99781309 | G8: =$B8*((D8)-(E$3)) -> 293362.26 | H8: =H7+G8*(A8-A7) -> 17753798 | P8: =1-((3.52*V7)/(10^(0.9813*U7)))+((0.274*V7^2)/(10^(0.8157*U7))) -> 1.3552008 | Q8: =205+273.15 -> 478.15 | R8: =0.709*F8 -> 0.70744948 | S8: =103.9+183.3*R8-39.7*R8^2 -> 213.70624 | U8: =Q8/S8 -> 2.2374171 | V8: =D8/T$3 -> 12.424532
A9: 70 | B9: =B$3*C$3/C9 -> 3128.6992 | C9: =1.01325/D9*Q8/288.15*P9 -> 0.0040067742 | D9: =P9*(D$3/P$3)*(1-H8/I$3) -> 568.18241 | F9: =D9/D$3 -> 0.99681125 | G9: =$B9*((D9)-(E$3)) -> 291539.73 | H9: =H8+G9*(A9-A8) -> 20669195 | P9: =1-((3.52*V8)/(10^(0.9813*U8)))+((0.274*V8^2)/(10^(0.8157*U8))) -> 1.3540057 | Q9: =205+273.15 -> 478.15 | R9: =0.709*F9 -> 0.70673918 | S9: =103.9+183.3*R9-39.7*R9^2 -> 213.61592 | U9: =Q9/S9 -> 2.2383631 | V9: =D9/T$3 -> 12.412057
A10: 80 | B10: =B$3*C$3/C10 -> 3128.3188 | C10: =1.01325/D10*Q9/288.15*P10 -> 0.0040072614 | D10: =P10*(D$3/P$3)*(1-H9/I$3) -> 567.47702 | F10: =D10/D$3 -> 0.99557373 | G10: =$B10*((D10)-(E$3)) -> 289297.61 | H10: =H9+G10*(A10-A9) -> 23562171 | P10: =1-((3.52*V9)/(10^(0.9813*U9)))+((0.274*V9^2)/(10^(0.8157*U9))) -> 1.3524892 | Q10: =205+273.15 -> 478.15 | R10: =0.709*F10 -> 0.70586177 | S10: =103.9+183.3*R10-39.7*R10^2 -> 213.5043 | U10: =Q10/S10 -> 2.2395333 | V10: =D10/T$3 -> 12.396648
A11: 90 | B11: =B$3*C$3/C11 -> 3127.9414 | C11: =1.01325/D11*Q10/288.15*P11 -> 0.0040077449 | D11: =P11*(D$3/P$3)*(1-H10/I$3) -> 566.62533 | F11: =D11/D$3 -> 0.99407952 | G11: =$B11*((D11)-(E$3)) -> 286598.65 | H11: =H10+G11*(A11-A10) -> 26428158 | P11: =1-((3.52*V10)/(10^(0.9813*U10)))+((0.274*V10^2)/(10^(0.8157*U10))) -> 1.3506223 | Q11: =205+273.15 -> 478.15 | R11: =0.709*F11 -> 0.70480238 | S11: =103.9+183.3*R11-39.7*R11^2 -> 213.36944 | U11: =Q11/S11 -> 2.2409488 | V11: =D11/T$3 -> 12.378042
A12: 100 | B12: =B$3*C$3/C12 -> 3127.5675 | C12: =1.01325/D12*Q11/288.15*P12 -> 0.004008224 | D12: =P12*(D$3/P$3)*(1-H11/I$3) -> 565.61596 | F12: =D12/D$3 -> 0.9923087 | G12: =$B12*((D12)-(E$3)) -> 283407.53 | H12: =H11+G12*(A12-A11) -> 29262233 | P12: =1-((3.52*V11)/(10^(0.9813*U11)))+((0.274*V11^2)/(10^(0.8157*U11))) -> 1.3483775 | Q12: =205+273.15 -> 478.15 | R12: =0.709*F12 -> 0.70354687 | S12: =103.9+183.3*R12-39.7*R12^2 -> 213.20951 | U12: =Q12/S12 -> 2.2426298 | V12: =D12/T$3 -> 12.355992
A13: 110 | B13: =B$3*C$3/C13 -> 3127.1978 | C13: =1.01325/D13*Q12/288.15*P13 -> 0.0040086979 | D13: =P13*(D$3/P$3)*(1-H12/I$3) -> 564.43883 | F13: =D13/D$3 -> 0.99024356 | G13: =$B13*((D13)-(E$3)) -> 279692.91 | H13: =H12+G13*(A13-A12) -> 32059162 | P13: =1-((3.52*V12)/(10^(0.9813*U12)))+((0.274*V12^2)/(10^(0.8157*U12))) -> 1.3457304 | Q13: =205+273.15 -> 478.15 | R13: =0.709*F13 -> 0.70208269 | S13: =103.9+183.3*R13-39.7*R13^2 -> 213.02283 | U13: =Q13/S13 -> 2.2445951 | V13: =D13/T$3 -> 12.330278
A14: 120 | B14: =B$3*C$3/C14 -> 3126.8329 | C14: =1.01325/D14*Q13/288.15*P14 -> 0.0040091657 | D14: =P14*(D$3/P$3)*(1-H13/I$3) -> 563.08593 | F14: =D14/D$3 -> 0.98787005 | G14: =$B14*((D14)-(E$3)) -> 275429.98 | H14: =H13+G14*(A14-A13) -> 34813462 | P14: =1-((3.52*V13)/(10^(0.9813*U13)))+((0.274*V13^2)/(10^(0.8157*U13))) -> 1.3426615 | Q14: =205+273.15 -> 478.15 | R14: =0.709*F14 -> 0.70039987 | S14: =103.9+183.3*R14-39.7*R14^2 -> 212.80806 | U14: =Q14/S14 -> 2.2468603 | V14: =D14/T$3 -> 12.300723
A15: 130 | B15: =B$3*C$3/C15 -> 3126.4736 | C15: =1.01325/D15*Q14/288.15*P15 -> 0.0040096264 | D15: =P15*(D$3/P$3)*(1-H14/I$3) -> 561.55223 | F15: =D15/D$3 -> 0.98517936 | G15: =$B15*((D15)-(E$3)) -> 270603.27 | H15: =H14+G15*(A15-A14) -> 37519495 | P15: =1-((3.52*V14)/(10^(0.9813*U14)))+((0.274*V14^2)/(10^(0.8157*U14))) -> 1.3391583 | Q15: =205+273.15 -> 478.15 | R15: =0.709*F15 -> 0.69849217 | S15: =103.9+183.3*R15-39.7*R15^2 -> 212.56433 | U15: =Q15/S15 -> 2.2494367 | V15: =D15/T$3 -> 12.267219
... A102: 1000 | B102: =B$3*C$3/C102 -> 3111.0186 | C102: =1.01325/D102*Q101/288.15*P102 -> 0.0040295455 | D102: =P102*(D$3/P$3)*(1-H101/I$3) -> 507.61882 | F102: =D102/D$3 -> 0.89055933 | G102: =$B102*((D102)-(E$3)) -> 101477.74 | H102: =H101+G102*(A102-A101) -> 1.5429428e+08 | P102: =1-((3.52*V101)/(10^(0.9813*U101)))+((0.274*V101^2)/(10^(0.8157*U101))) -> 1.2165547 | Q102: =205+273.15 -> 478.15 | R102: =0.709*F102 -> 0.63140656 | S102: =103.9+183.3*R102-39.7*R102^2 -> 203.80946 | U102: =Q102/S102 -> 2.3460639 | V102: =D102/T$3 -> 11.089033

Sheet J változás 20.
A2: t | B2: J | C2: B | D2: pi (bar) | E2: pwf (bar) | G2: Q m^3/nap | H2: Gp | I2: G (nm^3) | P2: zi | Q2: T (K) | R2: relatív sűrűség | S2: Tpc | T2: Ppc | U2: Tpr | V2: Ppr
A3: 10 | B3: ='fő munkalap'!V31 -> 3165.627 | C3: ='fő munkalap'!C12 -> 0.0040038102 | D3: ='fő munkalap'!C3 -> 570 | E3: ='fő munkalap'!C4 -> 475 | G3: =$B3*((D3)-(E$3)) -> 300734.57 | H3: =G3*A3 -> 3007345.7 | I3: =24*10^9 -> 24000000000 | P3: =1-((3.52*V3)/(10^(0.9813*U3)))+((0.274*V3^2)/(10^(0.8157*U3))) -> 1.3573323 | Q3: =205+273.15 -> 478.15 | R3: 0.709 | S3: =103.9+183.3*R3-39.7*R3^2 -> 213.90326 | T3: =48.69-3.566*R3-0.766*R3^2 -> 45.776652 | U3: =Q3/S3 -> 2.2353563 | V3: =D3/T$3 -> 12.451762
A4: 20 | B4: =B$3*C$3/C4 -> 3165.2303 | C4: =1.01325/D4*Q3/288.15*P4 -> 0.004004312 | D4: =P4*(D$3/P$3)*(1-H3/I$3) -> 569.92858 | F4: =D4/D$3 -> 0.99987469 | G4: =$B4*((D4)-(E$3)) -> 300470.81 | H4: =H3+G4*(A4-A3) -> 6012053.8 | P4: =1-((3.52*V3)/(10^(0.9813*U3)))+((0.274*V3^2)/(10^(0.8157*U3))) -> 1.3573323 | Q4: =205+273.15 -> 478.15 | R4: =0.709*F4 -> 0.70891116 | S4: =103.9+183.3*R4-39.7*R4^2 -> 213.89198 | U4: =Q4/S4 -> 2.2354742 | V4: =D4/T$3 -> 12.450202
A5: 30 | B5: =B$3*C$3/C5 -> 3164.834 | C5: =1.01325/D5*Q4/288.15*P5 -> 0.0040048134 | D5: =P5*(D$3/P$3)*(1-H4/I$3) -> 569.77694 | F5: =D5/D$3 -> 0.99960866 | G5: =$B5*((D5)-(E$3)) -> 299953.28 | H5: =H4+G5*(A5-A4) -> 9011586.6 | P5: =1-((3.52*V4)/(10^(0.9813*U4)))+((0.274*V4^2)/(10^(0.8157*U4))) -> 1.3571411 | Q5: =205+273.15 -> 478.15 | R5: =0.709*F5 -> 0.70872254 | S5: =103.9+183.3*R5-39.7*R5^2 -> 213.86802 | U5: =Q5/S5 -> 2.2357246 | V5: =D5/T$3 -> 12.44689
A6: 40 | B6: =B$3*C$3/C6 -> 3164.4384 | C6: =1.01325/D6*Q5/288.15*P6 -> 0.0040053142 | D6: =P6*(D$3/P$3)*(1-H5/I$3) -> 569.53541 | F6: =D6/D$3 -> 0.99918492 | G6: =$B6*((D6)-(E$3)) -> 299151.47 | H6: =H5+G6*(A6-A5) -> 12003101 | P6: =1-((3.52*V5)/(10^(0.9813*U5)))+((0.274*V5^2)/(10^(0.8157*U5))) -> 1.3567354 | Q6: =205+273.15 -> 478.15 | R6: =0.709*F6 -> 0.70842211 | S6: =103.9+183.3*R6-39.7*R6^2 -> 213.82986 | U6: =Q6/S6 -> 2.2361237 | V6: =D6/T$3 -> 12.441613
A7: 50 | B7: =B$3*C$3/C7 -> 3164.0438 | C7: =1.01325/D7*Q6/288.15*P7 -> 0.0040058137 | D7: =P7*(D$3/P$3)*(1-H6/I$3) -> 569.19344 | F7: =D7/D$3 -> 0.99858498 | G7: =$B7*((D7)-(E$3)) -> 298032.17 | H7: =H6+G7*(A7-A6) -> 14983423 | P7: =1-((3.52*V6)/(10^(0.9813*U6)))+((0.274*V6^2)/(10^(0.8157*U6))) -> 1.3560899 | Q7: =205+273.15 -> 478.15 | R7: =0.709*F7 -> 0.70799675 | S7: =103.9+183.3*R7-39.7*R7^2 -> 213.77581 | U7: =Q7/S7 -> 2.236689 | V7: =D7/T$3 -> 12.434143
A8: 60 | B8: =B$3*C$3/C8 -> 3163.6507 | C8: =1.01325/D8*Q7/288.15*P8 -> 0.0040063114 | D8: =P8*(D$3/P$3)*(1-H7/I$3) -> 568.73975 | F8: =D8/D$3 -> 0.99778904 | G8: =$B8*((D8)-(E$3)) -> 296559.83 | H8: =H7+G8*(A8-A7) -> 17949021 | P8: =1-((3.52*V7)/(10^(0.9813*U7)))+((0.274*V7^2)/(10^(0.8157*U7))) -> 1.3551774 | Q8: =205+273.15 -> 478.15 | R8: =0.709*F8 -> 0.70743243 | S8: =103.9+183.3*R8-39.7*R8^2 -> 213.70408 | U8: =Q8/S8 -> 2.2374398 | V8: =D8/T$3 -> 12.424232
A9: 70 | B9: =B$3*C$3/C9 -> 3163.2595 | C9: =1.01325/D9*Q8/288.15*P9 -> 0.0040068068 | D9: =P9*(D$3/P$3)*(1-H8/I$3) -> 568.16248 | F9: =D9/D$3 -> 0.99677629 | G9: =$B9*((D9)-(E$3)) -> 294697.11 | H9: =H8+G9*(A9-A8) -> 20895992 | P9: =1-((3.52*V8)/(10^(0.9813*U8)))+((0.274*V8^2)/(10^(0.8157*U8))) -> 1.3539693 | Q9: =205+273.15 -> 478.15 | R9: =0.709*F9 -> 0.70671439 | S9: =103.9+183.3*R9-39.7*R9^2 -> 213.61277 | U9: =Q9/S9 -> 2.2383961 | V9: =D9/T$3 -> 12.411622
A10: 80 | B10: =B$3*C$3/C10 -> 3162.8708 | C10: =1.01325/D10*Q9/288.15*P10 -> 0.0040072993 | D10: =P10*(D$3/P$3)*(1-H9/I$3) -> 567.44949 | F10: =D10/D$3 -> 0.99552541 | G10: =$B10*((D10)-(E$3)) -> 292405.78 | H10: =H9+G10*(A10-A9) -> 23820050 | P10: =1-((3.52*V9)/(10^(0.9813*U9)))+((0.274*V9^2)/(10^(0.8157*U9))) -> 1.3524363 | Q10: =205+273.15 -> 478.15 | R10: =0.709*F10 -> 0.70582752 | S10: =103.9+183.3*R10-39.7*R10^2 -> 213.49994 | U10: =Q10/S10 -> 2.2395791 | V10: =D10/T$3 -> 12.396046
A11: 90 | B11: =B$3*C$3/C11 -> 3162.4851 | C11: =1.01325/D11*Q10/288.15*P11 -> 0.004007788 | D11: =P11*(D$3/P$3)*(1-H10/I$3) -> 566.58872 | F11: =D11/D$3 -> 0.99401529 | G11: =$B11*((D11)-(E$3)) -> 289647.95 | H11: =H10+G11*(A11-A10) -> 26716530 | P11: =1-((3.52*V10)/(10^(0.9813*U10)))+((0.274*V10^2)/(10^(0.8157*U10))) -> 1.3505495 | Q11: =205+273.15 -> 478.15 | R11: =0.709*F11 -> 0.70475684 | S11: =103.9+183.3*R11-39.7*R11^2 -> 213.36365 | U11: =Q11/S11 -> 2.2410097 | V11: =D11/T$3 -> 12.377242
A12: 100 | B12: =B$3*C$3/C12 -> 3162.1031 | C12: =1.01325/D12*Q11/288.15*P12 -> 0.0040082722 | D12: =P12*(D$3/P$3)*(1-H11/I$3) -> 565.56878 | F12: =D12/D$3 -> 0.99222592 | G12: =$B12*((D12)-(E$3)) -> 286387.8 | H12: =H11+G12*(A12-A11) -> 29580408 | P12: =1-((3.52*V11)/(10^(0.9813*U11)))+((0.274*V11^2)/(10^(0.8157*U11))) -> 1.3482812 | Q12: =205+273.15 -> 478.15 | R12: =0.709*F12 -> 0.70348818 | S12: =103.9+183.3*R12-39.7*R12^2 -> 213.20203 | U12: =Q12/S12 -> 2.2427085 | V12: =D12/T$3 -> 12.354961
A13: 110 | B13: =B$3*C$3/C13 -> 3161.7253 | C13: =1.01325/D13*Q12/288.15*P13 -> 0.0040087511 | D13: =P13*(D$3/P$3)*(1-H12/I$3) -> 564.37959 | F13: =D13/D$3 -> 0.99013963 | G13: =$B13*((D13)-(E$3)) -> 282593.7 | H13: =H12+G13*(A13-A12) -> 32406345 | P13: =1-((3.52*V12)/(10^(0.9813*U12)))+((0.274*V12^2)/(10^(0.8157*U12))) -> 1.345607 | Q13: =205+273.15 -> 478.15 | R13: =0.709*F13 -> 0.702009 | S13: =103.9+183.3*R13-39.7*R13^2 -> 213.01343 | U13: =Q13/S13 -> 2.2446942 | V13: =D13/T$3 -> 12.328983
A14: 120 | B14: =B$3*C$3/C14 -> 3161.3526 | C14: =1.01325/D14*Q13/288.15*P14 -> 0.0040092237 | D14: =P14*(D$3/P$3)*(1-H13/I$3) -> 563.01321 | F14: =D14/D$3 -> 0.98774248 | G14: =$B14*((D14)-(E$3)) -> 278240.8 | H14: =H13+G14*(A14-A13) -> 35188753 | P14: =1-((3.52*V13)/(10^(0.9813*U13)))+((0.274*V13^2)/(10^(0.8157*U13))) -> 1.3425075 | Q14: =205+273.15 -> 478.15 | R14: =0.709*F14 -> 0.70030942 | S14: =103.9+183.3*R14-39.7*R14^2 -> 212.79652 | U14: =Q14/S14 -> 2.2469823 | V14: =D14/T$3 -> 12.299135
A15: 130 | B15: =B$3*C$3/C15 -> 3160.9856 | C15: =1.01325/D15*Q14/288.15*P15 -> 0.0040096892 | D15: =P15*(D$3/P$3)*(1-H14/I$3) -> 561.46479 | F15: =D15/D$3 -> 0.98502595 | G15: =$B15*((D15)-(E$3)) -> 273313.96 | H15: =H14+G15*(A15-A14) -> 37921892 | P15: =1-((3.52*V14)/(10^(0.9813*U14)))+((0.274*V14^2)/(10^(0.8157*U14))) -> 1.3389708 | Q15: =205+273.15 -> 478.15 | R15: =0.709*F15 -> 0.6983834 | S15: =103.9+183.3*R15-39.7*R15^2 -> 212.55042 | U15: =Q15/S15 -> 2.2495838 | V15: =D15/T$3 -> 12.265309
... A102: 1000 | B102: =B$3*C$3/C102 -> 3145.2346 | C102: =1.01325/D102*Q101/288.15*P102 -> 0.0040297693 | D102: =P102*(D$3/P$3)*(1-H101/I$3) -> 507.49203 | F102: =D102/D$3 -> 0.8903369 | G102: =$B102*((D102)-(E$3)) -> 102195.06 | H102: =H101+G102*(A102-A101) -> 1.5562563e+08 | P102: =1-((3.52*V101)/(10^(0.9813*U101)))+((0.274*V101^2)/(10^(0.8157*U101))) -> 1.2163184 | Q102: =205+273.15 -> 478.15 | R102: =0.709*F102 -> 0.63124886 | S102: =103.9+183.3*R102-39.7*R102^2 -> 203.78845 | U102: =Q102/S102 -> 2.3463056 | V102: =D102/T$3 -> 11.086264

Sheet J változás 21.
A2: t | B2: J | C2: B | D2: pi (bar) | E2: pwf (bar) | G2: Q m^3/nap | H2: Gp | I2: G (nm^3) | P2: zi | Q2: T (K) | R2: relatív sűrűség | S2: Tpc | T2: Ppc | U2: Tpr | V2: Ppr
A3: 10 | B3: ='fő munkalap'!W31 -> 3199.2674 | C3: ='fő munkalap'!C12 -> 0.0040038102 | D3: ='fő munkalap'!C3 -> 570 | E3: ='fő munkalap'!C4 -> 475 | G3: =$B3*((D3)-(E$3)) -> 303930.4 | H3: =G3*A3 -> 3039304 | I3: =24*10^9 -> 24000000000 | P3: =1-((3.52*V3)/(10^(0.9813*U3)))+((0.274*V3^2)/(10^(0.8157*U3))) -> 1.3573323 | Q3: =205+273.15 -> 478.15 | R3: 0.709 | S3: =103.9+183.3*R3-39.7*R3^2 -> 213.90326 | T3: =48.69-3.566*R3-0.766*R3^2 -> 45.776652 | U3: =Q3/S3 -> 2.2353563 | V3: =D3/T$3 -> 12.451762
A4: 20 | B4: =B$3*C$3/C4 -> 3198.8622 | C4: =1.01325/D4*Q3/288.15*P4 -> 0.0040043173 | D4: =P4*(D$3/P$3)*(1-H3/I$3) -> 569.92782 | F4: =D4/D$3 -> 0.99987336 | G4: =$B4*((D4)-(E$3)) -> 303661 | H4: =H3+G4*(A4-A3) -> 6075914 | P4: =1-((3.52*V3)/(10^(0.9813*U3)))+((0.274*V3^2)/(10^(0.8157*U3))) -> 1.3573323 | Q4: =205+273.15 -> 478.15 | R4: =0.709*F4 -> 0.70891021 | S4: =103.9+183.3*R4-39.7*R4^2 -> 213.89186 | U4: =Q4/S4 -> 2.2354754 | V4: =D4/T$3 -> 12.450186
A5: 30 | B5: =B$3*C$3/C5 -> 3198.4574 | C5: =1.01325/D5*Q4/288.15*P5 -> 0.0040048241 | D5: =P5*(D$3/P$3)*(1-H4/I$3) -> 569.77457 | F5: =D5/D$3 -> 0.99960451 | G5: =$B5*((D5)-(E$3)) -> 303132.42 | H5: =H4+G5*(A5-A4) -> 9107238.3 | P5: =1-((3.52*V4)/(10^(0.9813*U4)))+((0.274*V4^2)/(10^(0.8157*U4))) -> 1.3571391 | Q5: =205+273.15 -> 478.15 | R5: =0.709*F5 -> 0.7087196 | S5: =103.9+183.3*R5-39.7*R5^2 -> 213.86765 | U5: =Q5/S5 -> 2.2357285 | V5: =D5/T$3 -> 12.446838
A6: 40 | B6: =B$3*C$3/C6 -> 3198.0533 | C6: =1.01325/D6*Q5/288.15*P6 -> 0.0040053301 | D6: =P6*(D$3/P$3)*(1-H5/I$3) -> 569.53048 | F6: =D6/D$3 -> 0.99917627 | G6: =$B6*((D6)-(E$3)) -> 302313.5 | H6: =H5+G6*(A6-A5) -> 12130373 | P6: =1-((3.52*V5)/(10^(0.9813*U5)))+((0.274*V5^2)/(10^(0.8157*U5))) -> 1.3567291 | Q6: =205+273.15 -> 478.15 | R6: =0.709*F6 -> 0.70841598 | S6: =103.9+183.3*R6-39.7*R6^2 -> 213.82908 | U6: =Q6/S6 -> 2.2361318 | V6: =D6/T$3 -> 12.441506
A7: 50 | B7: =B$3*C$3/C7 -> 3197.6503 | C7: =1.01325/D7*Q6/288.15*P7 -> 0.0040058349 | D7: =P7*(D$3/P$3)*(1-H6/I$3) -> 569.18489 | F7: =D7/D$3 -> 0.99856999 | G7: =$B7*((D7)-(E$3)) -> 301170.35 | H7: =H6+G7*(A7-A6) -> 15142077 | P7: =1-((3.52*V6)/(10^(0.9813*U6)))+((0.274*V6^2)/(10^(0.8157*U6))) -> 1.3560767 | Q7: =205+273.15 -> 478.15 | R7: =0.709*F7 -> 0.70798612 | S7: =103.9+183.3*R7-39.7*R7^2 -> 213.77446 | U7: =Q7/S7 -> 2.2367032 | V7: =D7/T$3 -> 12.433956
A8: 60 | B8: =B$3*C$3/C8 -> 3197.2489 | C8: =1.01325/D8*Q7/288.15*P8 -> 0.0040063379 | D8: =P8*(D$3/P$3)*(1-H7/I$3) -> 568.72643 | F8: =D8/D$3 -> 0.99776566 | G8: =$B8*((D8)-(E$3)) -> 299666.71 | H8: =H7+G8*(A8-A7) -> 18138744 | P8: =1-((3.52*V7)/(10^(0.9813*U7)))+((0.274*V7^2)/(10^(0.8157*U7))) -> 1.3551546 | Q8: =205+273.15 -> 478.15 | R8: =0.709*F8 -> 0.70741585 | S8: =103.9+183.3*R8-39.7*R8^2 -> 213.70197 | U8: =Q8/S8 -> 2.2374618 | V8: =D8/T$3 -> 12.423941
A9: 70 | B9: =B$3*C$3/C9 -> 3196.8494 | C9: =1.01325/D9*Q8/288.15*P9 -> 0.0040068385 | D9: =P9*(D$3/P$3)*(1-H8/I$3) -> 568.14312 | F9: =D9/D$3 -> 0.99674231 | G9: =$B9*((D9)-(E$3)) -> 297764.52 | H9: =H8+G9*(A9-A8) -> 21116389 | P9: =1-((3.52*V8)/(10^(0.9813*U8)))+((0.274*V8^2)/(10^(0.8157*U8))) -> 1.3539338 | Q9: =205+273.15 -> 478.15 | R9: =0.709*F9 -> 0.7066903 | S9: =103.9+183.3*R9-39.7*R9^2 -> 213.60971 | U9: =Q9/S9 -> 2.2384282 | V9: =D9/T$3 -> 12.411198
A10: 80 | B10: =B$3*C$3/C10 -> 3196.4525 | C10: =1.01325/D10*Q9/288.15*P10 -> 0.0040073361 | D10: =P10*(D$3/P$3)*(1-H9/I$3) -> 567.42273 | F10: =D10/D$3 -> 0.99547847 | G10: =$B10*((D10)-(E$3)) -> 295424.86 | H10: =H9+G10*(A10-A9) -> 24070638 | P10: =1-((3.52*V9)/(10^(0.9813*U9)))+((0.274*V9^2)/(10^(0.8157*U9))) -> 1.352385 | Q10: =205+273.15 -> 478.15 | R10: =0.709*F10 -> 0.70579424 | S10: =103.9+183.3*R10-39.7*R10^2 -> 213.49571 | U10: =Q10/S10 -> 2.2396235 | V10: =D10/T$3 -> 12.395461
A11: 90 | B11: =B$3*C$3/C11 -> 3196.0587 | C11: =1.01325/D11*Q10/288.15*P11 -> 0.0040078299 | D11: =P11*(D$3/P$3)*(1-H10/I$3) -> 566.55315 | F11: =D11/D$3 -> 0.99395289 | G11: =$B11*((D11)-(E$3)) -> 292609.23 | H11: =H10+G11*(A11-A10) -> 26996730 | P11: =1-((3.52*V10)/(10^(0.9813*U10)))+((0.274*V10^2)/(10^(0.8157*U10))) -> 1.3504788 | Q11: =205+273.15 -> 478.15 | R11: =0.709*F11 -> 0.7047126 | S11: =103.9+183.3*R11-39.7*R11^2 -> 213.35801 | U11: =Q11/S11 -> 2.2410689 | V11: =D11/T$3 -> 12.376465
A12: 100 | B12: =B$3*C$3/C12 -> 3195.6686 | C12: =1.01325/D12*Q11/288.15*P12 -> 0.004008319 | D12: =P12*(D$3/P$3)*(1-H11/I$3) -> 565.52294 | F12: =D12/D$3 -> 0.99214551 | G12: =$B12*((D12)-(E$3)) -> 289281.33 | H12: =H11+G12*(A12-A11) -> 29889543 | P12: =1-((3.52*V11)/(10^(0.9813*U11)))+((0.274*V11^2)/(10^(0.8157*U11))) -> 1.3481877 | Q12: =205+273.15 -> 478.15 | R12: =0.709*F12 -> 0.70343117 | S12: =103.9+183.3*R12-39.7*R12^2 -> 213.19476 | U12: =Q12/S12 -> 2.2427849 | V12: =D12/T$3 -> 12.35396
A13: 110 | B13: =B$3*C$3/C13 -> 3195.283 | C13: =1.01325/D13*Q12/288.15*P13 -> 0.0040088028 | D13: =P13*(D$3/P$3)*(1-H12/I$3) -> 564.32205 | F13: =D13/D$3 -> 0.99003869 | G13: =$B13*((D13)-(E$3)) -> 285409.23 | H13: =H12+G13*(A13-A12) -> 32743636 | P13: =1-((3.52*V12)/(10^(0.9813*U12)))+((0.274*V12^2)/(10^(0.8157*U12))) -> 1.3454872 | Q13: =205+273.15 -> 478.15 | R13: =0.709*F13 -> 0.70193743 | S13: =103.9+183.3*R13-39.7*R13^2 -> 213.0043 | U13: =Q13/S13 -> 2.2447904 | V13: =D13/T$3 -> 12.327727
A14: 120 | B14: =B$3*C$3/C14 -> 3194.9025 | C14: =1.01325/D14*Q13/288.15*P14 -> 0.0040092802 | D14: =P14*(D$3/P$3)*(1-H13/I$3) -> 562.94261 | F14: =D14/D$3 -> 0.98761862 | G14: =$B14*((D14)-(E$3)) -> 280968.08 | H14: =H13+G14*(A14-A13) -> 35553316 | P14: =1-((3.52*V13)/(10^(0.9813*U13)))+((0.274*V13^2)/(10^(0.8157*U13))) -> 1.3423581 | Q14: =205+273.15 -> 478.15 | R14: =0.709*F14 -> 0.7002216 | S14: =103.9+183.3*R14-39.7*R14^2 -> 212.7853 | U14: =Q14/S14 -> 2.2471007 | V14: =D14/T$3 -> 12.297592
A15: 130 | B15: =B$3*C$3/C15 -> 3194.528 | C15: =1.01325/D15*Q14/288.15*P15 -> 0.0040097502 | D15: =P15*(D$3/P$3)*(1-H14/I$3) -> 561.37992 | F15: =D15/D$3 -> 0.98487705 | G15: =$B15*((D15)-(E$3)) -> 275943.07 | H15: =H14+G15*(A15-A14) -> 38312747 | P15: =1-((3.52*V14)/(10^(0.9813*U14)))+((0.274*V14^2)/(10^(0.8157*U14))) -> 1.3387887 | Q15: =205+273.15 -> 478.15 | R15: =0.709*F15 -> 0.69827783 | S15: =103.9+183.3*R15-39.7*R15^2 -> 212.53693 | U15: =Q15/S15 -> 2.2497267 | V15: =D15/T$3 -> 12.263455
... A102: 1000 | B102: =B$3*C$3/C102 -> 3178.4874 | C102: =1.01325/D102*Q101/288.15*P102 -> 0.0040299859 | D102: =P102*(D$3/P$3)*(1-H101/I$3) -> 507.36966 | F102: =D102/D$3 -> 0.89012221 | G102: =$B102*((D102)-(E$3)) -> 102886.56 | H102: =H101+G102*(A102-A101) -> 1.5691443e+08 | P102: =1-((3.52*V101)/(10^(0.9813*U101)))+((0.274*V101^2)/(10^(0.8157*U101))) -> 1.2160904 | Q102: =205+273.15 -> 478.15 | R102: =0.709*F102 -> 0.63109665 | S102: =103.9+183.3*R102-39.7*R102^2 -> 203.76818 | U102: =Q102/S102 -> 2.3465391 | V102: =D102/T$3 -> 11.08359

Sheet k=0,2-0,15 mD segédlap
A1: k=0,2 mD | B1: 475.09782 | C1: 677.91299 | D1: 799.94689 | E1: 876.92849 | F1: 927.47105 | G1: 960.38011 | H1: 980.57894 | I1: 991.12307 | J1: 994.0504 | K1: 990.7939 | L1: 982.40287 | M1: 969.67073 | N1: 953.21325 | O1: 933.51881 | P1: 910.98184 | Q1: 885.9259 | R1: 858.61998 | S1: 829.2904 | T1: 798.12947 | U1: 765.3022 | V1: 730.95126
A2: k=0,15 mD | B2: -201.93586 | C2: -37.336864 | D2: 58.347545 | E2: 115.69169 | F2: 150.46767 | G2: 170.15733 | H2: 178.95279 | I2: 179.46048 | J2: 173.4214 | K2: 162.06143 | L2: 146.27927 | M2: 126.75523 | N2: 104.01782 | O2: 78.486573 | P2: 50.500609 | Q2: 20.338333 | R2: -11.768619 | S2: -55.862895 | T2: -103.83648 | U2: -152.19316 | V2: -200.92612
B4: 24.734845 | C4: 33.975922 | D4: 41.611837 | E4: 48.04921 | F4: 53.72065 | G4: 58.848024 | H4: 63.563131 | I4: 67.951845 | J4: 72.073816 | K4: 75.972472 | L4: 79.680601 | M4: 83.223674 | N4: 86.621946 | O4: 89.891841 | P4: 93.046896 | Q4: 96.098421 | R4: 99.055985 | S4: 101.92777 | T4: 104.72083 | U4: 107.4413 | V4: 110.09457
B5: 28.561339 | C5: 39.232016 | D5: 48.04921 | E5: 55.482449 | F5: 62.031264 | G5: 67.951845 | H5: 73.396381 | I5: 78.464032 | J5: 83.223674 | K5: 87.725455 | L5: 92.007233 | M5: 96.098421 | N5: 100.02241 | O5: 103.79816 | P5: 107.4413 | Q5: 110.9649 | R5: 114.38 | S5: 116.63688 | T5: 119.75662 | U5: 122.78822 | V5: 125.73794
