Workbook

Sheet fő munkalap
A1: Hidraulikus rétegrepesztés optimalizálása gazdasági szempontból (ellipszis repesztés esetén):
A2: Physical Opt.: | B2: h[m]: | C2: 65
B3: pe [bar]: | C3: =570 -> 570
B4: pwf[bar]: | C4: 475
B5: k[mD]: | C5: 0.25
B6: kf[mD]: | C6: 2000
B7: Xre[m]: | C7: 650
B8: Proppmass[kg]: | C8: 25000 | D8: =C8+25000 -> 50000 | E8: =D8+25000 -> 75000 | F8: =E8+25000 -> 100000 | G8: =F8+25000 -> 125000 | H8: =G8+25000 -> 150000 | I8: =H8+25000 -> 175000 | J8: =I8+25000 -> 200000 | K8: =J8+25000 -> 225000 | ... W8: =V8+25000 -> 525000
B9: Tállandó (K) | C9: 478.15
B10: Zi | C10: ='J változás 1.'!P3 -> 1.3573323
B11: Proppant sűrűség[kg/m^3]: | C11: 2082.4
B12: Bi: | C12: =1.01325/C3*C9/288.15*C10 -> 0.0040038102
B13: µ[cP]: | C13: 0.03
B14: Vp[m^3]: | C14: =C8/$C$11*1.06 -> 12.725701 | D14: =D8/$C$11 -> 24.010757 | E14: =E8/$C$11 -> 36.016135 | F14: =F8/$C$11 -> 48.021514 | G14: =G8/$C$11 -> 60.026892 | H14: =H8/$C$11 -> 72.03227 | I14: =I8/$C$11 -> 84.037649 | J14: =J8/$C$11 -> 96.043027 | K14: =K8/$C$11 -> 108.04841 | ... W14: =W8/$C$11 -> 252.11295
B15: Vr[m^3]: | C15: =(C7^2)*2*C2 -> 54925000
B17: Nprop: | C17: =(2*$C$6*C14)/($C$5*$C$15) -> 0.0037070772 | D17: =(2*$C$6*D14)/($C$5*$C$15) -> 0.0069944854 | E17: =(2*$C$6*E14)/($C$5*$C$15) -> 0.010491728 | F17: =(2*$C$6*F14)/($C$5*$C$15) -> 0.013988971 | G17: =(2*$C$6*G14)/($C$5*$C$15) -> 0.017486213 | H17: =(2*$C$6*H14)/($C$5*$C$15) -> 0.020983456 | I17: =(2*$C$6*I14)/($C$5*$C$15) -> 0.024480699 | J17: =(2*$C$6*J14)/($C$5*$C$15) -> 0.027977941 | ... W17: =(2*$C$6*W14)/($C$5*$C$15) -> 0.073442096
B19: CfD,opt: | C19: =IF(C17<0.1,1.6,IF(C17>10,C17,(1.6+(2.71828182845904^(((-0.583)+1.48*LN(C17)))/(1+0.142*LN(C17)))))) -> 1.6 | D19: =IF(D17<0.1,1.6,IF(D17>10,D17,(1.6+(2.71828182845904^(((-0.583)+1.48*LN(D17)))/(1+0.142*LN(D17)))))) -> 1.6 | E19: =IF(E17<0.1,1.6,IF(E17>10,E17,(1.6+(2.71828182845904^(((-0.583)+1.48*LN(E17)))/(1+0.142*LN(E17)))))) -> 1.6 | F19: =IF(F17<0.1,1.6,IF(F17>10,F17,(1.6+(2.71828182845904^(((-0.583)+1.48*LN(F17)))/(1+0.142*LN(F17)))))) -> 1.6 | G19: =IF(G17<0.1,1.6,IF(G17>10,G17,(1.6+(2.71828182845904^(((-0.583)+1.48*LN(G17)))/(1+0.142*LN(G17)))))) -> 1.6 | H19: =IF(H17<0.1,1.6,IF(H17>10,H17,(1.6+(2.71828182845904^(((-0.583)+1.48*LN(H17)))/(1+0.142*LN(H17)))))) -> 1.6 | I19: =IF(I17<0.1,1.6,IF(I17>10,I17,(1.6+(2.71828182845904^(((-0.583)+1.48*LN(I17)))/(1+0.142*LN(I17)))))) -> 1.6 | J19: =IF(J17<0.1,1.6,IF(J17>10,J17,(1.6+(2.71828182845904^(((-0.583)+1.48*LN(J17)))/(1+0.142*LN(J17)))))) -> 1.6 | ... W19: =IF(W17<0.1,1.6,IF(W17>10,W17,(1.6+(2.71828182845904^(((-0.583)+1.48*LN(W17)))/(1+0.142*LN(W17)))))) -> 1.6
B21: xf,opt [m]: | C21: =(($C$6*(C14/2))/(C19*$C$5*$C$2))^(0.5) -> 22.123518 | D21: =(($C$6*(D14/2))/(D19*$C$5*$C$2))^(0.5) -> 30.388989 | E21: =(($C$6*(E14/2))/(E19*$C$5*$C$2))^(0.5) -> 37.218758 | F21: =(($C$6*(F14/2))/(F19*$C$5*$C$2))^(0.5) -> 42.97652 | G21: =(($C$6*(G14/2))/(G19*$C$5*$C$2))^(0.5) -> 48.04921 | H21: =(($C$6*(H14/2))/(H19*$C$5*$C$2))^(0.5) -> 52.635273 | I21: =(($C$6*(I14/2))/(I19*$C$5*$C$2))^(0.5) -> 56.852592 | J21: =(($C$6*(J14/2))/(J19*$C$5*$C$2))^(0.5) -> 60.777978 | ... W21: =(($C$6*(W14/2))/(W19*$C$5*$C$2))^(0.5) -> 98.471579
B23: w,opt[m]: | C23: =((0.5*C14)/(C21*$C$2)) -> 0.0044247036 | D23: =((0.5*D14)/(D21*$C$2)) -> 0.0060777978 | E23: =((0.5*E14)/(E21*$C$2)) -> 0.0074437517 | F23: =((0.5*F14)/(F21*$C$2)) -> 0.0085953041 | G23: =((0.5*G14)/(G21*$C$2)) -> 0.0096098421 | H23: =((0.5*H14)/(H21*$C$2)) -> 0.010527055 | I23: =((0.5*I14)/(I21*$C$2)) -> 0.011370518 | J23: =((0.5*J14)/(J21*$C$2)) -> 0.012155596 | ... W23: =((0.5*W14)/(W21*$C$2)) -> 0.019694316
B25: Jdmax: | C25: =IF(C17>0.1,(6/PI()-(2.71828182845904^((0.423-0.311*C17-0.089*C17^2)/(1+0.667*C17+0.015*C17^2)))),(1/(0.99-0.5*LN(C17)))) -> 0.26393889 | D25: =IF(D17>0.1,(6/PI()-(2.71828182845904^((0.423-0.311*D17-0.089*D17^2)/(1+0.667*D17+0.015*D17^2)))),(1/(0.99-0.5*LN(D17)))) -> 0.28807513 | E25: =IF(E17>0.1,(6/PI()-(2.71828182845904^((0.423-0.311*E17-0.089*E17^2)/(1+0.667*E17+0.015*E17^2)))),(1/(0.99-0.5*LN(E17)))) -> 0.30594287 | F25: =IF(F17>0.1,(6/PI()-(2.71828182845904^((0.423-0.311*F17-0.089*F17^2)/(1+0.667*F17+0.015*F17^2)))),(1/(0.99-0.5*LN(F17)))) -> 0.32002632 | G25: =IF(G17>0.1,(6/PI()-(2.71828182845904^((0.423-0.311*G17-0.089*G17^2)/(1+0.667*G17+0.015*G17^2)))),(1/(0.99-0.5*LN(G17)))) -> 0.33187626 | H25: =IF(H17>0.1,(6/PI()-(2.71828182845904^((0.423-0.311*H17-0.089*H17^2)/(1+0.667*H17+0.015*H17^2)))),(1/(0.99-0.5*LN(H17)))) -> 0.34223012 | I25: =IF(I17>0.1,(6/PI()-(2.71828182845904^((0.423-0.311*I17-0.089*I17^2)/(1+0.667*I17+0.015*I17^2)))),(1/(0.99-0.5*LN(I17)))) -> 0.35150186 | J25: =IF(J17>0.1,(6/PI()-(2.71828182845904^((0.423-0.311*J17-0.089*J17^2)/(1+0.667*J17+0.015*J17^2)))),(1/(0.99-0.5*LN(J17)))) -> 0.35994925 | ... W25: =IF(W17>0.1,(6/PI()-(2.71828182845904^((0.423-0.311*W17-0.089*W17^2)/(1+0.667*W17+0.015*W17^2)))),(1/(0.99-0.5*LN(W17)))) -> 0.43561046
A27: Innentől SI:
B28: k[m^2]: | C28: =0.000000000000001*C5 -> 2.5e-16
B29: µ[Pa*s]: | C29: =0.03*10^-3 -> 3e-05
B31: Ji [m^3/nap/bar]: | C31: =24*3600*(C25*(($C$12*$C$29)/(2*PI()*$C$28*$C$2))^-1)*10^5 -> 1938.4546 | D31: =24*3600*(D25*(($C$12*$C$29)/(2*PI()*$C$28*$C$2))^-1)*10^5 -> 2115.7191 | E31: =24*3600*(E25*(($C$12*$C$29)/(2*PI()*$C$28*$C$2))^-1)*10^5 -> 2246.9457 | F31: =24*3600*(F25*(($C$12*$C$29)/(2*PI()*$C$28*$C$2))^-1)*10^5 -> 2350.3792 | G31: =24*3600*(G25*(($C$12*$C$29)/(2*PI()*$C$28*$C$2))^-1)*10^5 -> 2437.4091 | H31: =24*3600*(H25*(($C$12*$C$29)/(2*PI()*$C$28*$C$2))^-1)*10^5 -> 2513.4513 | I31: =24*3600*(I25*(($C$12*$C$29)/(2*PI()*$C$28*$C$2))^-1)*10^5 -> 2581.546 | J31: =24*3600*(J25*(($C$12*$C$29)/(2*PI()*$C$28*$C$2))^-1)*10^5 -> 2643.5864 | ... W31: =24*3600*(W25*(($C$12*$C$29)/(2*PI()*$C$28*$C$2))^-1)*10^5 -> 3199.2674
B33: Q [m^3/nap]: | C33: =C31*($C$3-$C$4) -> 184153.18 | D33: =D31*($C$3-$C$4) -> 200993.32 | E33: =E31*($C$3-$C$4) -> 213459.84 | F33: =F31*($C$3-$C$4) -> 223286.02 | G33: =G31*($C$3-$C$4) -> 231553.86 | H33: =H31*($C$3-$C$4) -> 238777.87 | I33: =I31*($C$3-$C$4) -> 245246.87 | J33: =J31*($C$3-$C$4) -> 251140.71 | ... W33: =W31*($C$3-$C$4) -> 303930.4
A34: Economic Opt.:
B35: Q1000[m^3]: | C35: =('J változás 1.'!$H$102)*$A$37 -> 1.0473884e+08 | D35: =('J változás 2.'!$H$102)*$A$37 -> 1.1260343e+08 | E35: =('J változás 3.'!$H$102)*$A$37 -> 1.1830347e+08 | F35: =('J változás 4.'!$H$102)*$A$37 -> 1.2272621e+08 | G35: =('J változás 5.'!$H$102)*$A$37 -> 1.2640122e+08 | H35: =('J változás 6.'!$H$102)*$A$37 -> 1.2957848e+08 | I35: =('J változás 7.'!$H$102)*$A$37 -> 1.3239753e+08 | J35: =('J változás 8.'!$H$102)*$A$37 -> 1.3494482e+08 | K35: =('J változás 9.'!$H$102)*$A$37 -> 1.3727796e+08 | L35: =('J változás 10.'!$H$102)*$A$37 -> 1.3943741e+08 | M35: =('J változás 11.'!$H$102)*$A$37 -> 1.4145276e+08 | N35: =('J változás 12.'!$H$102)*$A$37 -> 1.4334638e+08 | O35: =('J változás 13.'!$H$102)*$A$37 -> 1.451356e+08 | P35: =('J változás 14.'!$H$102)*$A$37 -> 1.4683417e+08 | Q35: =('J változás 15.'!$H$102)*$A$37 -> 1.4845318e+08 | R35: =('J változás 16.'!$H$102)*$A$37 -> 1.5000172e+08 | S35: =('J változás 17.'!$H$102)*$A$37 -> 1.5148734e+08 | T35: =('J változás 18.'!$H$102)*$A$37 -> 1.5291639e+08 | U35: =('J változás 19.'!$H$102)*$A$37 -> 1.5429428e+08 | V35: =('J változás 20.'!$H$102)*$A$37 -> 1.5562563e+08 | W35: =('J változás 21.'!$H$102)*$A$37 -> 1.5691443e+08
A37: 1
B40: κ: | C40: 0.058107
B41: K: | C41: =1+C40 -> 1.058107
B42: fd: | C42: =(('J változás 11.'!H38*'fő munkalap'!C45/'fő munkalap'!C41^1)+(('J változás 11.'!H74-'J változás 11.'!H38)*'fő munkalap'!C45/'fő munkalap'!C41^2)+(('J változás 11.'!H102-'J változás 11.'!H74)*'fő munkalap'!C45/'fő munkalap'!C41^2.74))/('J változás 11.'!H102*'fő munkalap'!C45) -> 0.91330988
B43: fr: | C43: 0.29
B44: ft: | C44: 0.16
B45: gáz ár[HUF/m^3]: | C45: 73
B47: 1000Napos árbevétel[HUF]: | C47: =C35*$C$45*$C$42*(1-$C$43)*(1-$C$44) -> 4.1647257e+09 | D47: =D35*$C$45*$C$42*(1-$C$43)*(1-$C$44) -> 4.4774452e+09 | E47: =E35*$C$45*$C$42*(1-$C$43)*(1-$C$44) -> 4.7040954e+09 | F47: =F35*$C$45*$C$42*(1-$C$43)*(1-$C$44) -> 4.8799567e+09 | G47: =G35*$C$45*$C$42*(1-$C$43)*(1-$C$44) -> 5.026086e+09 | H47: =H35*$C$45*$C$42*(1-$C$43)*(1-$C$44) -> 5.1524234e+09 | I47: =I35*$C$45*$C$42*(1-$C$43)*(1-$C$44) -> 5.2645169e+09 | J47: =J35*$C$45*$C$42*(1-$C$43)*(1-$C$44) -> 5.3658047e+09 | ... W47: =W35*$C$45*$C$42*(1-$C$43)*(1-$C$44) -> 6.2393814e+09
B52: 1000Napos árbevétel[HUF] | C52: =SUM(C35:C39)*$C$45*$C$42*(1-$C$43)*(1-$C$44) -> 4.1647257e+09 | D52: =SUM(D35:D39)*$C$45*$C$42*(1-$C$43)*(1-$C$44) -> 4.4774452e+09 | E52: =SUM(E35:E39)*$C$45*$C$42*(1-$C$43)*(1-$C$44) -> 4.7040954e+09 | F52: =SUM(F35:F39)*$C$45*$C$42*(1-$C$43)*(1-$C$44) -> 4.8799567e+09 | G52: =SUM(G35:G39)*$C$45*$C$42*(1-$C$43)*(1-$C$44) -> 5.026086e+09 | H52: =SUM(H35:H39)*$C$45*$C$42*(1-$C$43)*(1-$C$44) -> 5.1524234e+09 | I52: =SUM(I35:I39)*$C$45*$C$42*(1-$C$43)*(1-$C$44) -> 5.2645169e+09 | J52: =SUM(J35:J39)*$C$45*$C$42*(1-$C$43)*(1-$C$44) -> 5.3658047e+09 | ... W52: =SUM(W35:W39)*$C$45*$C$42*(1-$C$43)*(1-$C$44) -> 6.2393814e+09
B54: KIADÁSOK
B55: Fúrás[HUF]: | C55: 2000000000
B56: Kút vizsgálat[HUF]: | C56: 50000000
B57: Repesztés[HUF]: | C57: 100000000
...

Sheet J változás 1.
A2: t | B2: J | C2: B | D2: pi (bar) | E2: pwf (bar) | G2: Q m^3/nap | H2: Gp | I2: G (nm^3) | P2: zi | Q2: T (K) | R2: relatív sűrűség | S2: Tpc | T2: Ppc | U2: Tpr | V2: Ppr
A3: 10 | B3: =('fő munkalap'!C31) -> 1938.4546 | C3: ='fő munkalap'!C12 -> 0.0040038102 | D3: ='fő munkalap'!C3 -> 570 | E3: ='fő munkalap'!C4 -> 475 | G3: =$B3*((D3)-(E$3)) -> 184153.18 | H3: =G3*A3 -> 1841531.8 | I3: =24*10^9 -> 24000000000 | P3: =1-((3.52*V3)/(10^(0.9813*U3)))+((0.274*V3^2)/(10^(0.8157*U3))) -> 1.3573323 | Q3: =205+273.15 -> 478.15 | R3: 0.709 | S3: =103.9+183.3*R3-39.7*R3^2 -> 213.90326 | T3: =48.69-3.566*R3-0.766*R3^2 -> 45.776652 | U3: =Q3/S3 -> 2.2353563 | V3: =D3/T$3 -> 12.451762
A4: 20 | B4: =(B$3*C$3/C4) -> 1938.3058 | C4: =1.01325/D4*Q3/288.15*P4 -> 0.0040041175 | D4: =P4*(D$3/P$3)*(1-H3/I$3) -> 569.95626 | F4: =D4/D$3 -> 0.99992327 | G4: =$B4*((D4)-(E$3)) -> 184054.28 | H4: =H3+G4*(A4-A3) -> 3682074.6 | P4: =1-((3.52*V3)/(10^(0.9813*U3)))+((0.274*V3^2)/(10^(0.8157*U3))) -> 1.3573323 | Q4: =205+273.15 -> 478.15 | R4: =0.709*F4 -> 0.7089456 | S4: =103.9+183.3*R4-39.7*R4^2 -> 213.89635 | U4: =Q4/S4 -> 2.2354285 | V4: =D4/T$3 -> 12.450807
A5: 30 | B5: =(B$3*C$3/C5) -> 1938.1572 | C5: =1.01325/D5*Q4/288.15*P5 -> 0.0040044246 | D5: =P5*(D$3/P$3)*(1-H4/I$3) -> 569.86339 | F5: =D5/D$3 -> 0.99976033 | G5: =$B5*((D5)-(E$3)) -> 183860.15 | H5: =H4+G5*(A5-A4) -> 5520676.2 | P5: =1-((3.52*V4)/(10^(0.9813*U4)))+((0.274*V4^2)/(10^(0.8157*U4))) -> 1.3572152 | Q5: =205+273.15 -> 478.15 | R5: =0.709*F5 -> 0.70883007 | S5: =103.9+183.3*R5-39.7*R5^2 -> 213.88168 | U5: =Q5/S5 -> 2.2355818 | V5: =D5/T$3 -> 12.448778
A6: 40 | B6: =(B$3*C$3/C6) -> 1938.0087 | C6: =1.01325/D6*Q5/288.15*P6 -> 0.0040047314 | D6: =P6*(D$3/P$3)*(1-H5/I$3) -> 569.71537 | F6: =D6/D$3 -> 0.99950064 | G6: =$B6*((D6)-(E$3)) -> 183559.2 | H6: =H5+G6*(A6-A5) -> 7356268.2 | P6: =1-((3.52*V5)/(10^(0.9813*U5)))+((0.274*V5^2)/(10^(0.8157*U5))) -> 1.3569667 | Q6: =205+273.15 -> 478.15 | R6: =0.709*F6 -> 0.70864595 | S6: =103.9+183.3*R6-39.7*R6^2 -> 213.85829 | U6: =Q6/S6 -> 2.2358263 | V6: =D6/T$3 -> 12.445545
A7: 50 | B7: =(B$3*C$3/C7) -> 1937.8604 | C7: =1.01325/D7*Q6/288.15*P7 -> 0.0040050378 | D7: =P7*(D$3/P$3)*(1-H6/I$3) -> 569.50558 | F7: =D7/D$3 -> 0.9991326 | G7: =$B7*((D7)-(E$3)) -> 183138.63 | H7: =H6+G7*(A7-A6) -> 9187654.4 | P7: =1-((3.52*V6)/(10^(0.9813*U6)))+((0.274*V6^2)/(10^(0.8157*U6))) -> 1.3565708 | Q7: =205+273.15 -> 478.15 | R7: =0.709*F7 -> 0.70838502 | S7: =103.9+183.3*R7-39.7*R7^2 -> 213.82514 | U7: =Q7/S7 -> 2.2361729 | V7: =D7/T$3 -> 12.440962
A8: 60 | B8: =(B$3*C$3/C8) -> 1937.7125 | C8: =1.01325/D8*Q7/288.15*P8 -> 0.0040053436 | D8: =P8*(D$3/P$3)*(1-H7/I$3) -> 569.22681 | F8: =D8/D$3 -> 0.99864353 | G8: =$B8*((D8)-(E$3)) -> 182584.47 | H8: =H7+G8*(A8-A7) -> 11013499 | P8: =1-((3.52*V7)/(10^(0.9813*U7)))+((0.274*V7^2)/(10^(0.8157*U7))) -> 1.3560103 | Q8: =205+273.15 -> 478.15 | R8: =0.709*F8 -> 0.70803826 | S8: =103.9+183.3*R8-39.7*R8^2 -> 213.78108 | U8: =Q8/S8 -> 2.2366338 | V8: =D8/T$3 -> 12.434872
A9: 70 | B9: =(B$3*C$3/C9) -> 1937.565 | C9: =1.01325/D9*Q8/288.15*P9 -> 0.0040056484 | D9: =P9*(D$3/P$3)*(1-H8/I$3) -> 568.87124 | F9: =D9/D$3 -> 0.99801971 | G9: =$B9*((D9)-(E$3)) -> 181881.62 | H9: =H8+G9*(A9-A8) -> 12832315 | P9: =1-((3.52*V8)/(10^(0.9813*U8)))+((0.274*V8^2)/(10^(0.8157*U8))) -> 1.3552663 | Q9: =205+273.15 -> 478.15 | R9: =0.709*F9 -> 0.70759598 | S9: =103.9+183.3*R9-39.7*R9^2 -> 213.72487 | U9: =Q9/S9 -> 2.2372221 | V9: =D9/T$3 -> 12.427104
A10: 80 | B10: =(B$3*C$3/C10) -> 1937.4181 | C10: =1.01325/D10*Q9/288.15*P10 -> 0.0040059521 | D10: =P10*(D$3/P$3)*(1-H9/I$3) -> 568.43053 | F10: =D10/D$3 -> 0.99724654 | G10: =$B10*((D10)-(E$3)) -> 181014 | H10: =H9+G10*(A10-A9) -> 14642455 | P10: =1-((3.52*V9)/(10^(0.9813*U9)))+((0.274*V9^2)/(10^(0.8157*U9))) -> 1.3543191 | Q10: =205+273.15 -> 478.15 | R10: =0.709*F10 -> 0.7070478 | S10: =103.9+183.3*R10-39.7*R10^2 -> 213.65517 | U10: =Q10/S10 -> 2.2379519 | V10: =D10/T$3 -> 12.417477
A11: 90 | B11: =(B$3*C$3/C11) -> 1937.2719 | C11: =1.01325/D11*Q10/288.15*P11 -> 0.0040062545 | D11: =P11*(D$3/P$3)*(1-H10/I$3) -> 567.89595 | F11: =D11/D$3 -> 0.99630869 | G11: =$B11*((D11)-(E$3)) -> 179964.72 | H11: =H10+G11*(A11-A10) -> 16442103 | P11: =1-((3.52*V10)/(10^(0.9813*U10)))+((0.274*V10^2)/(10^(0.8157*U10))) -> 1.3531476 | Q11: =205+273.15 -> 478.15 | R11: =0.709*F11 -> 0.70638286 | S11: =103.9+183.3*R11-39.7*R11^2 -> 213.5706 | U11: =Q11/S11 -> 2.2388381 | V11: =D11/T$3 -> 12.405799
A12: 100 | B12: =(B$3*C$3/C12) -> 1937.1266 | C12: =1.01325/D12*Q11/288.15*P12 -> 0.0040065551 | D12: =P12*(D$3/P$3)*(1-H11/I$3) -> 567.25854 | F12: =D12/D$3 -> 0.99519041 | G12: =$B12*((D12)-(E$3)) -> 178716.46 | H12: =H11+G12*(A12-A11) -> 18229267 | P12: =1-((3.52*V11)/(10^(0.9813*U11)))+((0.274*V11^2)/(10^(0.8157*U11))) -> 1.3517302 | Q12: =205+273.15 -> 478.15 | R12: =0.709*F12 -> 0.70559 | S12: =103.9+183.3*R12-39.7*R12^2 -> 213.46971 | U12: =Q12/S12 -> 2.2398962 | V12: =D12/T$3 -> 12.391875
A13: 110 | B13: =(B$3*C$3/C13) -> 1936.9822 | C13: =1.01325/D13*Q12/288.15*P13 -> 0.0040068537 | D13: =P13*(D$3/P$3)*(1-H12/I$3) -> 566.5093 | F13: =D13/D$3 -> 0.99387597 | G13: =$B13*((D13)-(E$3)) -> 177251.89 | H13: =H12+G13*(A13-A12) -> 20001786 | P13: =1-((3.52*V12)/(10^(0.9813*U12)))+((0.274*V12^2)/(10^(0.8157*U12))) -> 1.3500454 | Q13: =205+273.15 -> 478.15 | R13: =0.709*F13 -> 0.70465806 | S13: =103.9+183.3*R13-39.7*R13^2 -> 213.35107 | U13: =Q13/S13 -> 2.2411418 | V13: =D13/T$3 -> 12.375507
A14: 120 | B14: =(B$3*C$3/C14) -> 1936.839 | C14: =1.01325/D14*Q13/288.15*P14 -> 0.0040071498 | D14: =P14*(D$3/P$3)*(1-H13/I$3) -> 565.6396 | F14: =D14/D$3 -> 0.99235018 | G14: =$B14*((D14)-(E$3)) -> 175554.32 | H14: =H13+G14*(A14-A13) -> 21757329 | P14: =1-((3.52*V13)/(10^(0.9813*U13)))+((0.274*V13^2)/(10^(0.8157*U13))) -> 1.3480725 | Q14: =205+273.15 -> 478.15 | R14: =0.709*F14 -> 0.70357628 | S14: =103.9+183.3*R14-39.7*R14^2 -> 213.21325 | U14: =Q14/S14 -> 2.2425904 | V14: =D14/T$3 -> 12.356509
A15: 130 | B15: =(B$3*C$3/C15) -> 1936.6973 | C15: =1.01325/D15*Q14/288.15*P15 -> 0.0040074432 | D15: =P15*(D$3/P$3)*(1-H14/I$3) -> 564.64149 | F15: =D15/D$3 -> 0.99059911 | G15: =$B15*((D15)-(E$3)) -> 173608.44 | H15: =H14+G15*(A15-A14) -> 23493414 | P15: =1-((3.52*V14)/(10^(0.9813*U14)))+((0.274*V14^2)/(10^(0.8157*U14))) -> 1.3457922 | Q15: =205+273.15 -> 478.15 | R15: =0.709*F15 -> 0.70233477 | S15: =103.9+183.3*R15-39.7*R15^2 -> 213.05498 | U15: =Q15/S15 -> 2.2442564 | V15: =D15/T$3 -> 12.334705
... A102: 1000 | B102: =(B$3*C$3/C102) -> 1930.0536 | C102: =1.01325/D102*Q101/288.15*P102 -> 0.0040212376 | D102: =P102*(D$3/P$3)*(1-H101/I$3) -> 512.64724 | F102: =D102/D$3 -> 0.89938113 | G102: =$B102*((D102)-(E$3)) -> 72661.2 | H102: =H101+G102*(A102-A101) -> 1.0473884e+08 | P102: =1-((3.52*V101)/(10^(0.9813*U101)))+((0.274*V101^2)/(10^(0.8157*U101))) -> 1.2260727 | Q102: =205+273.15 -> 478.15 | R102: =0.709*F102 -> 0.63766122 | S102: =103.9+183.3*R102-39.7*R102^2 -> 204.64081 | U102: =Q102/S102 -> 2.3365329 | V102: =D102/T$3 -> 11.19888

Sheet J változás 2.
A2: t | B2: J | C2: B | D2: pi (bar) | E2: pwf (bar) | G2: Q m^3/nap | H2: Gp | I2: G (nm^3) | P2: zi | Q2: T (K) | R2: relatív sűrűség | S2: Tpc | T2: Ppc | U2: Tpr | V2: Ppr
A3: 10 | B3: ='fő munkalap'!D31 -> 2115.7191 | C3: ='fő munkalap'!C12 -> 0.0040038102 | D3: ='fő munkalap'!C3 -> 570 | E3: ='fő munkalap'!C4 -> 475 | G3: =$B3*((D3)-(E$3)) -> 200993.32 | H3: =G3*A3 -> 2009933.2 | I3: =24*10^9 -> 24000000000 | P3: =1-((3.52*V3)/(10^(0.9813*U3)))+((0.274*V3^2)/(10^(0.8157*U3))) -> 1.3573323 | Q3: =205+273.15 -> 478.15 | R3: 0.709 | S3: =103.9+183.3*R3-39.7*R3^2 -> 213.90326 | T3: =48.69-3.566*R3-0.766*R3^2 -> 45.776652 | U3: =Q3/S3 -> 2.2353563 | V3: =D3/T$3 -> 12.451762
A4: 20 | B4: =B$3*C$3/C4 -> 2115.5419 | C4: =1.01325/D4*Q3/288.15*P4 -> 0.0040041456 | D4: =P4*(D$3/P$3)*(1-H3/I$3) -> 569.95226 | F4: =D4/D$3 -> 0.99991625 | G4: =$B4*((D4)-(E$3)) -> 200875.5 | H4: =H3+G4*(A4-A3) -> 4018688.1 | P4: =1-((3.52*V3)/(10^(0.9813*U3)))+((0.274*V3^2)/(10^(0.8157*U3))) -> 1.3573323 | Q4: =205+273.15 -> 478.15 | R4: =0.709*F4 -> 0.70894062 | S4: =103.9+183.3*R4-39.7*R4^2 -> 213.89572 | U4: =Q4/S4 -> 2.2354351 | V4: =D4/T$3 -> 12.45072
A5: 30 | B5: =B$3*C$3/C5 -> 2115.3648 | C5: =1.01325/D5*Q4/288.15*P5 -> 0.0040044808 | D5: =P5*(D$3/P$3)*(1-H4/I$3) -> 569.8509 | F5: =D5/D$3 -> 0.99973842 | G5: =$B5*((D5)-(E$3)) -> 200644.25 | H5: =H4+G5*(A5-A4) -> 6025130.6 | P5: =1-((3.52*V4)/(10^(0.9813*U4)))+((0.274*V4^2)/(10^(0.8157*U4))) -> 1.3572045 | Q5: =205+273.15 -> 478.15 | R5: =0.709*F5 -> 0.70881454 | S5: =103.9+183.3*R5-39.7*R5^2 -> 213.87971 | U5: =Q5/S5 -> 2.2356025 | V5: =D5/T$3 -> 12.448505
A6: 40 | B6: =B$3*C$3/C6 -> 2115.188 | C6: =1.01325/D6*Q5/288.15*P6 -> 0.0040048156 | D6: =P6*(D$3/P$3)*(1-H5/I$3) -> 569.68936 | F6: =D6/D$3 -> 0.99945502 | G6: =$B6*((D6)-(E$3)) -> 200285.79 | H6: =H5+G6*(A6-A5) -> 8027988.6 | P6: =1-((3.52*V5)/(10^(0.9813*U5)))+((0.274*V5^2)/(10^(0.8157*U5))) -> 1.3569333 | Q6: =205+273.15 -> 478.15 | R6: =0.709*F6 -> 0.70861361 | S6: =103.9+183.3*R6-39.7*R6^2 -> 213.85418 | U6: =Q6/S6 -> 2.2358693 | V6: =D6/T$3 -> 12.444976
A7: 50 | B7: =B$3*C$3/C7 -> 2115.0114 | C7: =1.01325/D7*Q6/288.15*P7 -> 0.00400515 | D7: =P7*(D$3/P$3)*(1-H6/I$3) -> 569.46045 | F7: =D7/D$3 -> 0.99905343 | G7: =$B7*((D7)-(E$3)) -> 199784.94 | H7: =H6+G7*(A7-A6) -> 10025838 | P7: =1-((3.52*V6)/(10^(0.9813*U6)))+((0.274*V6^2)/(10^(0.8157*U6))) -> 1.3565013 | Q7: =205+273.15 -> 478.15 | R7: =0.709*F7 -> 0.70832888 | S7: =103.9+183.3*R7-39.7*R7^2 -> 213.81801 | U7: =Q7/S7 -> 2.2362475 | V7: =D7/T$3 -> 12.439976
A8: 60 | B8: =B$3*C$3/C8 -> 2114.8353 | C8: =1.01325/D8*Q7/288.15*P8 -> 0.0040054835 | D8: =P8*(D$3/P$3)*(1-H7/I$3) -> 569.15634 | F8: =D8/D$3 -> 0.9985199 | G8: =$B8*((D8)-(E$3)) -> 199125.15 | H8: =H7+G8*(A8-A7) -> 12017089 | P8: =1-((3.52*V7)/(10^(0.9813*U7)))+((0.274*V7^2)/(10^(0.8157*U7))) -> 1.3558897 | Q8: =205+273.15 -> 478.15 | R8: =0.709*F8 -> 0.70795061 | S8: =103.9+183.3*R8-39.7*R8^2 -> 213.76994 | U8: =Q8/S8 -> 2.2367504 | V8: =D8/T$3 -> 12.433333
A9: 70 | B9: =B$3*C$3/C9 -> 2114.6597 | C9: =1.01325/D9*Q8/288.15*P9 -> 0.004005816 | D9: =P9*(D$3/P$3)*(1-H8/I$3) -> 568.76858 | F9: =D9/D$3 -> 0.99783961 | G9: =$B9*((D9)-(E$3)) -> 198288.64 | H9: =H8+G9*(A9-A8) -> 13999976 | P9: =1-((3.52*V8)/(10^(0.9813*U8)))+((0.274*V8^2)/(10^(0.8157*U8))) -> 1.3550785 | Q9: =205+273.15 -> 478.15 | R9: =0.709*F9 -> 0.70746829 | S9: =103.9+183.3*R9-39.7*R9^2 -> 213.70864 | U9: =Q9/S9 -> 2.237392 | V9: =D9/T$3 -> 12.424862
A10: 80 | B10: =B$3*C$3/C10 -> 2114.4849 | C10: =1.01325/D10*Q9/288.15*P10 -> 0.0040061471 | D10: =P10*(D$3/P$3)*(1-H9/I$3) -> 568.28822 | F10: =D10/D$3 -> 0.99699688 | G10: =$B10*((D10)-(E$3)) -> 197256.54 | H10: =H9+G10*(A10-A9) -> 15972541 | P10: =1-((3.52*V9)/(10^(0.9813*U9)))+((0.274*V9^2)/(10^(0.8157*U9))) -> 1.354046 | Q10: =205+273.15 -> 478.15 | R10: =0.709*F10 -> 0.70687079 | S10: =103.9+183.3*R10-39.7*R10^2 -> 213.63266 | U10: =Q10/S10 -> 2.2381877 | V10: =D10/T$3 -> 12.414368
A11: 90 | B11: =B$3*C$3/C11 -> 2114.311 | C11: =1.01325/D11*Q10/288.15*P11 -> 0.0040064766 | D11: =P11*(D$3/P$3)*(1-H10/I$3) -> 567.70595 | F11: =D11/D$3 -> 0.99597535 | G11: =$B11*((D11)-(E$3)) -> 196009.22 | H11: =H10+G11*(A11-A10) -> 17932633 | P11: =1-((3.52*V10)/(10^(0.9813*U10)))+((0.274*V10^2)/(10^(0.8157*U10))) -> 1.3527698 | Q11: =205+273.15 -> 478.15 | R11: =0.709*F11 -> 0.70614652 | S11: =103.9+183.3*R11-39.7*R11^2 -> 213.54053 | U11: =Q11/S11 -> 2.2391533 | V11: =D11/T$3 -> 12.401648
A12: 100 | B12: =B$3*C$3/C12 -> 2114.1383 | C12: =1.01325/D12*Q11/288.15*P12 -> 0.0040068041 | D12: =P12*(D$3/P$3)*(1-H11/I$3) -> 567.01229 | F12: =D12/D$3 -> 0.99475841 | G12: =$B12*((D12)-(E$3)) -> 194526.71 | H12: =H11+G12*(A12-A11) -> 19877900 | P12: =1-((3.52*V11)/(10^(0.9813*U11)))+((0.274*V11^2)/(10^(0.8157*U11))) -> 1.3512274 | Q12: =205+273.15 -> 478.15 | R12: =0.709*F12 -> 0.70528371 | S12: =103.9+183.3*R12-39.7*R12^2 -> 213.43073 | U12: =Q12/S12 -> 2.2403053 | V12: =D12/T$3 -> 12.386495
A13: 110 | B13: =B$3*C$3/C13 -> 2113.9668 | C13: =1.01325/D13*Q12/288.15*P13 -> 0.0040071291 | D13: =P13*(D$3/P$3)*(1-H12/I$3) -> 566.19792 | F13: =D13/D$3 -> 0.99332968 | G13: =$B13*((D13)-(E$3)) -> 192789.36 | H13: =H12+G13*(A13-A12) -> 21805794 | P13: =1-((3.52*V12)/(10^(0.9813*U12)))+((0.274*V12^2)/(10^(0.8157*U12))) -> 1.3493961 | Q13: =205+273.15 -> 478.15 | R13: =0.709*F13 -> 0.70427074 | S13: =103.9+183.3*R13-39.7*R13^2 -> 213.30173 | U13: =Q13/S13 -> 2.2416602 | V13: =D13/T$3 -> 12.368705
A14: 120 | B14: =B$3*C$3/C14 -> 2113.7968 | C14: =1.01325/D14*Q13/288.15*P14 -> 0.0040074513 | D14: =P14*(D$3/P$3)*(1-H13/I$3) -> 565.254 | F14: =D14/D$3 -> 0.99167368 | G14: =$B14*((D14)-(E$3)) -> 190778.62 | H14: =H13+G14*(A14-A13) -> 23713580 | P14: =1-((3.52*V13)/(10^(0.9813*U13)))+((0.274*V13^2)/(10^(0.8157*U13))) -> 1.3472548 | Q14: =205+273.15 -> 478.15 | R14: =0.709*F14 -> 0.70309664 | S14: =103.9+183.3*R14-39.7*R14^2 -> 213.15212 | U14: =Q14/S14 -> 2.2432336 | V14: =D14/T$3 -> 12.348085
A15: 130 | B15: =B$3*C$3/C15 -> 2113.6286 | C15: =1.01325/D15*Q14/288.15*P15 -> 0.0040077702 | D15: =P15*(D$3/P$3)*(1-H14/I$3) -> 564.17272 | F15: =D15/D$3 -> 0.9897767 | G15: =$B15*((D15)-(E$3)) -> 188478.01 | H15: =H14+G15*(A15-A14) -> 25598360 | P15: =1-((3.52*V14)/(10^(0.9813*U14)))+((0.274*V14^2)/(10^(0.8157*U14))) -> 1.3447846 | Q15: =205+273.15 -> 478.15 | R15: =0.709*F15 -> 0.70175168 | S15: =103.9+183.3*R15-39.7*R15^2 -> 212.9806 | U15: =Q15/S15 -> 2.2450401 | V15: =D15/T$3 -> 12.324464
... A102: 1000 | B102: =B$3*C$3/C102 -> 2105.8609 | C102: =1.01325/D102*Q101/288.15*P102 -> 0.0040225534 | D102: =P102*(D$3/P$3)*(1-H101/I$3) -> 511.80442 | F102: =D102/D$3 -> 0.89790249 | G102: =$B102*((D102)-(E$3)) -> 77504.984 | H102: =H101+G102*(A102-A101) -> 1.1260343e+08 | P102: =1-((3.52*V101)/(10^(0.9813*U101)))+((0.274*V101^2)/(10^(0.8157*U101))) -> 1.2244575 | Q102: =205+273.15 -> 478.15 | R102: =0.709*F102 -> 0.63661286 | S102: =103.9+183.3*R102-39.7*R102^2 -> 204.50168 | U102: =Q102/S102 -> 2.3381226 | V102: =D102/T$3 -> 11.180468

Sheet J változás 3.
A2: t | B2: J | C2: B | D2: pi (bar) | E2: pwf (bar) | G2: Q m^3/nap | H2: Gp | I2: G (nm^3) | P2: zi | Q2: T (K) | R2: relatív sűrűség | S2: Tpc | T2: Ppc | U2: Tpr | V2: Ppr
A3: 10 | B3: ='fő munkalap'!E31 -> 2246.9457 | C3: ='fő munkalap'!C12 -> 0.0040038102 | D3: ='fő munkalap'!C3 -> 570 | E3: ='fő munkalap'!C4 -> 475 | G3: =$B3*((D3)-(E$3)) -> 213459.84 | H3: =G3*A3 -> 2134598.4 | I3: =24*10^9 -> 24000000000 | P3: =1-((3.52*V3)/(10^(0.9813*U3)))+((0.274*V3^2)/(10^(0.8157*U3))) -> 1.3573323 | Q3: =205+273.15 -> 478.15 | R3: 0.709 | S3: =103.9+183.3*R3-39.7*R3^2 -> 213.90326 | T3: =48.69-3.566*R3-0.766*R3^2 -> 45.776652 | U3: =Q3/S3 -> 2.2353563 | V3: =D3/T$3 -> 12.451762
A4: 20 | B4: =B$3*C$3/C4 -> 2246.7458 | C4: =1.01325/D4*Q3/288.15*P4 -> 0.0040041664 | D4: =P4*(D$3/P$3)*(1-H3/I$3) -> 569.9493 | F4: =D4/D$3 -> 0.99991106 | G4: =$B4*((D4)-(E$3)) -> 213326.95 | H4: =H3+G4*(A4-A3) -> 4267867.9 | P4: =1-((3.52*V3)/(10^(0.9813*U3)))+((0.274*V3^2)/(10^(0.8157*U3))) -> 1.3573323 | Q4: =205+273.15 -> 478.15 | R4: =0.709*F4 -> 0.70893694 | S4: =103.9+183.3*R4-39.7*R4^2 -> 213.89526 | U4: =Q4/S4 -> 2.23544 | V4: =D4/T$3 -> 12.450655
A5: 30 | B5: =B$3*C$3/C5 -> 2246.5461 | C5: =1.01325/D5*Q4/288.15*P5 -> 0.0040045223 | D5: =P5*(D$3/P$3)*(1-H4/I$3) -> 569.84165 | F5: =D5/D$3 -> 0.9997222 | G5: =$B5*((D5)-(E$3)) -> 213066.15 | H5: =H4+G5*(A5-A4) -> 6398529.4 | P5: =1-((3.52*V4)/(10^(0.9813*U4)))+((0.274*V4^2)/(10^(0.8157*U4))) -> 1.3571966 | Q5: =205+273.15 -> 478.15 | R5: =0.709*F5 -> 0.70880304 | S5: =103.9+183.3*R5-39.7*R5^2 -> 213.87825 | U5: =Q5/S5 -> 2.2356177 | V5: =D5/T$3 -> 12.448303
A6: 40 | B6: =B$3*C$3/C6 -> 2246.3466 | C6: =1.01325/D6*Q5/288.15*P6 -> 0.004004878 | D6: =P6*(D$3/P$3)*(1-H5/I$3) -> 569.67011 | F6: =D6/D$3 -> 0.99942125 | G6: =$B6*((D6)-(E$3)) -> 212661.88 | H6: =H5+G6*(A6-A5) -> 8525148.2 | P6: =1-((3.52*V5)/(10^(0.9813*U5)))+((0.274*V5^2)/(10^(0.8157*U5))) -> 1.3569085 | Q6: =205+273.15 -> 478.15 | R6: =0.709*F6 -> 0.70858966 | S6: =103.9+183.3*R6-39.7*R6^2 -> 213.85114 | U6: =Q6/S6 -> 2.2359011 | V6: =D6/T$3 -> 12.444556
A7: 50 | B7: =B$3*C$3/C7 -> 2246.1475 | C7: =1.01325/D7*Q6/288.15*P7 -> 0.004005233 | D7: =P7*(D$3/P$3)*(1-H6/I$3) -> 569.42705 | F7: =D7/D$3 -> 0.99899483 | G7: =$B7*((D7)-(E$3)) -> 212097.09 | H7: =H6+G7*(A7-A6) -> 10646119 | P7: =1-((3.52*V6)/(10^(0.9813*U6)))+((0.274*V6^2)/(10^(0.8157*U6))) -> 1.3564498 | Q7: =205+273.15 -> 478.15 | R7: =0.709*F7 -> 0.70828734 | S7: =103.9+183.3*R7-39.7*R7^2 -> 213.81273 | U7: =Q7/S7 -> 2.2363027 | V7: =D7/T$3 -> 12.439246
A8: 60 | B8: =B$3*C$3/C8 -> 2245.949 | C8: =1.01325/D8*Q7/288.15*P8 -> 0.0040055871 | D8: =P8*(D$3/P$3)*(1-H7/I$3) -> 569.1042 | F8: =D8/D$3 -> 0.99842841 | G8: =$B8*((D8)-(E$3)) -> 211353.22 | H8: =H7+G8*(A8-A7) -> 12759651 | P8: =1-((3.52*V7)/(10^(0.9813*U7)))+((0.274*V7^2)/(10^(0.8157*U7))) -> 1.3558006 | Q8: =205+273.15 -> 478.15 | R8: =0.709*F8 -> 0.70788575 | S8: =103.9+183.3*R8-39.7*R8^2 -> 213.7617 | U8: =Q8/S8 -> 2.2368366 | V8: =D8/T$3 -> 12.432193
A9: 70 | B9: =B$3*C$3/C9 -> 2245.7511 | C9: =1.01325/D9*Q8/288.15*P9 -> 0.00400594 | D9: =P9*(D$3/P$3)*(1-H8/I$3) -> 568.69264 | F9: =D9/D$3 -> 0.99770639 | G9: =$B9*((D9)-(E$3)) -> 210410.36 | H9: =H8+G9*(A9-A8) -> 14863755 | P9: =1-((3.52*V8)/(10^(0.9813*U8)))+((0.274*V8^2)/(10^(0.8157*U8))) -> 1.3549395 | Q9: =205+273.15 -> 478.15 | R9: =0.709*F9 -> 0.70737383 | S9: =103.9+183.3*R9-39.7*R9^2 -> 213.69663 | U9: =Q9/S9 -> 2.2375178 | V9: =D9/T$3 -> 12.423203
A10: 80 | B10: =B$3*C$3/C10 -> 2245.5541 | C10: =1.01325/D10*Q9/288.15*P10 -> 0.0040062914 | D10: =P10*(D$3/P$3)*(1-H9/I$3) -> 568.183 | F10: =D10/D$3 -> 0.99681229 | G10: =$B10*((D10)-(E$3)) -> 209247.48 | H10: =H9+G10*(A10-A9) -> 16956230 | P10: =1-((3.52*V9)/(10^(0.9813*U9)))+((0.274*V9^2)/(10^(0.8157*U9))) -> 1.353844 | Q10: =205+273.15 -> 478.15 | R10: =0.709*F10 -> 0.70673991 | S10: =103.9+183.3*R10-39.7*R10^2 -> 213.61602 | U10: =Q10/S10 -> 2.2383621 | V10: =D10/T$3 -> 12.41207
A11: 90 | B11: =B$3*C$3/C11 -> 2245.3582 | C11: =1.01325/D11*Q10/288.15*P11 -> 0.004006641 | D11: =P11*(D$3/P$3)*(1-H10/I$3) -> 567.56555 | F11: =D11/D$3 -> 0.99572904 | G11: =$B11*((D11)-(E$3)) -> 207842.82 | H11: =H10+G11*(A11-A10) -> 19034658 | P11: =1-((3.52*V10)/(10^(0.9813*U10)))+((0.274*V10^2)/(10^(0.8157*U10))) -> 1.3524908 | Q11: =205+273.15 -> 478.15 | R11: =0.709*F11 -> 0.70597189 | S11: =103.9+183.3*R11-39.7*R11^2 -> 213.51831 | U11: =Q11/S11 -> 2.2393864 | V11: =D11/T$3 -> 12.398581
A12: 100 | B12: =B$3*C$3/C12 -> 2245.1636 | C12: =1.01325/D12*Q11/288.15*P12 -> 0.0040069882 | D12: =P12*(D$3/P$3)*(1-H11/I$3) -> 566.83048 | F12: =D12/D$3 -> 0.99443943 | G12: =$B12*((D12)-(E$3)) -> 206174.44 | H12: =H11+G12*(A12-A11) -> 21096402 | P12: =1-((3.52*V11)/(10^(0.9813*U11)))+((0.274*V11^2)/(10^(0.8157*U11))) -> 1.3508562 | Q12: =205+273.15 -> 478.15 | R12: =0.709*F12 -> 0.70505756 | S12: =103.9+183.3*R12-39.7*R12^2 -> 213.40194 | U12: =Q12/S12 -> 2.2406076 | V12: =D12/T$3 -> 12.382524
A13: 110 | B13: =B$3*C$3/C13 -> 2244.9706 | C13: =1.01325/D13*Q12/288.15*P13 -> 0.0040073327 | D13: =P13*(D$3/P$3)*(1-H12/I$3) -> 565.96822 | F13: =D13/D$3 -> 0.99292671 | G13: =$B13*((D13)-(E$3)) -> 204220.99 | H13: =H12+G13*(A13-A12) -> 23138612 | P13: =1-((3.52*V12)/(10^(0.9813*U12)))+((0.274*V12^2)/(10^(0.8157*U12))) -> 1.3489172 | Q13: =205+273.15 -> 478.15 | R13: =0.709*F13 -> 0.70398504 | S13: =103.9+183.3*R13-39.7*R13^2 -> 213.26534 | U13: =Q13/S13 -> 2.2420427 | V13: =D13/T$3 -> 12.363687
A14: 120 | B14: =B$3*C$3/C14 -> 2244.7794 | C14: =1.01325/D14*Q13/288.15*P14 -> 0.0040076741 | D14: =P14*(D$3/P$3)*(1-H13/I$3) -> 564.96991 | F14: =D14/D$3 -> 0.99117529 | G14: =$B14*((D14)-(E$3)) -> 201962.61 | H14: =H13+G14*(A14-A13) -> 25158238 | P14: =1-((3.52*V13)/(10^(0.9813*U13)))+((0.274*V13^2)/(10^(0.8157*U13))) -> 1.3466526 | Q14: =205+273.15 -> 478.15 | R14: =0.709*F14 -> 0.70274328 | S14: =103.9+183.3*R14-39.7*R14^2 -> 213.10707 | U14: =Q14/S14 -> 2.2437078 | V14: =D14/T$3 -> 12.341879
A15: 130 | B15: =B$3*C$3/C15 -> 2244.5903 | C15: =1.01325/D15*Q14/288.15*P15 -> 0.0040080117 | D15: =P15*(D$3/P$3)*(1-H14/I$3) -> 563.82788 | F15: =D15/D$3 -> 0.98917173 | G15: =$B15*((D15)-(E$3)) -> 199382.21 | H15: =H14+G15*(A15-A14) -> 27152060 | P15: =1-((3.52*V14)/(10^(0.9813*U14)))+((0.274*V14^2)/(10^(0.8157*U14))) -> 1.3440437 | Q15: =205+273.15 -> 478.15 | R15: =0.709*F15 -> 0.70132275 | S15: =103.9+183.3*R15-39.7*R15^2 -> 212.92587 | U15: =Q15/S15 -> 2.2456172 | V15: =D15/T$3 -> 12.316931
... A102: 1000 | B102: =B$3*C$3/C102 -> 2235.9456 | C102: =1.01325/D102*Q101/288.15*P102 -> 0.0040235076 | D102: =P102*(D$3/P$3)*(1-H101/I$3) -> 511.20514 | F102: =D102/D$3 -> 0.89685113 | G102: =$B102*((D102)-(E$3)) -> 80952.726 | H102: =H101+G102*(A102-A101) -> 1.1830347e+08 | P102: =1-((3.52*V101)/(10^(0.9813*U101)))+((0.274*V101^2)/(10^(0.8157*U101))) -> 1.2233139 | Q102: =205+273.15 -> 478.15 | R102: =0.709*F102 -> 0.63586745 | S102: =103.9+183.3*R102-39.7*R102^2 -> 204.4027 | U102: =Q102/S102 -> 2.3392548 | V102: =D102/T$3 -> 11.167377

Sheet J változás 4.
A2: t | B2: J | C2: B | D2: pi (bar) | E2: pwf (bar) | G2: Q m^3/nap | H2: Gp | I2: G (nm^3) | P2: zi | Q2: T (K) | R2: relatív sűrűség | S2: Tpc | T2: Ppc | U2: Tpr | V2: Ppr
A3: 10 | B3: ='fő munkalap'!F31 -> 2350.3792 | C3: ='fő munkalap'!C12 -> 0.0040038102 | D3: ='fő munkalap'!C3 -> 570 | E3: ='fő munkalap'!C4 -> 475 | G3: =$B3*((D3)-(E$3)) -> 223286.02 | H3: =G3*A3 -> 2232860.2 | I3: =24*10^9 -> 24000000000 | P3: =1-((3.52*V3)/(10^(0.9813*U3)))+((0.274*V3^2)/(10^(0.8157*U3))) -> 1.3573323 | Q3: =205+273.15 -> 478.15 | R3: 0.709 | S3: =103.9+183.3*R3-39.7*R3^2 -> 213.90326 | T3: =48.69-3.566*R3-0.766*R3^2 -> 45.776652 | U3: =Q3/S3 -> 2.2353563 | V3: =D3/T$3 -> 12.451762
A4: 20 | B4: =B$3*C$3/C4 -> 2350.1605 | C4: =1.01325/D4*Q3/288.15*P4 -> 0.0040041828 | D4: =P4*(D$3/P$3)*(1-H3/I$3) -> 569.94697 | F4: =D4/D$3 -> 0.99990696 | G4: =$B4*((D4)-(E$3)) -> 223140.62 | H4: =H3+G4*(A4-A3) -> 4464266.4 | P4: =1-((3.52*V3)/(10^(0.9813*U3)))+((0.274*V3^2)/(10^(0.8157*U3))) -> 1.3573323 | Q4: =205+273.15 -> 478.15 | R4: =0.709*F4 -> 0.70893404 | S4: =103.9+183.3*R4-39.7*R4^2 -> 213.89489 | U4: =Q4/S4 -> 2.2354438 | V4: =D4/T$3 -> 12.450604
A5: 30 | B5: =B$3*C$3/C5 -> 2349.942 | C5: =1.01325/D5*Q4/288.15*P5 -> 0.0040045551 | D5: =P5*(D$3/P$3)*(1-H4/I$3) -> 569.83437 | F5: =D5/D$3 -> 0.99970941 | G5: =$B5*((D5)-(E$3)) -> 222855.25 | H5: =H4+G5*(A5-A4) -> 6692818.9 | P5: =1-((3.52*V4)/(10^(0.9813*U4)))+((0.274*V4^2)/(10^(0.8157*U4))) -> 1.3571904 | Q5: =205+273.15 -> 478.15 | R5: =0.709*F5 -> 0.70879397 | S5: =103.9+183.3*R5-39.7*R5^2 -> 213.8771 | U5: =Q5/S5 -> 2.2356298 | V5: =D5/T$3 -> 12.448144
A6: 40 | B6: =B$3*C$3/C6 -> 2349.7237 | C6: =1.01325/D6*Q5/288.15*P6 -> 0.0040049271 | D6: =P6*(D$3/P$3)*(1-H5/I$3) -> 569.65494 | F6: =D6/D$3 -> 0.99939463 | G6: =$B6*((D6)-(E$3)) -> 222412.95 | H6: =H5+G6*(A6-A5) -> 8916948.5 | P6: =1-((3.52*V5)/(10^(0.9813*U5)))+((0.274*V5^2)/(10^(0.8157*U5))) -> 1.356889 | Q6: =205+273.15 -> 478.15 | R6: =0.709*F6 -> 0.70857079 | S6: =103.9+183.3*R6-39.7*R6^2 -> 213.84875 | U6: =Q6/S6 -> 2.2359261 | V6: =D6/T$3 -> 12.444224
A7: 50 | B7: =B$3*C$3/C7 -> 2349.5059 | C7: =1.01325/D7*Q6/288.15*P7 -> 0.0040052984 | D7: =P7*(D$3/P$3)*(1-H6/I$3) -> 569.40073 | F7: =D7/D$3 -> 0.99894865 | G7: =$B7*((D7)-(E$3)) -> 221795.08 | H7: =H6+G7*(A7-A6) -> 11134899 | P7: =1-((3.52*V6)/(10^(0.9813*U6)))+((0.274*V6^2)/(10^(0.8157*U6))) -> 1.3564093 | Q7: =205+273.15 -> 478.15 | R7: =0.709*F7 -> 0.7082546 | S7: =103.9+183.3*R7-39.7*R7^2 -> 213.80857 | U7: =Q7/S7 -> 2.2363463 | V7: =D7/T$3 -> 12.438671
A8: 60 | B8: =B$3*C$3/C8 -> 2349.2887 | C8: =1.01325/D8*Q7/288.15*P8 -> 0.0040056687 | D8: =P8*(D$3/P$3)*(1-H7/I$3) -> 569.06311 | F8: =D8/D$3 -> 0.99835634 | G8: =$B8*((D8)-(E$3)) -> 220981.4 | H8: =H7+G8*(A8-A7) -> 13344713 | P8: =1-((3.52*V7)/(10^(0.9813*U7)))+((0.274*V7^2)/(10^(0.8157*U7))) -> 1.3557303 | Q8: =205+273.15 -> 478.15 | R8: =0.709*F8 -> 0.70783464 | S8: =103.9+183.3*R8-39.7*R8^2 -> 213.7552 | U8: =Q8/S8 -> 2.2369046 | V8: =D8/T$3 -> 12.431296
A9: 70 | B9: =B$3*C$3/C9 -> 2349.0723 | C9: =1.01325/D9*Q8/288.15*P9 -> 0.0040060377 | D9: =P9*(D$3/P$3)*(1-H8/I$3) -> 568.63283 | F9: =D9/D$3 -> 0.99760145 | G9: =$B9*((D9)-(E$3)) -> 219950.28 | H9: =H8+G9*(A9-A8) -> 15544216 | P9: =1-((3.52*V8)/(10^(0.9813*U8)))+((0.274*V8^2)/(10^(0.8157*U8))) -> 1.35483 | Q9: =205+273.15 -> 478.15 | R9: =0.709*F9 -> 0.70729943 | S9: =103.9+183.3*R9-39.7*R9^2 -> 213.68717 | U9: =Q9/S9 -> 2.2376168 | V9: =D9/T$3 -> 12.421896
A10: 80 | B10: =B$3*C$3/C10 -> 2348.8569 | C10: =1.01325/D10*Q9/288.15*P10 -> 0.0040064051 | D10: =P10*(D$3/P$3)*(1-H9/I$3) -> 568.10015 | F10: =D10/D$3 -> 0.99666693 | G10: =$B10*((D10)-(E$3)) -> 218678.92 | H10: =H9+G10*(A10-A9) -> 17731005 | P10: =1-((3.52*V9)/(10^(0.9813*U9)))+((0.274*V9^2)/(10^(0.8157*U9))) -> 1.353685 | Q10: =205+273.15 -> 478.15 | R10: =0.709*F10 -> 0.70663685 | S10: =103.9+183.3*R10-39.7*R10^2 -> 213.60291 | U10: =Q10/S10 -> 2.2384995 | V10: =D10/T$3 -> 12.41026
A11: 90 | B11: =B$3*C$3/C11 -> 2348.6427 | C11: =1.01325/D11*Q10/288.15*P11 -> 0.0040067704 | D11: =P11*(D$3/P$3)*(1-H10/I$3) -> 567.45504 | F11: =D11/D$3 -> 0.99553516 | G11: =$B11*((D11)-(E$3)) -> 217143.85 | H11: =H10+G11*(A11-A10) -> 19902444 | P11: =1-((3.52*V10)/(10^(0.9813*U10)))+((0.274*V10^2)/(10^(0.8157*U10))) -> 1.3522711 | Q11: =205+273.15 -> 478.15 | R11: =0.709*F11 -> 0.70583443 | S11: =103.9+183.3*R11-39.7*R11^2 -> 213.50082 | U11: =Q11/S11 -> 2.2395698 | V11: =D11/T$3 -> 12.396167
A12: 100 | B12: =B$3*C$3/C12 -> 2348.4301 | C12: =1.01325/D12*Q11/288.15*P12 -> 0.0040071332 | D12: =P12*(D$3/P$3)*(1-H11/I$3) -> 566.68745 | F12: =D12/D$3 -> 0.99418851 | G12: =$B12*((D12)-(E$3)) -> 215321.56 | H12: =H11+G12*(A12-A11) -> 22055659 | P12: =1-((3.52*V11)/(10^(0.9813*U11)))+((0.274*V11^2)/(10^(0.8157*U11))) -> 1.3505642 | Q12: =205+273.15 -> 478.15 | R12: =0.709*F12 -> 0.70487965 | S12: =103.9+183.3*R12-39.7*R12^2 -> 213.37928 | U12: =Q12/S12 -> 2.2408455 | V12: =D12/T$3 -> 12.379399
A13: 110 | B13: =B$3*C$3/C13 -> 2348.2192 | C13: =1.01325/D13*Q12/288.15*P13 -> 0.0040074931 | D13: =P13*(D$3/P$3)*(1-H12/I$3) -> 565.78767 | F13: =D13/D$3 -> 0.99260995 | G13: =$B13*((D13)-(E$3)) -> 213189.35 | H13: =H12+G13*(A13-A12) -> 24187553 | P13: =1-((3.52*V12)/(10^(0.9813*U12)))+((0.274*V12^2)/(10^(0.8157*U12))) -> 1.3485409 | Q13: =205+273.15 -> 478.15 | R13: =0.709*F13 -> 0.70376045 | S13: =103.9+183.3*R13-39.7*R13^2 -> 213.23672 | U13: =Q13/S13 -> 2.2423436 | V13: =D13/T$3 -> 12.359743
A14: 120 | B14: =B$3*C$3/C14 -> 2348.0104 | C14: =1.01325/D14*Q13/288.15*P14 -> 0.0040078494 | D14: =P14*(D$3/P$3)*(1-H13/I$3) -> 564.74681 | F14: =D14/D$3 -> 0.99078388 | G14: =$B14*((D14)-(E$3)) -> 210726.45 | H14: =H13+G14*(A14-A13) -> 26294818 | P14: =1-((3.52*V13)/(10^(0.9813*U13)))+((0.274*V13^2)/(10^(0.8157*U13))) -> 1.3461797 | Q14: =205+273.15 -> 478.15 | R14: =0.709*F14 -> 0.70246577 | S14: =103.9+183.3*R14-39.7*R14^2 -> 213.07169 | U14: =Q14/S14 -> 2.2440804 | V14: =D14/T$3 -> 12.337006
A15: 130 | B15: =B$3*C$3/C15 -> 2347.804 | C15: =1.01325/D15*Q14/288.15*P15 -> 0.0040082017 | D15: =P15*(D$3/P$3)*(1-H14/I$3) -> 563.55739 | F15: =D15/D$3 -> 0.98869717 | G15: =$B15*((D15)-(E$3)) -> 207915.39 | H15: =H14+G15*(A15-A14) -> 28373971 | P15: =1-((3.52*V14)/(10^(0.9813*U14)))+((0.274*V14^2)/(10^(0.8157*U14))) -> 1.3434625 | Q15: =205+273.15 -> 478.15 | R15: =0.709*F15 -> 0.70098629 | S15: =103.9+183.3*R15-39.7*R15^2 -> 212.88293 | U15: =Q15/S15 -> 2.2460702 | V15: =D15/T$3 -> 12.311022
... A102: 1000 | B102: =B$3*C$3/C102 -> 2338.4421 | C102: =1.01325/D102*Q101/288.15*P102 -> 0.0040242484 | D102: =P102*(D$3/P$3)*(1-H101/I$3) -> 510.74654 | F102: =D102/D$3 -> 0.89604655 | G102: =$B102*((D102)-(E$3)) -> 83591.205 | H102: =H101+G102*(A102-A101) -> 1.2272621e+08 | P102: =1-((3.52*V101)/(10^(0.9813*U101)))+((0.274*V101^2)/(10^(0.8157*U101))) -> 1.2224414 | Q102: =205+273.15 -> 478.15 | R102: =0.709*F102 -> 0.63529701 | S102: =103.9+183.3*R102-39.7*R102^2 -> 204.32693 | U102: =Q102/S102 -> 2.3401223 | V102: =D102/T$3 -> 11.157359

Sheet J változás 5.
A2: t | B2: J | C2: B | D2: pi (bar) | E2: pwf (bar) | G2: Q m^3/nap | H2: Gp | I2: G (nm^3) | P2: zi | Q2: T (K) | R2: relatív sűrűség | S2: Tpc | T2: Ppc | U2: Tpr | V2: Ppr
A3: 10 | B3: ='fő munkalap'!G31 -> 2437.4091 | C3: ='fő munkalap'!C12 -> 0.0040038102 | D3: ='fő munkalap'!C3 -> 570 | E3: ='fő munkalap'!C4 -> 475 | G3: =$B3*((D3)-(E$3)) -> 231553.86 | H3: =G3*A3 -> 2315538.6 | I3: =24*10^9 -> 24000000000 | P3: =1-((3.52*V3)/(10^(0.9813*U3)))+((0.274*V3^2)/(10^(0.8157*U3))) -> 1.3573323 | Q3: =205+273.15 -> 478.15 | R3: 0.709 | S3: =103.9+183.3*R3-39.7*R3^2 -> 213.90326 | T3: =48.69-3.566*R3-0.766*R3^2 -> 45.776652 | U3: =Q3/S3 -> 2.2353563 | V3: =D3/T$3 -> 12.451762
A4: 20 | B4: =B$3*C$3/C4 -> 2437.1739 | C4: =1.01325/D4*Q3/288.15*P4 -> 0.0040041966 | D4: =P4*(D$3/P$3)*(1-H3/I$3) -> 569.94501 | F4: =D4/D$3 -> 0.99990352 | G4: =$B4*((D4)-(E$3)) -> 231397.49 | H4: =H3+G4*(A4-A3) -> 4629513.5 | P4: =1-((3.52*V3)/(10^(0.9813*U3)))+((0.274*V3^2)/(10^(0.8157*U3))) -> 1.3573323 | Q4: =205+273.15 -> 478.15 | R4: =0.709*F4 -> 0.7089316 | S4: =103.9+183.3*R4-39.7*R4^2 -> 213.89458 | U4: =Q4/S4 -> 2.2354471 | V4: =D4/T$3 -> 12.450561
A5: 30 | B5: =B$3*C$3/C5 -> 2436.9389 | C5: =1.01325/D5*Q4/288.15*P5 -> 0.0040045827 | D5: =P5*(D$3/P$3)*(1-H4/I$3) -> 569.82823 | F5: =D5/D$3 -> 0.99969866 | G5: =$B5*((D5)-(E$3)) -> 231090.61 | H5: =H4+G5*(A5-A4) -> 6940419.6 | P5: =1-((3.52*V4)/(10^(0.9813*U4)))+((0.274*V4^2)/(10^(0.8157*U4))) -> 1.3571851 | Q5: =205+273.15 -> 478.15 | R5: =0.709*F5 -> 0.70878635 | S5: =103.9+183.3*R5-39.7*R5^2 -> 213.87613 | U5: =Q5/S5 -> 2.2356399 | V5: =D5/T$3 -> 12.44801
A6: 40 | B6: =B$3*C$3/C6 -> 2436.7042 | C6: =1.01325/D6*Q5/288.15*P6 -> 0.0040049684 | D6: =P6*(D$3/P$3)*(1-H5/I$3) -> 569.64217 | F6: =D6/D$3 -> 0.99937224 | G6: =$B6*((D6)-(E$3)) -> 230614.98 | H6: =H5+G6*(A6-A5) -> 9246569.4 | P6: =1-((3.52*V5)/(10^(0.9813*U5)))+((0.274*V5^2)/(10^(0.8157*U5))) -> 1.3568726 | Q6: =205+273.15 -> 478.15 | R6: =0.709*F6 -> 0.70855491 | S6: =103.9+183.3*R6-39.7*R6^2 -> 213.84673 | U6: =Q6/S6 -> 2.2359472 | V6: =D6/T$3 -> 12.443946
A7: 50 | B7: =B$3*C$3/C7 -> 2436.47 | C7: =1.01325/D7*Q6/288.15*P7 -> 0.0040053534 | D7: =P7*(D$3/P$3)*(1-H6/I$3) -> 569.37859 | F7: =D7/D$3 -> 0.99890981 | G7: =$B7*((D7)-(E$3)) -> 229950.6 | H7: =H6+G7*(A7-A6) -> 11546075 | P7: =1-((3.52*V6)/(10^(0.9813*U6)))+((0.274*V6^2)/(10^(0.8157*U6))) -> 1.3563751 | Q7: =205+273.15 -> 478.15 | R7: =0.709*F7 -> 0.70822705 | S7: =103.9+183.3*R7-39.7*R7^2 -> 213.80507 | U7: =Q7/S7 -> 2.2363829 | V7: =D7/T$3 -> 12.438188
A8: 60 | B8: =B$3*C$3/C8 -> 2436.2365 | C8: =1.01325/D8*Q7/288.15*P8 -> 0.0040057373 | D8: =P8*(D$3/P$3)*(1-H7/I$3) -> 569.02855 | F8: =D8/D$3 -> 0.99829571 | G8: =$B8*((D8)-(E$3)) -> 229075.79 | H8: =H7+G8*(A8-A7) -> 13836833 | P8: =1-((3.52*V7)/(10^(0.9813*U7)))+((0.274*V7^2)/(10^(0.8157*U7))) -> 1.3556712 | Q8: =205+273.15 -> 478.15 | R8: =0.709*F8 -> 0.70779166 | S8: =103.9+183.3*R8-39.7*R8^2 -> 213.74974 | U8: =Q8/S8 -> 2.2369618 | V8: =D8/T$3 -> 12.430541
A9: 70 | B9: =B$3*C$3/C9 -> 2436.0038 | C9: =1.01325/D9*Q8/288.15*P9 -> 0.0040061199 | D9: =P9*(D$3/P$3)*(1-H8/I$3) -> 568.58252 | F9: =D9/D$3 -> 0.9975132 | G9: =$B9*((D9)-(E$3)) -> 227967.38 | H9: =H8+G9*(A9-A8) -> 16116507 | P9: =1-((3.52*V8)/(10^(0.9813*U8)))+((0.274*V8^2)/(10^(0.8157*U8))) -> 1.354738 | Q9: =205+273.15 -> 478.15 | R9: =0.709*F9 -> 0.70723686 | S9: =103.9+183.3*R9-39.7*R9^2 -> 213.67921 | U9: =Q9/S9 -> 2.2377001 | V9: =D9/T$3 -> 12.420797
A10: 80 | B10: =B$3*C$3/C10 -> 2435.7723 | C10: =1.01325/D10*Q9/288.15*P10 -> 0.0040065007 | D10: =P10*(D$3/P$3)*(1-H9/I$3) -> 568.03049 | F10: =D10/D$3 -> 0.99654471 | G10: =$B10*((D10)-(E$3)) -> 226601.08 | H10: =H9+G10*(A10-A9) -> 18382518 | P10: =1-((3.52*V9)/(10^(0.9813*U9)))+((0.274*V9^2)/(10^(0.8157*U9))) -> 1.3535513 | Q10: =205+273.15 -> 478.15 | R10: =0.709*F10 -> 0.7065502 | S10: =103.9+183.3*R10-39.7*R10^2 -> 213.59189 | U10: =Q10/S10 -> 2.238615 | V10: =D10/T$3 -> 12.408738
A11: 90 | B11: =B$3*C$3/C11 -> 2435.5422 | C11: =1.01325/D11*Q10/288.15*P11 -> 0.0040068793 | D11: =P11*(D$3/P$3)*(1-H10/I$3) -> 567.36216 | F11: =D11/D$3 -> 0.99537221 | G11: =$B11*((D11)-(E$3)) -> 224951.93 | H11: =H10+G11*(A11-A10) -> 20632037 | P11: =1-((3.52*V10)/(10^(0.9813*U10)))+((0.274*V10^2)/(10^(0.8157*U10))) -> 1.3520865 | Q11: =205+273.15 -> 478.15 | R11: =0.709*F11 -> 0.7057189 | S11: =103.9+183.3*R11-39.7*R11^2 -> 213.48612 | U11: =Q11/S11 -> 2.2397241 | V11: =D11/T$3 -> 12.394138
A12: 100 | B12: =B$3*C$3/C12 -> 2435.3137 | C12: =1.01325/D12*Q11/288.15*P12 -> 0.0040072551 | D12: =P12*(D$3/P$3)*(1-H11/I$3) -> 566.5673 | F12: =D12/D$3 -> 0.99397771 | G12: =$B12*((D12)-(E$3)) -> 222995.09 | H12: =H11+G12*(A12-A11) -> 22861988 | P12: =1-((3.52*V11)/(10^(0.9813*U11)))+((0.274*V11^2)/(10^(0.8157*U11))) -> 1.3503189 | Q12: =205+273.15 -> 478.15 | R12: =0.709*F12 -> 0.7047302 | S12: =103.9+183.3*R12-39.7*R12^2 -> 213.36025 | U12: =Q12/S12 -> 2.2410453 | V12: =D12/T$3 -> 12.376774
A13: 110 | B13: =B$3*C$3/C13 -> 2435.0872 | C13: =1.01325/D13*Q12/288.15*P13 -> 0.0040076278 | D13: =P13*(D$3/P$3)*(1-H12/I$3) -> 565.63609 | F13: =D13/D$3 -> 0.99234401 | G13: =$B13*((D13)-(E$3)) -> 220706.77 | H13: =H12+G13*(A13-A12) -> 25069056 | P13: =1-((3.52*V12)/(10^(0.9813*U12)))+((0.274*V12^2)/(10^(0.8157*U12))) -> 1.3482249 | Q13: =205+273.15 -> 478.15 | R13: =0.709*F13 -> 0.7035719 | S13: =103.9+183.3*R13-39.7*R13^2 -> 213.2127 | U13: =Q13/S13 -> 2.2425963 | V13: =D13/T$3 -> 12.356432
A14: 120 | B14: =B$3*C$3/C14 -> 2434.8631 | C14: =1.01325/D14*Q13/288.15*P14 -> 0.0040079968 | D14: =P14*(D$3/P$3)*(1-H13/I$3) -> 564.55965 | F14: =D14/D$3 -> 0.99045553 | G14: =$B14*((D14)-(E$3)) -> 218065.49 | H14: =H13+G14*(A14-A13) -> 27249711 | P14: =1-((3.52*V13)/(10^(0.9813*U13)))+((0.274*V13^2)/(10^(0.8157*U13))) -> 1.345783 | Q14: =205+273.15 -> 478.15 | R14: =0.709*F14 -> 0.70223297 | S14: =103.9+183.3*R14-39.7*R14^2 -> 213.042 | U14: =Q14/S14 -> 2.2443932 | V14: =D14/T$3 -> 12.332917
A15: 130 | B15: =B$3*C$3/C15 -> 2434.6416 | C15: =1.01325/D15*Q14/288.15*P15 -> 0.0040083613 | D15: =P15*(D$3/P$3)*(1-H14/I$3) -> 563.33067 | F15: =D15/D$3 -> 0.98829942 | G15: =$B15*((D15)-(E$3)) -> 215053.53 | H15: =H14+G15*(A15-A14) -> 29400246 | P15: =1-((3.52*V14)/(10^(0.9813*U14)))+((0.274*V14^2)/(10^(0.8157*U14))) -> 1.3429756 | Q15: =205+273.15 -> 478.15 | R15: =0.709*F15 -> 0.70070429 | S15: =103.9+183.3*R15-39.7*R15^2 -> 212.84693 | U15: =Q15/S15 -> 2.24645 | V15: =D15/T$3 -> 12.30607
... A102: 1000 | B102: =B$3*C$3/C102 -> 2424.659 | C102: =1.01325/D102*Q101/288.15*P102 -> 0.0040248642 | D102: =P102*(D$3/P$3)*(1-H101/I$3) -> 510.36955 | F102: =D102/D$3 -> 0.89538518 | G102: =$B102*((D102)-(E$3)) -> 85759.103 | H102: =H101+G102*(A102-A101) -> 1.2640122e+08 | P102: =1-((3.52*V101)/(10^(0.9813*U101)))+((0.274*V101^2)/(10^(0.8157*U101))) -> 1.2217261 | Q102: =205+273.15 -> 478.15 | R102: =0.709*F102 -> 0.63482809 | S102: =103.9+183.3*R102-39.7*R102^2 -> 204.26462 | U102: =Q102/S102 -> 2.3408361 | V102: =D102/T$3 -> 11.149124

Sheet J változás 6.
A2: t | B2: J | C2: B | D2: pi (bar) | E2: pwf (bar) | G2: Q m^3/nap | H2: Gp | I2: G (nm^3) | P2: zi | Q2: T (K) | R2: relatív sűrűség | S2: Tpc | T2: Ppc | U2: Tpr | V2: Ppr
A3: 10 | B3: ='fő munkalap'!H31 -> 2513.4513 | C3: ='fő munkalap'!C12 -> 0.0040038102 | D3: ='fő munkalap'!C3 -> 570 | E3: ='fő munkalap'!C4 -> 475 | G3: =$B3*((D3)-(E$3)) -> 238777.87 | H3: =G3*A3 -> 2387778.7 | I3: =24*10^9 -> 24000000000 | P3: =1-((3.52*V3)/(10^(0.9813*U3)))+((0.274*V3^2)/(10^(0.8157*U3))) -> 1.3573323 | Q3: =205+273.15 -> 478.15 | R3: 0.709 | S3: =103.9+183.3*R3-39.7*R3^2 -> 213.90326 | T3: =48.69-3.566*R3-0.766*R3^2 -> 45.776652 | U3: =Q3/S3 -> 2.2353563 | V3: =D3/T$3 -> 12.451762
A4: 20 | B4: =B$3*C$3/C4 -> 2513.2012 | C4: =1.01325/D4*Q3/288.15*P4 -> 0.0040042086 | D4: =P4*(D$3/P$3)*(1-H3/I$3) -> 569.94329 | F4: =D4/D$3 -> 0.99990051 | G4: =$B4*((D4)-(E$3)) -> 238611.59 | H4: =H3+G4*(A4-A3) -> 4773894.6 | P4: =1-((3.52*V3)/(10^(0.9813*U3)))+((0.274*V3^2)/(10^(0.8157*U3))) -> 1.3573323 | Q4: =205+273.15 -> 478.15 | R4: =0.709*F4 -> 0.70892946 | S4: =103.9+183.3*R4-39.7*R4^2 -> 213.89431 | U4: =Q4/S4 -> 2.2354499 | V4: =D4/T$3 -> 12.450524
A5: 30 | B5: =B$3*C$3/C5 -> 2512.9513 | C5: =1.01325/D5*Q4/288.15*P5 -> 0.0040046068 | D5: =P5*(D$3/P$3)*(1-H4/I$3) -> 569.82288 | F5: =D5/D$3 -> 0.99968926 | G5: =$B5*((D5)-(E$3)) -> 238285.27 | H5: =H4+G5*(A5-A4) -> 7156747.3 | P5: =1-((3.52*V4)/(10^(0.9813*U4)))+((0.274*V4^2)/(10^(0.8157*U4))) -> 1.3571805 | Q5: =205+273.15 -> 478.15 | R5: =0.709*F5 -> 0.70877968 | S5: =103.9+183.3*R5-39.7*R5^2 -> 213.87528 | U5: =Q5/S5 -> 2.2356487 | V5: =D5/T$3 -> 12.447893
A6: 40 | B6: =B$3*C$3/C6 -> 2512.7017 | C6: =1.01325/D6*Q5/288.15*P6 -> 0.0040050045 | D6: =P6*(D$3/P$3)*(1-H5/I$3) -> 569.63102 | F6: =D6/D$3 -> 0.99935267 | G6: =$B6*((D6)-(E$3)) -> 237779.54 | H6: =H5+G6*(A6-A5) -> 9534542.7 | P6: =1-((3.52*V5)/(10^(0.9813*U5)))+((0.274*V5^2)/(10^(0.8157*U5))) -> 1.3568583 | Q6: =205+273.15 -> 478.15 | R6: =0.709*F6 -> 0.70854104 | S6: =103.9+183.3*R6-39.7*R6^2 -> 213.84497 | U6: =Q6/S6 -> 2.2359657 | V6: =D6/T$3 -> 12.443702
A7: 50 | B7: =B$3*C$3/C7 -> 2512.4527 | C7: =1.01325/D7*Q6/288.15*P7 -> 0.0040054015 | D7: =P7*(D$3/P$3)*(1-H6/I$3) -> 569.35924 | F7: =D7/D$3 -> 0.99887587 | G7: =$B7*((D7)-(E$3)) -> 237073.14 | H7: =H6+G7*(A7-A6) -> 11905274 | P7: =1-((3.52*V6)/(10^(0.9813*U6)))+((0.274*V6^2)/(10^(0.8157*U6))) -> 1.3563453 | Q7: =205+273.15 -> 478.15 | R7: =0.709*F7 -> 0.70820299 | S7: =103.9+183.3*R7-39.7*R7^2 -> 213.80201 | U7: =Q7/S7 -> 2.2364148 | V7: =D7/T$3 -> 12.437765
A8: 60 | B8: =B$3*C$3/C8 -> 2512.2045 | C8: =1.01325/D8*Q7/288.15*P8 -> 0.0040057973 | D8: =P8*(D$3/P$3)*(1-H7/I$3) -> 568.99836 | F8: =D8/D$3 -> 0.99824275 | G8: =$B8*((D8)-(E$3)) -> 236143.11 | H8: =H7+G8*(A8-A7) -> 14266705 | P8: =1-((3.52*V7)/(10^(0.9813*U7)))+((0.274*V7^2)/(10^(0.8157*U7))) -> 1.3556196 | Q8: =205+273.15 -> 478.15 | R8: =0.709*F8 -> 0.70775411 | S8: =103.9+183.3*R8-39.7*R8^2 -> 213.74497 | U8: =Q8/S8 -> 2.2370117 | V8: =D8/T$3 -> 12.429882
A9: 70 | B9: =B$3*C$3/C9 -> 2511.9571 | C9: =1.01325/D9*Q8/288.15*P9 -> 0.0040061917 | D9: =P9*(D$3/P$3)*(1-H8/I$3) -> 568.53859 | F9: =D9/D$3 -> 0.99743612 | G9: =$B9*((D9)-(E$3)) -> 234964.92 | H9: =H8+G9*(A9-A8) -> 16616354 | P9: =1-((3.52*V8)/(10^(0.9813*U8)))+((0.274*V8^2)/(10^(0.8157*U8))) -> 1.3546576 | Q9: =205+273.15 -> 478.15 | R9: =0.709*F9 -> 0.70718221 | S9: =103.9+183.3*R9-39.7*R9^2 -> 213.67226 | U9: =Q9/S9 -> 2.2377729 | V9: =D9/T$3 -> 12.419838
A10: 80 | B10: =B$3*C$3/C10 -> 2511.7111 | C10: =1.01325/D10*Q9/288.15*P10 -> 0.0040065842 | D10: =P10*(D$3/P$3)*(1-H9/I$3) -> 567.96966 | F10: =D10/D$3 -> 0.996438 | G10: =$B10*((D10)-(E$3)) -> 233512.92 | H10: =H9+G10*(A10-A9) -> 18951484 | P10: =1-((3.52*V9)/(10^(0.9813*U9)))+((0.274*V9^2)/(10^(0.8157*U9))) -> 1.3534346 | Q10: =205+273.15 -> 478.15 | R10: =0.709*F10 -> 0.70647454 | S10: =103.9+183.3*R10-39.7*R10^2 -> 213.58226 | U10: =Q10/S10 -> 2.2387159 | V10: =D10/T$3 -> 12.407409
A11: 90 | B11: =B$3*C$3/C11 -> 2511.4665 | C11: =1.01325/D11*Q10/288.15*P11 -> 0.0040069743 | D11: =P11*(D$3/P$3)*(1-H10/I$3) -> 567.28108 | F11: =D11/D$3 -> 0.99522997 | G11: =$B11*((D11)-(E$3)) -> 231760.85 | H11: =H10+G11*(A11-A10) -> 21269092 | P11: =1-((3.52*V10)/(10^(0.9813*U10)))+((0.274*V10^2)/(10^(0.8157*U10))) -> 1.3519254 | Q11: =205+273.15 -> 478.15 | R11: =0.709*F11 -> 0.70561805 | S11: =103.9+183.3*R11-39.7*R11^2 -> 213.47328 | U11: =Q11/S11 -> 2.2398587 | V11: =D11/T$3 -> 12.392367
A12: 100 | B12: =B$3*C$3/C12 -> 2511.2238 | C12: =1.01325/D12*Q11/288.15*P12 -> 0.0040073616 | D12: =P12*(D$3/P$3)*(1-H11/I$3) -> 566.46246 | F12: =D12/D$3 -> 0.99379379 | G12: =$B12*((D12)-(E$3)) -> 229682.7 | H12: =H11+G12*(A12-A11) -> 23565919 | P12: =1-((3.52*V11)/(10^(0.9813*U11)))+((0.274*V11^2)/(10^(0.8157*U11))) -> 1.3501049 | Q12: =205+273.15 -> 478.15 | R12: =0.709*F12 -> 0.70459979 | S12: =103.9+183.3*R12-39.7*R12^2 -> 213.34365 | U12: =Q12/S12 -> 2.2412198 | V12: =D12/T$3 -> 12.374484
A13: 110 | B13: =B$3*C$3/C13 -> 2510.9833 | C13: =1.01325/D13*Q12/288.15*P13 -> 0.0040077455 | D13: =P13*(D$3/P$3)*(1-H12/I$3) -> 565.50389 | F13: =D13/D$3 -> 0.99211209 | G13: =$B13*((D13)-(E$3)) -> 227253.75 | H13: =H12+G13*(A13-A12) -> 25838457 | P13: =1-((3.52*V12)/(10^(0.9813*U12)))+((0.274*V12^2)/(10^(0.8157*U12))) -> 1.3479494 | Q13: =205+273.15 -> 478.15 | R13: =0.709*F13 -> 0.70340747 | S13: =103.9+183.3*R13-39.7*R13^2 -> 213.19174 | U13: =Q13/S13 -> 2.2428167 | V13: =D13/T$3 -> 12.353544
A14: 120 | B14: =B$3*C$3/C14 -> 2510.7453 | C14: =1.01325/D14*Q13/288.15*P14 -> 0.0040081254 | D14: =P14*(D$3/P$3)*(1-H13/I$3) -> 564.39653 | F14: =D14/D$3 -> 0.99016936 | G14: =$B14*((D14)-(E$3)) -> 224451.92 | H14: =H13+G14*(A14-A13) -> 28082976 | P14: =1-((3.52*V13)/(10^(0.9813*U13)))+((0.274*V13^2)/(10^(0.8157*U13))) -> 1.3454374 | Q14: =205+273.15 -> 478.15 | R14: =0.709*F14 -> 0.70203007 | S14: =103.9+183.3*R14-39.7*R14^2 -> 213.01612 | U14: =Q14/S14 -> 2.2446658 | V14: =D14/T$3 -> 12.329354
A15: 130 | B15: =B$3*C$3/C15 -> 2510.5102 | C15: =1.01325/D15*Q14/288.15*P15 -> 0.0040085007 | D15: =P15*(D$3/P$3)*(1-H14/I$3) -> 563.13324 | F15: =D15/D$3 -> 0.98795305 | G15: =$B15*((D15)-(E$3)) -> 221259.4 | H15: =H14+G15*(A15-A14) -> 30295570 | P15: =1-((3.52*V14)/(10^(0.9813*U14)))+((0.274*V14^2)/(10^(0.8157*U14))) -> 1.3425516 | Q15: =205+273.15 -> 478.15 | R15: =0.709*F15 -> 0.70045871 | S15: =103.9+183.3*R15-39.7*R15^2 -> 212.81558 | U15: =Q15/S15 -> 2.246781 | V15: =D15/T$3 -> 12.301757
... A102: 1000 | B102: =B$3*C$3/C102 -> 2499.9726 | C102: =1.01325/D102*Q101/288.15*P102 -> 0.0040253968 | D102: =P102*(D$3/P$3)*(1-H101/I$3) -> 510.04653 | F102: =D102/D$3 -> 0.89481848 | G102: =$B102*((D102)-(E$3)) -> 87615.369 | H102: =H101+G102*(A102-A101) -> 1.2957848e+08 | P102: =1-((3.52*V101)/(10^(0.9813*U101)))+((0.274*V101^2)/(10^(0.8157*U101))) -> 1.2211144 | Q102: =205+273.15 -> 478.15 | R102: =0.709*F102 -> 0.6344263 | S102: =103.9+183.3*R102-39.7*R102^2 -> 204.21122 | U102: =Q102/S102 -> 2.3414482 | V102: =D102/T$3 -> 11.142067

Sheet J változás 7.
A2: t | B2: J | C2: B | D2: pi (bar) | E2: pwf (bar) | G2: Q m^3/nap | H2: Gp | I2: G (nm^3) | P2: zi | Q2: T (K) | R2: relatív sűrűség | S2: Tpc | T2: Ppc | U2: Tpr | V2: Ppr
A3: 10 | B3: ='fő munkalap'!I31 -> 2581.546 | C3: ='fő munkalap'!C12 -> 0.0040038102 | D3: ='fő munkalap'!C3 -> 570 | E3: ='fő munkalap'!C4 -> 475 | G3: =$B3*((D3)-(E$3)) -> 245246.87 | H3: =G3*A3 -> 2452468.7 | I3: =24*10^9 -> 24000000000 | P3: =1-((3.52*V3)/(10^(0.9813*U3)))+((0.274*V3^2)/(10^(0.8157*U3))) -> 1.3573323 | Q3: =205+273.15 -> 478.15 | R3: 0.709 | S3: =103.9+183.3*R3-39.7*R3^2 -> 213.90326 | T3: =48.69-3.566*R3-0.766*R3^2 -> 45.776652 | U3: =Q3/S3 -> 2.2353563 | V3: =D3/T$3 -> 12.451762
A4: 20 | B4: =B$3*C$3/C4 -> 2581.2822 | C4: =1.01325/D4*Q3/288.15*P4 -> 0.0040042194 | D4: =P4*(D$3/P$3)*(1-H3/I$3) -> 569.94175 | F4: =D4/D$3 -> 0.99989781 | G4: =$B4*((D4)-(E$3)) -> 245071.46 | H4: =H3+G4*(A4-A3) -> 4903183.3 | P4: =1-((3.52*V3)/(10^(0.9813*U3)))+((0.274*V3^2)/(10^(0.8157*U3))) -> 1.3573323 | Q4: =205+273.15 -> 478.15 | R4: =0.709*F4 -> 0.70892755 | S4: =103.9+183.3*R4-39.7*R4^2 -> 213.89406 | U4: =Q4/S4 -> 2.2354524 | V4: =D4/T$3 -> 12.45049
A5: 30 | B5: =B$3*C$3/C5 -> 2581.0186 | C5: =1.01325/D5*Q4/288.15*P5 -> 0.0040046284 | D5: =P5*(D$3/P$3)*(1-H4/I$3) -> 569.81808 | F5: =D5/D$3 -> 0.99968084 | G5: =$B5*((D5)-(E$3)) -> 244727.23 | H5: =H4+G5*(A5-A4) -> 7350455.6 | P5: =1-((3.52*V4)/(10^(0.9813*U4)))+((0.274*V4^2)/(10^(0.8157*U4))) -> 1.3571764 | Q5: =205+273.15 -> 478.15 | R5: =0.709*F5 -> 0.70877372 | S5: =103.9+183.3*R5-39.7*R5^2 -> 213.87452 | U5: =Q5/S5 -> 2.2356566 | V5: =D5/T$3 -> 12.447788
A6: 40 | B6: =B$3*C$3/C6 -> 2580.7553 | C6: =1.01325/D6*Q5/288.15*P6 -> 0.0040050369 | D6: =P6*(D$3/P$3)*(1-H5/I$3) -> 569.62104 | F6: =D6/D$3 -> 0.99933515 | G6: =$B6*((D6)-(E$3)) -> 244193.75 | H6: =H5+G6*(A6-A5) -> 9792393 | P6: =1-((3.52*V5)/(10^(0.9813*U5)))+((0.274*V5^2)/(10^(0.8157*U5))) -> 1.3568455 | Q6: =205+273.15 -> 478.15 | R6: =0.709*F6 -> 0.70852862 | S6: =103.9+183.3*R6-39.7*R6^2 -> 213.84339 | U6: =Q6/S6 -> 2.2359822 | V6: =D6/T$3 -> 12.443484
A7: 50 | B7: =B$3*C$3/C7 -> 2580.4927 | C7: =1.01325/D7*Q6/288.15*P7 -> 0.0040054445 | D7: =P7*(D$3/P$3)*(1-H6/I$3) -> 569.34192 | F7: =D7/D$3 -> 0.99884548 | G7: =$B7*((D7)-(E$3)) -> 243448.64 | H7: =H6+G7*(A7-A6) -> 12226879 | P7: =1-((3.52*V6)/(10^(0.9813*U6)))+((0.274*V6^2)/(10^(0.8157*U6))) -> 1.3563187 | Q7: =205+273.15 -> 478.15 | R7: =0.709*F7 -> 0.70818145 | S7: =103.9+183.3*R7-39.7*R7^2 -> 213.79928 | U7: =Q7/S7 -> 2.2364435 | V7: =D7/T$3 -> 12.437387
A8: 60 | B8: =B$3*C$3/C8 -> 2580.2308 | C8: =1.01325/D8*Q7/288.15*P8 -> 0.004005851 | D8: =P8*(D$3/P$3)*(1-H7/I$3) -> 568.97134 | F8: =D8/D$3 -> 0.99819533 | G8: =$B8*((D8)-(E$3)) -> 242467.74 | H8: =H7+G8*(A8-A7) -> 14651557 | P8: =1-((3.52*V7)/(10^(0.9813*U7)))+((0.274*V7^2)/(10^(0.8157*U7))) -> 1.3555734 | Q8: =205+273.15 -> 478.15 | R8: =0.709*F8 -> 0.70772049 | S8: =103.9+183.3*R8-39.7*R8^2 -> 213.74069 | U8: =Q8/S8 -> 2.2370565 | V8: =D8/T$3 -> 12.429291
A9: 70 | B9: =B$3*C$3/C9 -> 2579.97 | C9: =1.01325/D9*Q8/288.15*P9 -> 0.004006256 | D9: =P9*(D$3/P$3)*(1-H8/I$3) -> 568.49926 | F9: =D9/D$3 -> 0.99736712 | G9: =$B9*((D9)-(E$3)) -> 241225.28 | H9: =H8+G9*(A9-A8) -> 17063810 | P9: =1-((3.52*V8)/(10^(0.9813*U8)))+((0.274*V8^2)/(10^(0.8157*U8))) -> 1.3545856 | Q9: =205+273.15 -> 478.15 | R9: =0.709*F9 -> 0.70713329 | S9: =103.9+183.3*R9-39.7*R9^2 -> 213.66604 | U9: =Q9/S9 -> 2.237838 | V9: =D9/T$3 -> 12.418978
A10: 80 | B10: =B$3*C$3/C10 -> 2579.7105 | C10: =1.01325/D10*Q9/288.15*P10 -> 0.0040066589 | D10: =P10*(D$3/P$3)*(1-H9/I$3) -> 567.91522 | F10: =D10/D$3 -> 0.99634249 | G10: =$B10*((D10)-(E$3)) -> 239694.37 | H10: =H9+G10*(A10-A9) -> 19460753 | P10: =1-((3.52*V9)/(10^(0.9813*U9)))+((0.274*V9^2)/(10^(0.8157*U9))) -> 1.3533301 | Q10: =205+273.15 -> 478.15 | R10: =0.709*F10 -> 0.70640682 | S10: =103.9+183.3*R10-39.7*R10^2 -> 213.57365 | U10: =Q10/S10 -> 2.2388061 | V10: =D10/T$3 -> 12.40622
A11: 90 | B11: =B$3*C$3/C11 -> 2579.4527 | C11: =1.01325/D11*Q10/288.15*P11 -> 0.0040070594 | D11: =P11*(D$3/P$3)*(1-H10/I$3) -> 567.20854 | F11: =D11/D$3 -> 0.99510271 | G11: =$B11*((D11)-(E$3)) -> 237847.57 | H11: =H10+G11*(A11-A10) -> 21839229 | P11: =1-((3.52*V10)/(10^(0.9813*U10)))+((0.274*V10^2)/(10^(0.8157*U10))) -> 1.3517812 | Q11: =205+273.15 -> 478.15 | R11: =0.709*F11 -> 0.70552782 | S11: =103.9+183.3*R11-39.7*R11^2 -> 213.4618 | U11: =Q11/S11 -> 2.2399792 | V11: =D11/T$3 -> 12.390782
A12: 100 | B12: =B$3*C$3/C12 -> 2579.1969 | C12: =1.01325/D12*Q11/288.15*P12 -> 0.0040074569 | D12: =P12*(D$3/P$3)*(1-H11/I$3) -> 566.36869 | F12: =D12/D$3 -> 0.99362928 | G12: =$B12*((D12)-(E$3)) -> 235657.84 | H12: =H11+G12*(A12-A11) -> 24195808 | P12: =1-((3.52*V11)/(10^(0.9813*U11)))+((0.274*V11^2)/(10^(0.8157*U11))) -> 1.3499135 | Q12: =205+273.15 -> 478.15 | R12: =0.709*F12 -> 0.70448316 | S12: =103.9+183.3*R12-39.7*R12^2 -> 213.32879 | U12: =Q12/S12 -> 2.2413758 | V12: =D12/T$3 -> 12.372436
A13: 110 | B13: =B$3*C$3/C13 -> 2578.9434 | C13: =1.01325/D13*Q12/288.15*P13 -> 0.0040078508 | D13: =P13*(D$3/P$3)*(1-H12/I$3) -> 565.38571 | F13: =D13/D$3 -> 0.99190475 | G13: =$B13*((D13)-(E$3)) -> 233099.62 | H13: =H12+G13*(A13-A12) -> 26526804 | P13: =1-((3.52*V12)/(10^(0.9813*U12)))+((0.274*V12^2)/(10^(0.8157*U12))) -> 1.3477031 | Q13: =205+273.15 -> 478.15 | R13: =0.709*F13 -> 0.70326047 | S13: =103.9+183.3*R13-39.7*R13^2 -> 213.173 | U13: =Q13/S13 -> 2.2430138 | V13: =D13/T$3 -> 12.350962
A14: 120 | B14: =B$3*C$3/C14 -> 2578.6927 | C14: =1.01325/D14*Q13/288.15*P14 -> 0.0040082405 | D14: =P14*(D$3/P$3)*(1-H13/I$3) -> 564.25079 | F14: =D14/D$3 -> 0.98991366 | G14: =$B14*((D14)-(E$3)) -> 230150.35 | H14: =H13+G14*(A14-A13) -> 28828307 | P14: =1-((3.52*V13)/(10^(0.9813*U13)))+((0.274*V13^2)/(10^(0.8157*U13))) -> 1.3451286 | Q14: =205+273.15 -> 478.15 | R14: =0.709*F14 -> 0.70184879 | S14: =103.9+183.3*R14-39.7*R14^2 -> 212.99299 | U14: =Q14/S14 -> 2.2449095 | V14: =D14/T$3 -> 12.32617
A15: 130 | B15: =B$3*C$3/C15 -> 2578.4451 | C15: =1.01325/D15*Q14/288.15*P15 -> 0.0040086253 | D15: =P15*(D$3/P$3)*(1-H14/I$3) -> 562.95696 | F15: =D15/D$3 -> 0.98764379 | G15: =$B15*((D15)-(E$3)) -> 226792.19 | H15: =H14+G15*(A15-A14) -> 31096229 | P15: =1-((3.52*V14)/(10^(0.9813*U14)))+((0.274*V14^2)/(10^(0.8157*U14))) -> 1.342173 | Q15: =205+273.15 -> 478.15 | R15: =0.709*F15 -> 0.70023945 | S15: =103.9+183.3*R15-39.7*R15^2 -> 212.78758 | U15: =Q15/S15 -> 2.2470766 | V15: =D15/T$3 -> 12.297906
... A102: 1000 | B102: =B$3*C$3/C102 -> 2567.4007 | C102: =1.01325/D102*Q101/288.15*P102 -> 0.0040258695 | D102: =P102*(D$3/P$3)*(1-H101/I$3) -> 509.76213 | F102: =D102/D$3 -> 0.89431952 | G102: =$B102*((D102)-(E$3)) -> 89248.316 | H102: =H101+G102*(A102-A101) -> 1.3239753e+08 | P102: =1-((3.52*V101)/(10^(0.9813*U101)))+((0.274*V101^2)/(10^(0.8157*U101))) -> 1.2205768 | Q102: =205+273.15 -> 478.15 | R102: =0.709*F102 -> 0.63407254 | S102: =103.9+183.3*R102-39.7*R102^2 -> 204.16419 | U102: =Q102/S102 -> 2.3419876 | V102: =D102/T$3 -> 11.135854

Sheet J változás 8.
A2: t | B2: J | C2: B | D2: pi (bar) | E2: pwf (bar) | G2: Q m^3/nap | H2: Gp | I2: G (nm^3) | P2: zi | Q2: T (K) | R2: relatív sűrűség | S2: Tpc | T2: Ppc | U2: Tpr | V2: Ppr
A3: 10 | B3: ='fő munkalap'!J31 -> 2643.5864 | C3: ='fő munkalap'!C12 -> 0.0040038102 | D3: ='fő munkalap'!C3 -> 570 | E3: ='fő munkalap'!C4 -> 475 | G3: =$B3*((D3)-(E$3)) -> 251140.71 | H3: =G3*A3 -> 2511407.1 | I3: =24*10^9 -> 24000000000 | P3: =1-((3.52*V3)/(10^(0.9813*U3)))+((0.274*V3^2)/(10^(0.8157*U3))) -> 1.3573323 | Q3: =205+273.15 -> 478.15 | R3: 0.709 | S3: =103.9+183.3*R3-39.7*R3^2 -> 213.90326 | T3: =48.69-3.566*R3-0.766*R3^2 -> 45.776652 | U3: =Q3/S3 -> 2.2353563 | V3: =D3/T$3 -> 12.451762
A4: 20 | B4: =B$3*C$3/C4 -> 2643.3098 | C4: =1.01325/D4*Q3/288.15*P4 -> 0.0040042292 | D4: =P4*(D$3/P$3)*(1-H3/I$3) -> 569.94035 | F4: =D4/D$3 -> 0.99989536 | G4: =$B4*((D4)-(E$3)) -> 250956.76 | H4: =H3+G4*(A4-A3) -> 5020974.7 | P4: =1-((3.52*V3)/(10^(0.9813*U3)))+((0.274*V3^2)/(10^(0.8157*U3))) -> 1.3573323 | Q4: =205+273.15 -> 478.15 | R4: =0.709*F4 -> 0.70892581 | S4: =103.9+183.3*R4-39.7*R4^2 -> 213.89384 | U4: =Q4/S4 -> 2.2354547 | V4: =D4/T$3 -> 12.450459
