Workbook

Sheet Egyéni eredmény
A1: Hely | B1: Kód | C1: Hallgató Neve | D1: Intézmény | E1: Kar | F1: 1. | G1: 2. | H1: 3. | I1: 4. | J1: 5. | K1: Összes
A2: 1. | B2: 57. | C2: Telekes Márton Gábor | D2: Budapesti Műszaki és Gazdaságtudományi Egyetem | E2: Villamosmérnöki és Informatikai Kar | F2: =VLOOKUP($B2,'Eredmény kód szerint'!$A$1:$G$111,2,0) -> 20 | G2: =VLOOKUP($B2,'Eredmény kód szerint'!$A$1:$G$111,3,0) -> 20 | H2: =VLOOKUP($B2,'Eredmény kód szerint'!$A$1:$G$111,4,0) -> 18 | I2: =VLOOKUP($B2,'Eredmény kód szerint'!$A$1:$G$111,5,0) -> 20 | J2: =VLOOKUP($B2,'Eredmény kód szerint'!$A$1:$G$111,6,0) -> 17 | K2: =SUM(F2:J2) -> 95
A3: 2. | B3: 42. | C3: Komáromi Mátyás | D3: Eötvös Lóránd Tudományegyetem | E3: Informatikai Kar | F3: =VLOOKUP($B3,'Eredmény kód szerint'!$A$1:$G$111,2,0) -> 20 | G3: =VLOOKUP($B3,'Eredmény kód szerint'!$A$1:$G$111,3,0) -> 10 | H3: =VLOOKUP($B3,'Eredmény kód szerint'!$A$1:$G$111,4,0) -> 16 | I3: =VLOOKUP($B3,'Eredmény kód szerint'!$A$1:$G$111,5,0) -> 20 | J3: =VLOOKUP($B3,'Eredmény kód szerint'!$A$1:$G$111,6,0) -> 17 | K3: =SUM(F3:J3) -> 83
A4: 3. | B4: 22. | C4: Széles Katalin | D4: Budapesti Műszaki és Gazdaságtudományi Egyetem | E4: Gépészmérnöki Kar | F4: =VLOOKUP($B4,'Eredmény kód szerint'!$A$1:$G$111,2,0) -> 20 | G4: =VLOOKUP($B4,'Eredmény kód szerint'!$A$1:$G$111,3,0) -> 7 | H4: =VLOOKUP($B4,'Eredmény kód szerint'!$A$1:$G$111,4,0) -> 20 | I4: =VLOOKUP($B4,'Eredmény kód szerint'!$A$1:$G$111,5,0) -> 16 | J4: =VLOOKUP($B4,'Eredmény kód szerint'!$A$1:$G$111,6,0) -> 17 | K4: =SUM(F4:J4) -> 80
A5: 4. | B5: 80. | C5: Csutak Balázs | D5: Pázmány Péter Katolikus Egyetem | E5: Információs Technlógiai és Bionikai Kar | F5: =VLOOKUP($B5,'Eredmény kód szerint'!$A$1:$G$111,2,0) -> 20 | G5: =VLOOKUP($B5,'Eredmény kód szerint'!$A$1:$G$111,3,0) -> 20 | H5: =VLOOKUP($B5,'Eredmény kód szerint'!$A$1:$G$111,4,0) -> 1 | I5: =VLOOKUP($B5,'Eredmény kód szerint'!$A$1:$G$111,5,0) -> 20 | J5: =VLOOKUP($B5,'Eredmény kód szerint'!$A$1:$G$111,6,0) -> 18 | K5: =SUM(F5:J5) -> 79
A6: 5. | B6: 51. | C6: Csorba Benjamin | D6: Eötvös Lóránd Tudományegyetem | E6: Természettudományi Rar | F6: =VLOOKUP($B6,'Eredmény kód szerint'!$A$1:$G$111,2,0) -> 19 | G6: =VLOOKUP($B6,'Eredmény kód szerint'!$A$1:$G$111,3,0) -> 20 | H6: =VLOOKUP($B6,'Eredmény kód szerint'!$A$1:$G$111,4,0) -> 20 | I6: =VLOOKUP($B6,'Eredmény kód szerint'!$A$1:$G$111,5,0) -> 0 | J6: =VLOOKUP($B6,'Eredmény kód szerint'!$A$1:$G$111,6,0) -> 19 | K6: =SUM(F6:J6) -> 78
A7: 5. | B7: 108. | C7: Szemán Krisztián | D7: Budapesti Corvinus Egyetem | E7: Közgazdaságtudományi Kar | F7: =VLOOKUP($B7,'Eredmény kód szerint'!$A$1:$G$111,2,0) -> 20 | G7: =VLOOKUP($B7,'Eredmény kód szerint'!$A$1:$G$111,3,0) -> 18 | H7: =VLOOKUP($B7,'Eredmény kód szerint'!$A$1:$G$111,4,0) -> 20 | I7: =VLOOKUP($B7,'Eredmény kód szerint'!$A$1:$G$111,5,0) -> 3 | J7: =VLOOKUP($B7,'Eredmény kód szerint'!$A$1:$G$111,6,0) -> 17 | K7: =SUM(F7:J7) -> 78
A8: 5. | B8: 77. | C8: Zsíros Ádám | D8: Budapesti Műszaki és Gazdaságtudományi Egyetem | E8: Pépészmérnöki Kar | F8: =VLOOKUP($B8,'Eredmény kód szerint'!$A$1:$G$111,2,0) -> 20 | G8: =VLOOKUP($B8,'Eredmény kód szerint'!$A$1:$G$111,3,0) -> 4 | H8: =VLOOKUP($B8,'Eredmény kód szerint'!$A$1:$G$111,4,0) -> 20 | I8: =VLOOKUP($B8,'Eredmény kód szerint'!$A$1:$G$111,5,0) -> 15 | J8: =VLOOKUP($B8,'Eredmény kód szerint'!$A$1:$G$111,6,0) -> 19 | K8: =SUM(F8:J8) -> 78
A9: =RANK(K9,$K$2:$K$113) -> 8 | B9: 82. | C9: Juhos Attila | D9: Budapesti Műszaki és Gazdaságtudományi Egyetem | E9: Villamosmérnöki és Informatikai Kar | F9: =VLOOKUP($B9,'Eredmény kód szerint'!$A$1:$G$111,2,0) -> 20 | G9: =VLOOKUP($B9,'Eredmény kód szerint'!$A$1:$G$111,3,0) -> 20 | H9: =VLOOKUP($B9,'Eredmény kód szerint'!$A$1:$G$111,4,0) -> 13 | I9: =VLOOKUP($B9,'Eredmény kód szerint'!$A$1:$G$111,5,0) -> 20 | J9: =VLOOKUP($B9,'Eredmény kód szerint'!$A$1:$G$111,6,0) -> 4 | K9: =SUM(F9:J9) -> 77
A10: =RANK(K10,$K$2:$K$113) -> 9 | B10: 83. | C10: Barna István | D10: Budapesti Corvinus Egyetem | E10: Közgazdaságtudományi Kar | F10: =VLOOKUP($B10,'Eredmény kód szerint'!$A$1:$G$111,2,0) -> 12 | G10: =VLOOKUP($B10,'Eredmény kód szerint'!$A$1:$G$111,3,0) -> 18 | H10: =VLOOKUP($B10,'Eredmény kód szerint'!$A$1:$G$111,4,0) -> 20 | I10: =VLOOKUP($B10,'Eredmény kód szerint'!$A$1:$G$111,5,0) -> 7 | J10: =VLOOKUP($B10,'Eredmény kód szerint'!$A$1:$G$111,6,0) -> 15 | K10: =SUM(F10:J10) -> 72
A11: =RANK(K11,$K$2:$K$113) -> 9 | B11: 6. | C11: Papp Marcell | D11: Budapesti Műszaki és Gazdaságtudományi Egyetem | E11: Vegyészmérnöki és Biomérnöki Kar | F11: =VLOOKUP($B11,'Eredmény kód szerint'!$A$1:$G$111,2,0) -> 20 | G11: =VLOOKUP($B11,'Eredmény kód szerint'!$A$1:$G$111,3,0) -> 12 | H11: =VLOOKUP($B11,'Eredmény kód szerint'!$A$1:$G$111,4,0) -> 7 | I11: =VLOOKUP($B11,'Eredmény kód szerint'!$A$1:$G$111,5,0) -> 15 | J11: =VLOOKUP($B11,'Eredmény kód szerint'!$A$1:$G$111,6,0) -> 18 | K11: =SUM(F11:J11) -> 72
A12: =RANK(K12,$K$2:$K$113) -> 11 | B12: 73. | C12: Kósa Szilárd | D12: Budapesti Műszaki és Gazdaságtudományi Egyetem | E12: Gépészmérnöki Kar | F12: =VLOOKUP($B12,'Eredmény kód szerint'!$A$1:$G$111,2,0) -> 18 | G12: =VLOOKUP($B12,'Eredmény kód szerint'!$A$1:$G$111,3,0) -> X | H12: =VLOOKUP($B12,'Eredmény kód szerint'!$A$1:$G$111,4,0) -> 12 | I12: =VLOOKUP($B12,'Eredmény kód szerint'!$A$1:$G$111,5,0) -> 17 | J12: =VLOOKUP($B12,'Eredmény kód szerint'!$A$1:$G$111,6,0) -> 18 | K12: =SUM(F12:J12) -> 65
A13: =RANK(K13,$K$2:$K$113) -> 11 | B13: 87. | C13: Nagy Gergő | D13: Eötvös Lóránd Tudományegyetem | E13: Informatikai Kar | F13: =VLOOKUP($B13,'Eredmény kód szerint'!$A$1:$G$111,2,0) -> 20 | G13: =VLOOKUP($B13,'Eredmény kód szerint'!$A$1:$G$111,3,0) -> 5 | H13: =VLOOKUP($B13,'Eredmény kód szerint'!$A$1:$G$111,4,0) -> 20 | I13: =VLOOKUP($B13,'Eredmény kód szerint'!$A$1:$G$111,5,0) -> 0 | J13: =VLOOKUP($B13,'Eredmény kód szerint'!$A$1:$G$111,6,0) -> 20 | K13: =SUM(F13:J13) -> 65
A14: =RANK(K14,$K$2:$K$113) -> 13 | B14: 76. | C14: Fonyó Viktória | D14: Eötvös Lóránd Tudományegyetem | E14: Informatikai Kar | F14: =VLOOKUP($B14,'Eredmény kód szerint'!$A$1:$G$111,2,0) -> 20 | G14: =VLOOKUP($B14,'Eredmény kód szerint'!$A$1:$G$111,3,0) -> 4 | H14: =VLOOKUP($B14,'Eredmény kód szerint'!$A$1:$G$111,4,0) -> 20 | I14: =VLOOKUP($B14,'Eredmény kód szerint'!$A$1:$G$111,5,0) -> 2 | J14: =VLOOKUP($B14,'Eredmény kód szerint'!$A$1:$G$111,6,0) -> 18 | K14: =SUM(F14:J14) -> 64
A15: =RANK(K15,$K$2:$K$113) -> 14 | B15: 5. | C15: Holczer András | D15: Budapesti Műszaki és Gazdaságtudományi Egyetem | E15: Villamosmérnöki és Informatikai Kar | F15: =VLOOKUP($B15,'Eredmény kód szerint'!$A$1:$G$111,2,0) -> 20 | G15: =VLOOKUP($B15,'Eredmény kód szerint'!$A$1:$G$111,3,0) -> 12 | H15: =VLOOKUP($B15,'Eredmény kód szerint'!$A$1:$G$111,4,0) -> 20 | I15: =VLOOKUP($B15,'Eredmény kód szerint'!$A$1:$G$111,5,0) -> 0 | J15: =VLOOKUP($B15,'Eredmény kód szerint'!$A$1:$G$111,6,0) -> 4 | K15: =SUM(F15:J15) -> 56
A16: =RANK(K16,$K$2:$K$113) -> 15 | B16: 84. | C16: Farkas Domonkos László | D16: Pázmány Péter Katolikus Egyetem | E16: Információs Technlógiai és Bionikai Kar | F16: =VLOOKUP($B16,'Eredmény kód szerint'!$A$1:$G$111,2,0) -> 20 | G16: =VLOOKUP($B16,'Eredmény kód szerint'!$A$1:$G$111,3,0) -> 2 | H16: =VLOOKUP($B16,'Eredmény kód szerint'!$A$1:$G$111,4,0) -> 16 | I16: =VLOOKUP($B16,'Eredmény kód szerint'!$A$1:$G$111,5,0) -> 0 | J16: =VLOOKUP($B16,'Eredmény kód szerint'!$A$1:$G$111,6,0) -> 16 | K16: =SUM(F16:J16) -> 54
A17: =RANK(K17,$K$2:$K$113) -> 16 | B17: 50. | C17: Loboda András | D17: Budapesti Corvinus Egyetem | E17: Közgazdaságtudományi Kar | F17: =VLOOKUP($B17,'Eredmény kód szerint'!$A$1:$G$111,2,0) -> 20 | G17: =VLOOKUP($B17,'Eredmény kód szerint'!$A$1:$G$111,3,0) -> 9 | H17: =VLOOKUP($B17,'Eredmény kód szerint'!$A$1:$G$111,4,0) -> 20 | I17: =VLOOKUP($B17,'Eredmény kód szerint'!$A$1:$G$111,5,0) -> 4 | J17: =VLOOKUP($B17,'Eredmény kód szerint'!$A$1:$G$111,6,0) -> 0 | K17: =SUM(F17:J17) -> 53
A18: =RANK(K18,$K$2:$K$113) -> 17 | B18: 68. | C18: Deák Elemér Dávid | D18: Budapesti Műszaki és Gazdaságtudományi Egyetem | E18: Villamosmérnöki és Informatikai Kar | F18: =VLOOKUP($B18,'Eredmény kód szerint'!$A$1:$G$111,2,0) -> 20 | G18: =VLOOKUP($B18,'Eredmény kód szerint'!$A$1:$G$111,3,0) -> 7 | H18: =VLOOKUP($B18,'Eredmény kód szerint'!$A$1:$G$111,4,0) -> 16 | I18: =VLOOKUP($B18,'Eredmény kód szerint'!$A$1:$G$111,5,0) -> 1 | J18: =VLOOKUP($B18,'Eredmény kód szerint'!$A$1:$G$111,6,0) -> 8 | K18: =SUM(F18:J18) -> 52
A19: =RANK(K19,$K$2:$K$113) -> 17 | B19: 49. | C19: Körmöczi Dávid | D19: Szent István Egyetem | E19: Gépészmérnöki Kar | F19: =VLOOKUP($B19,'Eredmény kód szerint'!$A$1:$G$111,2,0) -> 2 | G19: =VLOOKUP($B19,'Eredmény kód szerint'!$A$1:$G$111,3,0) -> 5 | H19: =VLOOKUP($B19,'Eredmény kód szerint'!$A$1:$G$111,4,0) -> 20 | I19: =VLOOKUP($B19,'Eredmény kód szerint'!$A$1:$G$111,5,0) -> 8 | J19: =VLOOKUP($B19,'Eredmény kód szerint'!$A$1:$G$111,6,0) -> 17 | K19: =SUM(F19:J19) -> 52
A20: =RANK(K20,$K$2:$K$113) -> 19 | B20: 10. | C20: Salánki Dániel | D20: Debreceni Egyetem | E20: Műszaki Kar | F20: =VLOOKUP($B20,'Eredmény kód szerint'!$A$1:$G$111,2,0) -> 20 | G20: =VLOOKUP($B20,'Eredmény kód szerint'!$A$1:$G$111,3,0) -> 4 | H20: =VLOOKUP($B20,'Eredmény kód szerint'!$A$1:$G$111,4,0) -> 8 | I20: =VLOOKUP($B20,'Eredmény kód szerint'!$A$1:$G$111,5,0) -> 1 | J20: =VLOOKUP($B20,'Eredmény kód szerint'!$A$1:$G$111,6,0) -> 18 | K20: =SUM(F20:J20) -> 51
... A79: =RANK(K79,$K$2:$K$113) -> 74 | B79: 7. | C79: Vecsernyés Anita | D79: Szent István Egyetem | E79: Ybl Miklós Építéstudományi Kar | F79: =VLOOKUP($B79,'Eredmény kód szerint'!$A$1:$G$111,2,0) -> 0 | G79: =VLOOKUP($B79,'Eredmény kód szerint'!$A$1:$G$111,3,0) -> 0 | H79: =VLOOKUP($B79,'Eredmény kód szerint'!$A$1:$G$111,4,0) -> 6 | I79: =VLOOKUP($B79,'Eredmény kód szerint'!$A$1:$G$111,5,0) -> 1 | J79: =VLOOKUP($B79,'Eredmény kód szerint'!$A$1:$G$111,6,0) -> 0 | K79: =SUM(F79:J79) -> 7
A80: =RANK(K80,$K$2:$K$113) -> 74 | B80: 13. | C80: Zsolnai Zsófia | D80: Dunaújvárosi Egyetem | F80: =VLOOKUP($B80,'Eredmény kód szerint'!$A$1:$G$111,2,0) -> 3 | G80: =VLOOKUP($B80,'Eredmény kód szerint'!$A$1:$G$111,3,0) -> 1 | H80: =VLOOKUP($B80,'Eredmény kód szerint'!$A$1:$G$111,4,0) -> 2 | I80: =VLOOKUP($B80,'Eredmény kód szerint'!$A$1:$G$111,5,0) -> 1 | J80: =VLOOKUP($B80,'Eredmény kód szerint'!$A$1:$G$111,6,0) -> 0 | K80: =SUM(F80:J80) -> 7
A81: =RANK(K81,$K$2:$K$113) -> 80 | B81: 60. | C81: Csatlós Péter | D81: Óbudai Egyetem | E81: Neumann János Informatikai Kar | F81: =VLOOKUP($B81,'Eredmény kód szerint'!$A$1:$G$111,2,0) -> 2 | G81: =VLOOKUP($B81,'Eredmény kód szerint'!$A$1:$G$111,3,0) -> 2 | H81: =VLOOKUP($B81,'Eredmény kód szerint'!$A$1:$G$111,4,0) -> 2 | I81: =VLOOKUP($B81,'Eredmény kód szerint'!$A$1:$G$111,5,0) -> 0 | J81: =VLOOKUP($B81,'Eredmény kód szerint'!$A$1:$G$111,6,0) -> 0 | K81: =SUM(F81:J81) -> 6
A82: =RANK(K82,$K$2:$K$113) -> 80 | B82: 106. | C82: Gale Tibor | D82: Szegedi Tudományegyetem | E82: Mérnöki Kar | F82: =VLOOKUP($B82,'Eredmény kód szerint'!$A$1:$G$111,2,0) -> 2 | G82: =VLOOKUP($B82,'Eredmény kód szerint'!$A$1:$G$111,3,0) -> 0 | H82: =VLOOKUP($B82,'Eredmény kód szerint'!$A$1:$G$111,4,0) -> 4 | I82: =VLOOKUP($B82,'Eredmény kód szerint'!$A$1:$G$111,5,0) -> 0 | J82: =VLOOKUP($B82,'Eredmény kód szerint'!$A$1:$G$111,6,0) -> 0 | K82: =SUM(F82:J82) -> 6
A83: =RANK(K83,$K$2:$K$113) -> 80 | B83: 34. | C83: Görög Szilvia | D83: Nemzeti Közszolgálati Egyetem | E83: Víztudományi Kar | F83: =VLOOKUP($B83,'Eredmény kód szerint'!$A$1:$G$111,2,0) -> 0 | G83: =VLOOKUP($B83,'Eredmény kód szerint'!$A$1:$G$111,3,0) -> 2 | H83: =VLOOKUP($B83,'Eredmény kód szerint'!$A$1:$G$111,4,0) -> 3 | I83: =VLOOKUP($B83,'Eredmény kód szerint'!$A$1:$G$111,5,0) -> 1 | J83: =VLOOKUP($B83,'Eredmény kód szerint'!$A$1:$G$111,6,0) -> 0 | K83: =SUM(F83:J83) -> 6
A84: =RANK(K84,$K$2:$K$113) -> 80 | B84: 90. | C84: Kopcsó Dániel | D84: Miskolci Egyetem | E84: Gépészmérnöki és Informatikai Kar | F84: =VLOOKUP($B84,'Eredmény kód szerint'!$A$1:$G$111,2,0) -> 2 | G84: =VLOOKUP($B84,'Eredmény kód szerint'!$A$1:$G$111,3,0) -> 0 | H84: =VLOOKUP($B84,'Eredmény kód szerint'!$A$1:$G$111,4,0) -> 3 | I84: =VLOOKUP($B84,'Eredmény kód szerint'!$A$1:$G$111,5,0) -> 0 | J84: =VLOOKUP($B84,'Eredmény kód szerint'!$A$1:$G$111,6,0) -> 1 | K84: =SUM(F84:J84) -> 6
A85: =RANK(K85,$K$2:$K$113) -> 80 | B85: 27. | C85: Pápics Patrik | D85: Nemzeti Közszolgálati Egyetem | E85: Hadtudományi és Honvédtisztképző Kar | F85: =VLOOKUP($B85,'Eredmény kód szerint'!$A$1:$G$111,2,0) -> 2 | G85: =VLOOKUP($B85,'Eredmény kód szerint'!$A$1:$G$111,3,0) -> 0 | H85: =VLOOKUP($B85,'Eredmény kód szerint'!$A$1:$G$111,4,0) -> 3 | I85: =VLOOKUP($B85,'Eredmény kód szerint'!$A$1:$G$111,5,0) -> 1 | J85: =VLOOKUP($B85,'Eredmény kód szerint'!$A$1:$G$111,6,0) -> 0 | K85: =SUM(F85:J85) -> 6
A86: =RANK(K86,$K$2:$K$113) -> 80 | B86: 64. | C86: Póka Dezső Roland | D86: Óbudai Egyetem | E86: Neumann János Informatikai Kar | F86: =VLOOKUP($B86,'Eredmény kód szerint'!$A$1:$G$111,2,0) -> 2 | G86: =VLOOKUP($B86,'Eredmény kód szerint'!$A$1:$G$111,3,0) -> 2 | H86: =VLOOKUP($B86,'Eredmény kód szerint'!$A$1:$G$111,4,0) -> 1 | I86: =VLOOKUP($B86,'Eredmény kód szerint'!$A$1:$G$111,5,0) -> X | J86: =VLOOKUP($B86,'Eredmény kód szerint'!$A$1:$G$111,6,0) -> 1 | K86: =SUM(F86:J86) -> 6
A87: =RANK(K87,$K$2:$K$113) -> 80 | B87: 92. | C87: Schmidt Henrietta | D87: Budapesti Gazdasági Egyetem | E87: Kereskedelmi, Vendéglátóipari és Idegenforgalmi Kar | F87: =VLOOKUP($B87,'Eredmény kód szerint'!$A$1:$G$111,2,0) -> 3 | G87: =VLOOKUP($B87,'Eredmény kód szerint'!$A$1:$G$111,3,0) -> 0 | H87: =VLOOKUP($B87,'Eredmény kód szerint'!$A$1:$G$111,4,0) -> 2 | I87: =VLOOKUP($B87,'Eredmény kód szerint'!$A$1:$G$111,5,0) -> 0 | J87: =VLOOKUP($B87,'Eredmény kód szerint'!$A$1:$G$111,6,0) -> 1 | K87: =SUM(F87:J87) -> 6
A88: =RANK(K88,$K$2:$K$113) -> 87 | B88: 24. | C88: Bakos Benjamin | D88: Szent István Egyetem | E88: Ybl Miklós Építéstudományi Kar | F88: =VLOOKUP($B88,'Eredmény kód szerint'!$A$1:$G$111,2,0) -> 2 | G88: =VLOOKUP($B88,'Eredmény kód szerint'!$A$1:$G$111,3,0) -> 0 | H88: =VLOOKUP($B88,'Eredmény kód szerint'!$A$1:$G$111,4,0) -> 2 | I88: =VLOOKUP($B88,'Eredmény kód szerint'!$A$1:$G$111,5,0) -> 0 | J88: =VLOOKUP($B88,'Eredmény kód szerint'!$A$1:$G$111,6,0) -> 1 | K88: =SUM(F88:J88) -> 5
A89: =RANK(K89,$K$2:$K$113) -> 87 | B89: 15. | C89: Békéssy Herman András | D89: Óbudai Egyetem | E89: Neumann János Informatikai Kar | F89: =VLOOKUP($B89,'Eredmény kód szerint'!$A$1:$G$111,2,0) -> 2 | G89: =VLOOKUP($B89,'Eredmény kód szerint'!$A$1:$G$111,3,0) -> 2 | H89: =VLOOKUP($B89,'Eredmény kód szerint'!$A$1:$G$111,4,0) -> 1 | I89: =VLOOKUP($B89,'Eredmény kód szerint'!$A$1:$G$111,5,0) -> 0 | J89: =VLOOKUP($B89,'Eredmény kód szerint'!$A$1:$G$111,6,0) -> X | K89: =SUM(F89:J89) -> 5
A90: =RANK(K90,$K$2:$K$113) -> 87 | B90: 91. | C90: Madarász Kata | D90: Miskolci Egyetem | E90: Gépészmérnöki és Informatikai Kar | F90: =VLOOKUP($B90,'Eredmény kód szerint'!$A$1:$G$111,2,0) -> 0 | G90: =VLOOKUP($B90,'Eredmény kód szerint'!$A$1:$G$111,3,0) -> 2 | H90: =VLOOKUP($B90,'Eredmény kód szerint'!$A$1:$G$111,4,0) -> 3 | I90: =VLOOKUP($B90,'Eredmény kód szerint'!$A$1:$G$111,5,0) -> 0 | J90: =VLOOKUP($B90,'Eredmény kód szerint'!$A$1:$G$111,6,0) -> 0 | K90: =SUM(F90:J90) -> 5
A91: =RANK(K91,$K$2:$K$113) -> 87 | B91: 110. | C91: Prokai László | D91: Budapesti Gazdasági Egyetem | E91: Pénzügyi és Számviteli Kar | F91: =VLOOKUP($B91,'Eredmény kód szerint'!$A$1:$G$111,2,0) -> 0 | G91: =VLOOKUP($B91,'Eredmény kód szerint'!$A$1:$G$111,3,0) -> 2 | H91: =VLOOKUP($B91,'Eredmény kód szerint'!$A$1:$G$111,4,0) -> 0 | I91: =VLOOKUP($B91,'Eredmény kód szerint'!$A$1:$G$111,5,0) -> 1 | J91: =VLOOKUP($B91,'Eredmény kód szerint'!$A$1:$G$111,6,0) -> 2 | K91: =SUM(F91:J91) -> 5
A92: =RANK(K92,$K$2:$K$113) -> 91 | B92: 100. | C92: Abonyi Balázs | D92: Nemzeti Közszolgálati Egyetem | E92: Víztudományi Kar | F92: =VLOOKUP($B92,'Eredmény kód szerint'!$A$1:$G$111,2,0) -> 1 | G92: =VLOOKUP($B92,'Eredmény kód szerint'!$A$1:$G$111,3,0) -> 1 | H92: =VLOOKUP($B92,'Eredmény kód szerint'!$A$1:$G$111,4,0) -> 2 | I92: =VLOOKUP($B92,'Eredmény kód szerint'!$A$1:$G$111,5,0) -> X | J92: =VLOOKUP($B92,'Eredmény kód szerint'!$A$1:$G$111,6,0) -> 0 | K92: =SUM(F92:J92) -> 4
... A104: =RANK(K104,$K$2:$K$113) -> 99 | B104: 62. | C104: Szűcs Tamás | D104: Óbudai Egyetem | E104: Alba Regia Műszaki Kar | F104: =VLOOKUP($B104,'Eredmény kód szerint'!$A$1:$G$111,2,0) -> 2 | G104: =VLOOKUP($B104,'Eredmény kód szerint'!$A$1:$G$111,3,0) -> 0 | H104: =VLOOKUP($B104,'Eredmény kód szerint'!$A$1:$G$111,4,0) -> 1 | I104: =VLOOKUP($B104,'Eredmény kód szerint'!$A$1:$G$111,5,0) -> 0 | J104: =VLOOKUP($B104,'Eredmény kód szerint'!$A$1:$G$111,6,0) -> 0 | K104: =SUM(F104:J104) -> 3
A105: =RANK(K105,$K$2:$K$113) -> 99 | B105: 18. | C105: Tokai Viktória | D105: Dunaújvárosi Egyetem | F105: =VLOOKUP($B105,'Eredmény kód szerint'!$A$1:$G$111,2,0) -> 2 | G105: =VLOOKUP($B105,'Eredmény kód szerint'!$A$1:$G$111,3,0) -> 0 | H105: =VLOOKUP($B105,'Eredmény kód szerint'!$A$1:$G$111,4,0) -> 1 | I105: =VLOOKUP($B105,'Eredmény kód szerint'!$A$1:$G$111,5,0) -> 0 | J105: =VLOOKUP($B105,'Eredmény kód szerint'!$A$1:$G$111,6,0) -> 0 | K105: =SUM(F105:J105) -> 3
A106: =RANK(K106,$K$2:$K$113) -> 105 | B106: 65. | C106: Kató Dávid Károly | D106: Dunaújvárosi Egyetem | F106: =VLOOKUP($B106,'Eredmény kód szerint'!$A$1:$G$111,2,0) -> 0 | G106: =VLOOKUP($B106,'Eredmény kód szerint'!$A$1:$G$111,3,0) -> X | H106: =VLOOKUP($B106,'Eredmény kód szerint'!$A$1:$G$111,4,0) -> 1 | I106: =VLOOKUP($B106,'Eredmény kód szerint'!$A$1:$G$111,5,0) -> 1 | J106: =VLOOKUP($B106,'Eredmény kód szerint'!$A$1:$G$111,6,0) -> 0 | K106: =SUM(F106:J106) -> 2
A107: =RANK(K107,$K$2:$K$113) -> 105 | B107: 29. | C107: Szmolnik Laura | D107: Nemzeti Közszolgálati Egyetem | E107: Hadtudományi és Honvédtisztképző Kar | F107: =VLOOKUP($B107,'Eredmény kód szerint'!$A$1:$G$111,2,0) -> 0 | G107: =VLOOKUP($B107,'Eredmény kód szerint'!$A$1:$G$111,3,0) -> 0 | H107: =VLOOKUP($B107,'Eredmény kód szerint'!$A$1:$G$111,4,0) -> 2 | I107: =VLOOKUP($B107,'Eredmény kód szerint'!$A$1:$G$111,5,0) -> 0 | J107: =VLOOKUP($B107,'Eredmény kód szerint'!$A$1:$G$111,6,0) -> 0 | K107: =SUM(F107:J107) -> 2
A108: =RANK(K108,$K$2:$K$113) -> 105 | B108: 102. | C108: Varga Szilárd | D108: Szegedi Tudományegyetem | E108: Mérnöki Kar | F108: =VLOOKUP($B108,'Eredmény kód szerint'!$A$1:$G$111,2,0) -> 2 | G108: =VLOOKUP($B108,'Eredmény kód szerint'!$A$1:$G$111,3,0) -> X | H108: =VLOOKUP($B108,'Eredmény kód szerint'!$A$1:$G$111,4,0) -> X | I108: =VLOOKUP($B108,'Eredmény kód szerint'!$A$1:$G$111,5,0) -> X | J108: =VLOOKUP($B108,'Eredmény kód szerint'!$A$1:$G$111,6,0) -> X | K108: =SUM(F108:J108) -> 2
A109: =RANK(K109,$K$2:$K$113) -> 108 | B109: 1. | C109: Barta Edit | D109: Budapesti Gazdasági Egyetem | E109: Kereskedelmi, Vendéglátóipari és Idegenforgalmi Kar | F109: =VLOOKUP($B109,'Eredmény kód szerint'!$A$1:$G$111,2,0) -> 0 | G109: =VLOOKUP($B109,'Eredmény kód szerint'!$A$1:$G$111,3,0) -> X | H109: =VLOOKUP($B109,'Eredmény kód szerint'!$A$1:$G$111,4,0) -> 1 | I109: =VLOOKUP($B109,'Eredmény kód szerint'!$A$1:$G$111,5,0) -> 0 | J109: =VLOOKUP($B109,'Eredmény kód szerint'!$A$1:$G$111,6,0) -> 0 | K109: =SUM(F109:J109) -> 1
A110: =RANK(K110,$K$2:$K$113) -> 108 | B110: 3. | C110: Sinka Júlia | D110: Pécsi Tudomány egyetem | E110: Közgazdaságtudományi Kar | F110: =VLOOKUP($B110,'Eredmény kód szerint'!$A$1:$G$111,2,0) -> 0 | G110: =VLOOKUP($B110,'Eredmény kód szerint'!$A$1:$G$111,3,0) -> 0 | H110: =VLOOKUP($B110,'Eredmény kód szerint'!$A$1:$G$111,4,0) -> 1 | I110: =VLOOKUP($B110,'Eredmény kód szerint'!$A$1:$G$111,5,0) -> X | J110: =VLOOKUP($B110,'Eredmény kód szerint'!$A$1:$G$111,6,0) -> 0 | K110: =SUM(F110:J110) -> 1
A111: =RANK(K111,$K$2:$K$113) -> 108 | B111: 75. | C111: Vámos Dávid | D111: Szent István Egyetem | E111: Ybl Miklós Építéstudományi Kar | F111: =VLOOKUP($B111,'Eredmény kód szerint'!$A$1:$G$111,2,0) -> 0 | G111: =VLOOKUP($B111,'Eredmény kód szerint'!$A$1:$G$111,3,0) -> 0 | H111: =VLOOKUP($B111,'Eredmény kód szerint'!$A$1:$G$111,4,0) -> 1 | I111: =VLOOKUP($B111,'Eredmény kód szerint'!$A$1:$G$111,5,0) -> 0 | J111: =VLOOKUP($B111,'Eredmény kód szerint'!$A$1:$G$111,6,0) -> 0 | K111: =SUM(F111:J111) -> 1
C112: Kácsándi Gábor | D112: Budapesti Gazdasági Egyetem | E112: Pénzügyi és Számviteli Kar
C113: Talyigás Gergely | D113: Budapesti Műszaki és Gazdaságtudományi Egyetem | E113: Vegyészmérnöki és Biomérnöki Kar
D114: Feladatra kapott átlag pontszám | F114: =AVERAGE(F2:F111) -> 6.8207547 | G114: =AVERAGE(G2:G111) -> 4.6019417 | H114: =AVERAGE(H2:H111) -> 5.5096154 | I114: =AVERAGE(I2:I111) -> 3.6078431 | J114: =AVERAGE(J2:J111) -> 4.5566038 | K114: =AVERAGE(K2:K111) -> 23.827273

Sheet Csapat eredmény
A1: Csapat Helyezés | B1: Egyéni helyezés | C1: Kód | D1: Hallgató Neve | E1: Intézmény | F1: Kar | G1: 1. | H1: 2. | I1: 3. | J1: 4. | K1: 5. | L1: Sum | M1: Csapat eredmény | N1: Helyezés
A2: I. | B2: =RANK(L2,$L$2:$L$113) -> 1 | C2: 57. | D2: Telekes Márton Gábor | E2: Budapesti Műszaki és Gazdaságtudományi Egyetem | F2: Villamosmérnöki és Informatikai Kar | G2: =VLOOKUP($C2,'Eredmény kód szerint'!$A$1:$G$111,2,0) -> 20 | H2: =VLOOKUP($C2,'Eredmény kód szerint'!$A$1:$G$111,3,0) -> 20 | I2: =VLOOKUP($C2,'Eredmény kód szerint'!$A$1:$G$111,4,0) -> 18 | J2: =VLOOKUP($C2,'Eredmény kód szerint'!$A$1:$G$111,5,0) -> 20 | K2: =VLOOKUP($C2,'Eredmény kód szerint'!$A$1:$G$111,6,0) -> 17 | L2: =SUM(G2:K2) -> 95 | M2: =SUM(L2:L4) -> 228 | N2: 1.
A3: I. | B3: =RANK(L3,$L$2:$L$113) -> 8 | C3: 82. | D3: Juhos Attila | E3: Budapesti Műszaki és Gazdaságtudományi Egyetem | F3: Villamosmérnöki és Informatikai Kar | G3: =VLOOKUP($C3,'Eredmény kód szerint'!$A$1:$G$111,2,0) -> 20 | H3: =VLOOKUP($C3,'Eredmény kód szerint'!$A$1:$G$111,3,0) -> 20 | I3: =VLOOKUP($C3,'Eredmény kód szerint'!$A$1:$G$111,4,0) -> 13 | J3: =VLOOKUP($C3,'Eredmény kód szerint'!$A$1:$G$111,5,0) -> 20 | K3: =VLOOKUP($C3,'Eredmény kód szerint'!$A$1:$G$111,6,0) -> 4 | L3: =SUM(G3:K3) -> 77 | M3: 228
A4: I. | B4: =RANK(L4,$L$2:$L$113) -> 14 | C4: 5. | D4: Holczer András | E4: Budapesti Műszaki és Gazdaságtudományi Egyetem | F4: Villamosmérnöki és Informatikai Kar | G4: =VLOOKUP($C4,'Eredmény kód szerint'!$A$1:$G$111,2,0) -> 20 | H4: =VLOOKUP($C4,'Eredmény kód szerint'!$A$1:$G$111,3,0) -> 12 | I4: =VLOOKUP($C4,'Eredmény kód szerint'!$A$1:$G$111,4,0) -> 20 | J4: =VLOOKUP($C4,'Eredmény kód szerint'!$A$1:$G$111,5,0) -> 0 | K4: =VLOOKUP($C4,'Eredmény kód szerint'!$A$1:$G$111,6,0) -> 4 | L4: =SUM(G4:K4) -> 56 | M4: 228
A5: I. | B5: =RANK(L5,$L$2:$L$113) -> 17 | C5: 68. | D5: Deák Elemér Dávid | E5: Budapesti Műszaki és Gazdaságtudományi Egyetem | F5: Villamosmérnöki és Informatikai Kar | G5: =VLOOKUP($C5,'Eredmény kód szerint'!$A$1:$G$111,2,0) -> 20 | H5: =VLOOKUP($C5,'Eredmény kód szerint'!$A$1:$G$111,3,0) -> 7 | I5: =VLOOKUP($C5,'Eredmény kód szerint'!$A$1:$G$111,4,0) -> 16 | J5: =VLOOKUP($C5,'Eredmény kód szerint'!$A$1:$G$111,5,0) -> 1 | K5: =VLOOKUP($C5,'Eredmény kód szerint'!$A$1:$G$111,6,0) -> 8 | L5: =SUM(G5:K5) -> 52 | M5: 228
A6: II. | B6: =RANK(L6,$L$2:$L$113) -> 3 | C6: 22. | D6: Széles Katalin | E6: Budapesti Műszaki és Gazdaságtudományi Egyetem | F6: Gépészmérnöki Kar | G6: =VLOOKUP($C6,'Eredmény kód szerint'!$A$1:$G$111,2,0) -> 20 | H6: =VLOOKUP($C6,'Eredmény kód szerint'!$A$1:$G$111,3,0) -> 7 | I6: =VLOOKUP($C6,'Eredmény kód szerint'!$A$1:$G$111,4,0) -> 20 | J6: =VLOOKUP($C6,'Eredmény kód szerint'!$A$1:$G$111,5,0) -> 16 | K6: =VLOOKUP($C6,'Eredmény kód szerint'!$A$1:$G$111,6,0) -> 17 | L6: =SUM(G6:K6) -> 80 | M6: =SUM(L6:L8) -> 223 | N6: 2
A7: II. | B7: =RANK(L7,$L$2:$L$113) -> 5 | C7: 77. | D7: Zsíros Ádám | E7: Budapesti Műszaki és Gazdaságtudományi Egyetem | F7: Gépészmérnöki Kar | G7: =VLOOKUP($C7,'Eredmény kód szerint'!$A$1:$G$111,2,0) -> 20 | H7: =VLOOKUP($C7,'Eredmény kód szerint'!$A$1:$G$111,3,0) -> 4 | I7: =VLOOKUP($C7,'Eredmény kód szerint'!$A$1:$G$111,4,0) -> 20 | J7: =VLOOKUP($C7,'Eredmény kód szerint'!$A$1:$G$111,5,0) -> 15 | K7: =VLOOKUP($C7,'Eredmény kód szerint'!$A$1:$G$111,6,0) -> 19 | L7: =SUM(G7:K7) -> 78 | M7: 223
A8: II. | B8: =RANK(L8,$L$2:$L$113) -> 11 | C8: 73. | D8: Kósa Szilárd | E8: Budapesti Műszaki és Gazdaságtudományi Egyetem | F8: Gépészmérnöki Kar | G8: =VLOOKUP($C8,'Eredmény kód szerint'!$A$1:$G$111,2,0) -> 18 | H8: =VLOOKUP($C8,'Eredmény kód szerint'!$A$1:$G$111,3,0) -> X | I8: =VLOOKUP($C8,'Eredmény kód szerint'!$A$1:$G$111,4,0) -> 12 | J8: =VLOOKUP($C8,'Eredmény kód szerint'!$A$1:$G$111,5,0) -> 17 | K8: =VLOOKUP($C8,'Eredmény kód szerint'!$A$1:$G$111,6,0) -> 18 | L8: =SUM(G8:K8) -> 65 | M8: 223
A9: II. | B9: =RANK(L9,$L$2:$L$113) -> 27 | C9: 86. | D9: Cserna Koppány Levente | E9: Budapesti Műszaki és Gazdaságtudományi Egyetem | F9: Gépészmérnöki Kar | G9: =VLOOKUP($C9,'Eredmény kód szerint'!$A$1:$G$111,2,0) -> 2 | H9: =VLOOKUP($C9,'Eredmény kód szerint'!$A$1:$G$111,3,0) -> 7 | I9: =VLOOKUP($C9,'Eredmény kód szerint'!$A$1:$G$111,4,0) -> 15 | J9: =VLOOKUP($C9,'Eredmény kód szerint'!$A$1:$G$111,5,0) -> X | K9: =VLOOKUP($C9,'Eredmény kód szerint'!$A$1:$G$111,6,0) -> 15 | L9: =SUM(G9:K9) -> 39 | M9: 223
A10: III. | B10: =RANK(L10,$L$2:$L$113) -> 2 | C10: 42. | D10: Komáromi Mátyás | E10: Eötvös Lóránd Tudományegyetem | F10: Informatikai Kar | G10: =VLOOKUP($C10,'Eredmény kód szerint'!$A$1:$G$111,2,0) -> 20 | H10: =VLOOKUP($C10,'Eredmény kód szerint'!$A$1:$G$111,3,0) -> 10 | I10: =VLOOKUP($C10,'Eredmény kód szerint'!$A$1:$G$111,4,0) -> 16 | J10: =VLOOKUP($C10,'Eredmény kód szerint'!$A$1:$G$111,5,0) -> 20 | K10: =VLOOKUP($C10,'Eredmény kód szerint'!$A$1:$G$111,6,0) -> 17 | L10: =SUM(G10:K10) -> 83 | M10: =SUM(L10:L12) -> 212 | N10: 3
A11: III. | B11: =RANK(L11,$L$2:$L$113) -> 11 | C11: 87. | D11: Nagy Gergő | E11: Eötvös Lóránd Tudományegyetem | F11: Informatikai Kar | G11: =VLOOKUP($C11,'Eredmény kód szerint'!$A$1:$G$111,2,0) -> 20 | H11: =VLOOKUP($C11,'Eredmény kód szerint'!$A$1:$G$111,3,0) -> 5 | I11: =VLOOKUP($C11,'Eredmény kód szerint'!$A$1:$G$111,4,0) -> 20 | J11: =VLOOKUP($C11,'Eredmény kód szerint'!$A$1:$G$111,5,0) -> 0 | K11: =VLOOKUP($C11,'Eredmény kód szerint'!$A$1:$G$111,6,0) -> 20 | L11: =SUM(G11:K11) -> 65 | M11: 212
A12: III. | B12: =RANK(L12,$L$2:$L$113) -> 13 | C12: 76. | D12: Fonyó Viktória | E12: Eötvös Lóránd Tudományegyetem | F12: Informatikai Kar | G12: =VLOOKUP($C12,'Eredmény kód szerint'!$A$1:$G$111,2,0) -> 20 | H12: =VLOOKUP($C12,'Eredmény kód szerint'!$A$1:$G$111,3,0) -> 4 | I12: =VLOOKUP($C12,'Eredmény kód szerint'!$A$1:$G$111,4,0) -> 20 | J12: =VLOOKUP($C12,'Eredmény kód szerint'!$A$1:$G$111,5,0) -> 2 | K12: =VLOOKUP($C12,'Eredmény kód szerint'!$A$1:$G$111,6,0) -> 18 | L12: =SUM(G12:K12) -> 64 | M12: 212
A13: III. | B13: =RANK(L13,$L$2:$L$113) -> 21 | C13: 79. | D13: Marx János | E13: Eötvös Lóránd Tudományegyetem | F13: Informatikai Kar | G13: =VLOOKUP($C13,'Eredmény kód szerint'!$A$1:$G$111,2,0) -> 20 | H13: =VLOOKUP($C13,'Eredmény kód szerint'!$A$1:$G$111,3,0) -> 8 | I13: =VLOOKUP($C13,'Eredmény kód szerint'!$A$1:$G$111,4,0) -> X | J13: =VLOOKUP($C13,'Eredmény kód szerint'!$A$1:$G$111,5,0) -> 1 | K13: =VLOOKUP($C13,'Eredmény kód szerint'!$A$1:$G$111,6,0) -> 20 | L13: =SUM(G13:K13) -> 49 | M13: 212
A14: IV. | B14: =RANK(L14,$L$2:$L$113) -> 5 | C14: 108. | D14: Szemán Krisztián | E14: Budapesti Corvinus Egyetem | F14: Közgazdaságtudományi Kar | G14: =VLOOKUP($C14,'Eredmény kód szerint'!$A$1:$G$111,2,0) -> 20 | H14: =VLOOKUP($C14,'Eredmény kód szerint'!$A$1:$G$111,3,0) -> 18 | I14: =VLOOKUP($C14,'Eredmény kód szerint'!$A$1:$G$111,4,0) -> 20 | J14: =VLOOKUP($C14,'Eredmény kód szerint'!$A$1:$G$111,5,0) -> 3 | K14: =VLOOKUP($C14,'Eredmény kód szerint'!$A$1:$G$111,6,0) -> 17 | L14: =SUM(G14:K14) -> 78 | M14: =SUM(L14:L16) -> 203 | N14: 4
A15: IV. | B15: =RANK(L15,$L$2:$L$113) -> 9 | C15: 83. | D15: Barna István | E15: Budapesti Corvinus Egyetem | F15: Közgazdaságtudományi Kar | G15: =VLOOKUP($C15,'Eredmény kód szerint'!$A$1:$G$111,2,0) -> 12 | H15: =VLOOKUP($C15,'Eredmény kód szerint'!$A$1:$G$111,3,0) -> 18 | I15: =VLOOKUP($C15,'Eredmény kód szerint'!$A$1:$G$111,4,0) -> 20 | J15: =VLOOKUP($C15,'Eredmény kód szerint'!$A$1:$G$111,5,0) -> 7 | K15: =VLOOKUP($C15,'Eredmény kód szerint'!$A$1:$G$111,6,0) -> 15 | L15: =SUM(G15:K15) -> 72 | M15: 203
A16: IV. | B16: =RANK(L16,$L$2:$L$113) -> 16 | C16: 50. | D16: Loboda András | E16: Budapesti Corvinus Egyetem | F16: Közgazdaságtudományi Kar | G16: =VLOOKUP($C16,'Eredmény kód szerint'!$A$1:$G$111,2,0) -> 20 | H16: =VLOOKUP($C16,'Eredmény kód szerint'!$A$1:$G$111,3,0) -> 9 | I16: =VLOOKUP($C16,'Eredmény kód szerint'!$A$1:$G$111,4,0) -> 20 | J16: =VLOOKUP($C16,'Eredmény kód szerint'!$A$1:$G$111,5,0) -> 4 | K16: =VLOOKUP($C16,'Eredmény kód szerint'!$A$1:$G$111,6,0) -> 0 | L16: =SUM(G16:K16) -> 53 | M16: 203
A17: IV. | B17: =RANK(L17,$L$2:$L$113) -> 25 | C17: 69. | D17: Jakó Fanni | E17: Budapesti Corvinus Egyetem | F17: Közgazdaságtudományi Kar | G17: =VLOOKUP($C17,'Eredmény kód szerint'!$A$1:$G$111,2,0) -> 20 | H17: =VLOOKUP($C17,'Eredmény kód szerint'!$A$1:$G$111,3,0) -> 8 | I17: =VLOOKUP($C17,'Eredmény kód szerint'!$A$1:$G$111,4,0) -> 2 | J17: =VLOOKUP($C17,'Eredmény kód szerint'!$A$1:$G$111,5,0) -> 3 | K17: =VLOOKUP($C17,'Eredmény kód szerint'!$A$1:$G$111,6,0) -> 10 | L17: =SUM(G17:K17) -> 43 | M17: 203
A18: V. | B18: =RANK(L18,$L$2:$L$113) -> 4 | C18: 80. | D18: Csutak Balázs | E18: Pázmány Péter Katolikus Egyetem | F18: Információs Technlógiai és Bionikai Kar | G18: =VLOOKUP($C18,'Eredmény kód szerint'!$A$1:$G$111,2,0) -> 20 | H18: =VLOOKUP($C18,'Eredmény kód szerint'!$A$1:$G$111,3,0) -> 20 | I18: =VLOOKUP($C18,'Eredmény kód szerint'!$A$1:$G$111,4,0) -> 1 | J18: =VLOOKUP($C18,'Eredmény kód szerint'!$A$1:$G$111,5,0) -> 20 | K18: =VLOOKUP($C18,'Eredmény kód szerint'!$A$1:$G$111,6,0) -> 18 | L18: =SUM(G18:K18) -> 79 | M18: =SUM(L18:L20) -> 183 | N18: 5
A19: V. | B19: =RANK(L19,$L$2:$L$113) -> 15 | C19: 84. | D19: Farkas Domonkos László | E19: Pázmány Péter Katolikus Egyetem | F19: Információs Technlógiai és Bionikai Kar | G19: =VLOOKUP($C19,'Eredmény kód szerint'!$A$1:$G$111,2,0) -> 20 | H19: =VLOOKUP($C19,'Eredmény kód szerint'!$A$1:$G$111,3,0) -> 2 | I19: =VLOOKUP($C19,'Eredmény kód szerint'!$A$1:$G$111,4,0) -> 16 | J19: =VLOOKUP($C19,'Eredmény kód szerint'!$A$1:$G$111,5,0) -> 0 | K19: =VLOOKUP($C19,'Eredmény kód szerint'!$A$1:$G$111,6,0) -> 16 | L19: =SUM(G19:K19) -> 54 | M19: 183
A20: V. | B20: =RANK(L20,$L$2:$L$113) -> 20 | C20: 105. | D20: Vághy Mihály András | E20: Pázmány Péter Katolikus Egyetem | F20: Információs Technlógiai és Bionikai Kar | G20: =VLOOKUP($C20,'Eredmény kód szerint'!$A$1:$G$111,2,0) -> 18 | H20: =VLOOKUP($C20,'Eredmény kód szerint'!$A$1:$G$111,3,0) -> 3 | I20: =VLOOKUP($C20,'Eredmény kód szerint'!$A$1:$G$111,4,0) -> 5 | J20: =VLOOKUP($C20,'Eredmény kód szerint'!$A$1:$G$111,5,0) -> 20 | K20: =VLOOKUP($C20,'Eredmény kód szerint'!$A$1:$G$111,6,0) -> 4 | L20: =SUM(G20:K20) -> 50 | M20: 183
A21: V. | B21: =RANK(L21,$L$2:$L$113) -> 54 | C21: 81. | D21: Csanálosi Balázs | E21: Pázmány Péter Katolikus Egyetem | F21: Információs Technlógiai és Bionikai Kar | G21: =VLOOKUP($C21,'Eredmény kód szerint'!$A$1:$G$111,2,0) -> 3 | H21: =VLOOKUP($C21,'Eredmény kód szerint'!$A$1:$G$111,3,0) -> 0 | I21: =VLOOKUP($C21,'Eredmény kód szerint'!$A$1:$G$111,4,0) -> 4 | J21: =VLOOKUP($C21,'Eredmény kód szerint'!$A$1:$G$111,5,0) -> 5 | K21: =VLOOKUP($C21,'Eredmény kód szerint'!$A$1:$G$111,6,0) -> 0 | L21: =SUM(G21:K21) -> 12 | M21: 183
A22: VI. | B22: =RANK(L22,$L$2:$L$113) -> 5 | C22: 51. | D22: Csorba Benjamin | E22: Eötvös Lóránd Tudományegyetem | F22: Természettudományi Kar | G22: =VLOOKUP($C22,'Eredmény kód szerint'!$A$1:$G$111,2,0) -> 19 | H22: =VLOOKUP($C22,'Eredmény kód szerint'!$A$1:$G$111,3,0) -> 20 | I22: =VLOOKUP($C22,'Eredmény kód szerint'!$A$1:$G$111,4,0) -> 20 | J22: =VLOOKUP($C22,'Eredmény kód szerint'!$A$1:$G$111,5,0) -> 0 | K22: =VLOOKUP($C22,'Eredmény kód szerint'!$A$1:$G$111,6,0) -> 19 | L22: =SUM(G22:K22) -> 78 | M22: =SUM(L22:L24) -> 161 | N22: 6
A23: VI. | B23: =RANK(L23,$L$2:$L$113) -> 24 | C23: 104. | D23: Baglyas Márton | E23: Eötvös Lóránd Tudományegyetem | F23: Természettudományi Kar | G23: =VLOOKUP($C23,'Eredmény kód szerint'!$A$1:$G$111,2,0) -> 20 | H23: =VLOOKUP($C23,'Eredmény kód szerint'!$A$1:$G$111,3,0) -> 3 | I23: =VLOOKUP($C23,'Eredmény kód szerint'!$A$1:$G$111,4,0) -> X | J23: =VLOOKUP($C23,'Eredmény kód szerint'!$A$1:$G$111,5,0) -> 2 | K23: =VLOOKUP($C23,'Eredmény kód szerint'!$A$1:$G$111,6,0) -> 20 | L23: =SUM(G23:K23) -> 45 | M23: 161
A24: VI. | B24: =RANK(L24,$L$2:$L$113) -> 29 | C24: 45. | D24: Németh Flóra Boróka | E24: Eötvös Lóránd Tudományegyetem | F24: Természettudományi Kar | G24: =VLOOKUP($C24,'Eredmény kód szerint'!$A$1:$G$111,2,0) -> 20 | H24: =VLOOKUP($C24,'Eredmény kód szerint'!$A$1:$G$111,3,0) -> 2 | I24: =VLOOKUP($C24,'Eredmény kód szerint'!$A$1:$G$111,4,0) -> 9 | J24: =VLOOKUP($C24,'Eredmény kód szerint'!$A$1:$G$111,5,0) -> 5 | K24: =VLOOKUP($C24,'Eredmény kód szerint'!$A$1:$G$111,6,0) -> 2 | L24: =SUM(G24:K24) -> 38 | M24: 161
A25: VII. | B25: =RANK(L25,$L$2:$L$113) -> 9 | C25: 6. | D25: Papp Marcell | E25: Budapesti Műszaki és Gazdaságtudományi Egyetem | F25: Vegyész és Biomérnöki Kar | G25: =VLOOKUP($C25,'Eredmény kód szerint'!$A$1:$G$111,2,0) -> 20 | H25: =VLOOKUP($C25,'Eredmény kód szerint'!$A$1:$G$111,3,0) -> 12 | I25: =VLOOKUP($C25,'Eredmény kód szerint'!$A$1:$G$111,4,0) -> 7 | J25: =VLOOKUP($C25,'Eredmény kód szerint'!$A$1:$G$111,5,0) -> 15 | K25: =VLOOKUP($C25,'Eredmény kód szerint'!$A$1:$G$111,6,0) -> 18 | L25: =SUM(G25:K25) -> 72 | M25: =SUM(L25:L27) -> 133 | N25: 7
A26: VII. | B26: =RANK(L26,$L$2:$L$113) -> 32 | C26: 85. | D26: Horváth József Áron | E26: Budapesti Műszaki és Gazdaságtudományi Egyetem | F26: Vegyész és Biomérnöki Kar | G26: =VLOOKUP($C26,'Eredmény kód szerint'!$A$1:$G$111,2,0) -> 14 | H26: =VLOOKUP($C26,'Eredmény kód szerint'!$A$1:$G$111,3,0) -> 5 | I26: =VLOOKUP($C26,'Eredmény kód szerint'!$A$1:$G$111,4,0) -> X | J26: =VLOOKUP($C26,'Eredmény kód szerint'!$A$1:$G$111,5,0) -> 8 | K26: =VLOOKUP($C26,'Eredmény kód szerint'!$A$1:$G$111,6,0) -> 8 | L26: =SUM(G26:K26) -> 35 | M26: 133
A27: VII. | B27: =RANK(L27,$L$2:$L$113) -> 35 | C27: 30. | D27: Papp Ábrahám | E27: Budapesti Műszaki és Gazdaságtudományi Egyetem | F27: Vegyész és Biomérnöki Kar | G27: =VLOOKUP($C27,'Eredmény kód szerint'!$A$1:$G$111,2,0) -> 18 | H27: =VLOOKUP($C27,'Eredmény kód szerint'!$A$1:$G$111,3,0) -> 5 | I27: =VLOOKUP($C27,'Eredmény kód szerint'!$A$1:$G$111,4,0) -> X | J27: =VLOOKUP($C27,'Eredmény kód szerint'!$A$1:$G$111,5,0) -> 1 | K27: =VLOOKUP($C27,'Eredmény kód szerint'!$A$1:$G$111,6,0) -> 2 | L27: =SUM(G27:K27) -> 26 | M27: 133
A28: VII. | D28: Talyigás Gergely | E28: Budapesti Műszaki és Gazdaságtudományi Egyetem | F28: Vegyész és Biomérnöki Kar | M28: 133
A29: VIII. | B29: =RANK(L29,$L$2:$L$113) -> 19 | C29: 10. | D29: Salánki Dániel | E29: Debreceni Egyetem | F29: Műszaki Kar | G29: =VLOOKUP($C29,'Eredmény kód szerint'!$A$1:$G$111,2,0) -> 20 | H29: =VLOOKUP($C29,'Eredmény kód szerint'!$A$1:$G$111,3,0) -> 4 | I29: =VLOOKUP($C29,'Eredmény kód szerint'!$A$1:$G$111,4,0) -> 8 | J29: =VLOOKUP($C29,'Eredmény kód szerint'!$A$1:$G$111,5,0) -> 1 | K29: =VLOOKUP($C29,'Eredmény kód szerint'!$A$1:$G$111,6,0) -> 18 | L29: =SUM(G29:K29) -> 51 | M29: =SUM(L29:L31) -> 103 | N29: 8
A30: VIII. | B30: =RANK(L30,$L$2:$L$113) -> 30 | C30: 101. | D30: Lazsádi Áron | E30: Debreceni Egyetem | F30: Műszaki Kar | G30: =VLOOKUP($C30,'Eredmény kód szerint'!$A$1:$G$111,2,0) -> 20 | H30: =VLOOKUP($C30,'Eredmény kód szerint'!$A$1:$G$111,3,0) -> 10 | I30: =VLOOKUP($C30,'Eredmény kód szerint'!$A$1:$G$111,4,0) -> 2 | J30: =VLOOKUP($C30,'Eredmény kód szerint'!$A$1:$G$111,5,0) -> 3 | K30: =VLOOKUP($C30,'Eredmény kód szerint'!$A$1:$G$111,6,0) -> 1 | L30: =SUM(G30:K30) -> 36 | M30: 103
A31: VIII. | B31: =RANK(L31,$L$2:$L$113) -> 45 | C31: 103. | D31: Hagymássy Gábor | E31: Debreceni Egyetem | F31: Műszaki Kar | G31: =VLOOKUP($C31,'Eredmény kód szerint'!$A$1:$G$111,2,0) -> 8 | H31: =VLOOKUP($C31,'Eredmény kód szerint'!$A$1:$G$111,3,0) -> 3 | I31: =VLOOKUP($C31,'Eredmény kód szerint'!$A$1:$G$111,4,0) -> 1 | J31: =VLOOKUP($C31,'Eredmény kód szerint'!$A$1:$G$111,5,0) -> 2 | K31: =VLOOKUP($C31,'Eredmény kód szerint'!$A$1:$G$111,6,0) -> 2 | L31: =SUM(G31:K31) -> 16 | M31: 103
A32: VIII. | B32: =RANK(L32,$L$2:$L$113) -> 50 | C32: 9. | D32: Ferenczi Márk | E32: Debreceni Egyetem | F32: Műszaki Kar | G32: =VLOOKUP($C32,'Eredmény kód szerint'!$A$1:$G$111,2,0) -> 2 | H32: =VLOOKUP($C32,'Eredmény kód szerint'!$A$1:$G$111,3,0) -> 8 | I32: =VLOOKUP($C32,'Eredmény kód szerint'!$A$1:$G$111,4,0) -> 2 | J32: =VLOOKUP($C32,'Eredmény kód szerint'!$A$1:$G$111,5,0) -> 1 | K32: =VLOOKUP($C32,'Eredmény kód szerint'!$A$1:$G$111,6,0) -> 0 | L32: =SUM(G32:K32) -> 13 | M32: 103
A33: IX | B33: =RANK(L33,$L$2:$L$113) -> 22 | C33: 72. | D33: Fülöp Ákos | E33: Pannon Egyetem | F33: Műszaki Informatikai Kar | G33: =VLOOKUP($C33,'Eredmény kód szerint'!$A$1:$G$111,2,0) -> 12 | H33: =VLOOKUP($C33,'Eredmény kód szerint'!$A$1:$G$111,3,0) -> 6 | I33: =VLOOKUP($C33,'Eredmény kód szerint'!$A$1:$G$111,4,0) -> 3 | J33: =VLOOKUP($C33,'Eredmény kód szerint'!$A$1:$G$111,5,0) -> 16 | K33: =VLOOKUP($C33,'Eredmény kód szerint'!$A$1:$G$111,6,0) -> 10 | L33: =SUM(G33:K33) -> 47 | M33: =SUM(L33:L35) -> 95 | N33: 9
A34: IX | B34: =RANK(L34,$L$2:$L$113) -> 35 | C34: 38. | D34: Győrfi-Bátori András | E34: Pannon Egyetem | F34: Műszaki Informatikai Kar | G34: =VLOOKUP($C34,'Eredmény kód szerint'!$A$1:$G$111,2,0) -> X | H34: =VLOOKUP($C34,'Eredmény kód szerint'!$A$1:$G$111,3,0) -> 5 | I34: =VLOOKUP($C34,'Eredmény kód szerint'!$A$1:$G$111,4,0) -> 6 | J34: =VLOOKUP($C34,'Eredmény kód szerint'!$A$1:$G$111,5,0) -> 5 | K34: =VLOOKUP($C34,'Eredmény kód szerint'!$A$1:$G$111,6,0) -> 10 | L34: =SUM(G34:K34) -> 26 | M34: 95
A35: IX | B35: =RANK(L35,$L$2:$L$113) -> 41 | C35: 52. | D35: Halmosi Bence | E35: Pannon Egyetem | F35: Műszaki Informatikai Kar | G35: =VLOOKUP($C35,'Eredmény kód szerint'!$A$1:$G$111,2,0) -> 0 | H35: =VLOOKUP($C35,'Eredmény kód szerint'!$A$1:$G$111,3,0) -> 5 | I35: =VLOOKUP($C35,'Eredmény kód szerint'!$A$1:$G$111,4,0) -> 8 | J35: =VLOOKUP($C35,'Eredmény kód szerint'!$A$1:$G$111,5,0) -> 1 | K35: =VLOOKUP($C35,'Eredmény kód szerint'!$A$1:$G$111,6,0) -> 8 | L35: =SUM(G35:K35) -> 22 | M35: 95
A36: IX | B36: =RANK(L36,$L$2:$L$113) -> 56 | C36: 37. | D36: Besenyei Szebasztián | E36: Pannon Egyetem | F36: Műszaki Informatikai Kar | G36: =VLOOKUP($C36,'Eredmény kód szerint'!$A$1:$G$111,2,0) -> 2 | H36: =VLOOKUP($C36,'Eredmény kód szerint'!$A$1:$G$111,3,0) -> 2 | I36: =VLOOKUP($C36,'Eredmény kód szerint'!$A$1:$G$111,4,0) -> 6 | J36: =VLOOKUP($C36,'Eredmény kód szerint'!$A$1:$G$111,5,0) -> 1 | K36: =VLOOKUP($C36,'Eredmény kód szerint'!$A$1:$G$111,6,0) -> 0 | L36: =SUM(G36:K36) -> 11 | M36: 95
A37: X. | B37: =RANK(L37,$L$2:$L$113) -> 17 | C37: 49. | D37: Körmöczi Dávid | E37: Szent István Egyetem | F37: Gépészmérnöki Kar | G37: =VLOOKUP($C37,'Eredmény kód szerint'!$A$1:$G$111,2,0) -> 2 | H37: =VLOOKUP($C37,'Eredmény kód szerint'!$A$1:$G$111,3,0) -> 5 | I37: =VLOOKUP($C37,'Eredmény kód szerint'!$A$1:$G$111,4,0) -> 20 | J37: =VLOOKUP($C37,'Eredmény kód szerint'!$A$1:$G$111,5,0) -> 8 | K37: =VLOOKUP($C37,'Eredmény kód szerint'!$A$1:$G$111,6,0) -> 17 | L37: =SUM(G37:K37) -> 52 | M37: =SUM(L37:L39) -> 89 | N37: 10
A38: X. | B38: =RANK(L38,$L$2:$L$113) -> 35 | C38: 66. | D38: Czakó Patrik Roland | E38: Szent István Egyetem | F38: Gépészmérnöki Kar | G38: =VLOOKUP($C38,'Eredmény kód szerint'!$A$1:$G$111,2,0) -> 4 | H38: =VLOOKUP($C38,'Eredmény kód szerint'!$A$1:$G$111,3,0) -> 5 | I38: =VLOOKUP($C38,'Eredmény kód szerint'!$A$1:$G$111,4,0) -> 8 | J38: =VLOOKUP($C38,'Eredmény kód szerint'!$A$1:$G$111,5,0) -> 1 | K38: =VLOOKUP($C38,'Eredmény kód szerint'!$A$1:$G$111,6,0) -> 8 | L38: =SUM(G38:K38) -> 26 | M38: 89
A39: X. | B39: =RANK(L39,$L$2:$L$113) -> 56 | C39: 71. | D39: Adamik Győző | E39: Szent István Egyetem | F39: Gépészmérnöki Kar | G39: =VLOOKUP($C39,'Eredmény kód szerint'!$A$1:$G$111,2,0) -> 4 | H39: =VLOOKUP($C39,'Eredmény kód szerint'!$A$1:$G$111,3,0) -> 2 | I39: =VLOOKUP($C39,'Eredmény kód szerint'!$A$1:$G$111,4,0) -> 2 | J39: =VLOOKUP($C39,'Eredmény kód szerint'!$A$1:$G$111,5,0) -> 1 | K39: =VLOOKUP($C39,'Eredmény kód szerint'!$A$1:$G$111,6,0) -> 2 | L39: =SUM(G39:K39) -> 11 | M39: 89
A40: X. | B40: =RANK(L40,$L$2:$L$113) -> 74 | C40: 89. | D40: Eperjesi Gábor | E40: Szent István Egyetem | F40: Gépészmérnöki Kar | G40: =VLOOKUP($C40,'Eredmény kód szerint'!$A$1:$G$111,2,0) -> 0 | H40: =VLOOKUP($C40,'Eredmény kód szerint'!$A$1:$G$111,3,0) -> 5 | I40: =VLOOKUP($C40,'Eredmény kód szerint'!$A$1:$G$111,4,0) -> 2 | J40: =VLOOKUP($C40,'Eredmény kód szerint'!$A$1:$G$111,5,0) -> 0 | K40: =VLOOKUP($C40,'Eredmény kód szerint'!$A$1:$G$111,6,0) -> 0 | L40: =SUM(G40:K40) -> 7 | M40: 89
A41: XI. | B41: =RANK(L41,$L$2:$L$113) -> 26 | C41: 26. | D41: Juhász Martin Zsolt | E41: Budapesti Gazdasági Egyetem | F41: Külkereskedelmi Kar | G41: =VLOOKUP($C41,'Eredmény kód szerint'!$A$1:$G$111,2,0) -> 20 | H41: =VLOOKUP($C41,'Eredmény kód szerint'!$A$1:$G$111,3,0) -> 5 | I41: =VLOOKUP($C41,'Eredmény kód szerint'!$A$1:$G$111,4,0) -> 2 | J41: =VLOOKUP($C41,'Eredmény kód szerint'!$A$1:$G$111,5,0) -> 12 | K41: =VLOOKUP($C41,'Eredmény kód szerint'!$A$1:$G$111,6,0) -> 1 | L41: =SUM(G41:K41) -> 40 | M41: =SUM(L41:L43) -> 78 | N41: 11
A42: XI. | B42: =RANK(L42,$L$2:$L$113) -> 42 | C42: 94. | D42: Goór Vanessza Szonja | E42: Budapesti Gazdasági Egyetem | F42: Külkereskedelmi Kar | G42: =VLOOKUP($C42,'Eredmény kód szerint'!$A$1:$G$111,2,0) -> 2 | H42: =VLOOKUP($C42,'Eredmény kód szerint'!$A$1:$G$111,3,0) -> 5 | I42: =VLOOKUP($C42,'Eredmény kód szerint'!$A$1:$G$111,4,0) -> 3 | J42: =VLOOKUP($C42,'Eredmény kód szerint'!$A$1:$G$111,5,0) -> 9 | K42: =VLOOKUP($C42,'Eredmény kód szerint'!$A$1:$G$111,6,0) -> 0 | L42: =SUM(G42:K42) -> 19 | M42: 78
A43: XI. | B43: =RANK(L43,$L$2:$L$113) -> 42 | C43: 70. | D43: Rendes Szabolcs Árpád | E43: Budapesti Gazdasági Egyetem | F43: Külkereskedelmi Kar | G43: =VLOOKUP($C43,'Eredmény kód szerint'!$A$1:$G$111,2,0) -> 0 | H43: =VLOOKUP($C43,'Eredmény kód szerint'!$A$1:$G$111,3,0) -> 0 | I43: =VLOOKUP($C43,'Eredmény kód szerint'!$A$1:$G$111,4,0) -> 2 | J43: =VLOOKUP($C43,'Eredmény kód szerint'!$A$1:$G$111,5,0) -> 17 | K43: =VLOOKUP($C43,'Eredmény kód szerint'!$A$1:$G$111,6,0) -> 0 | L43: =SUM(G43:K43) -> 19 | M43: 78
A44: XI. | B44: =RANK(L44,$L$2:$L$113) -> 47 | C44: 67. | D44: Varga Zsolt Sándor | E44: Budapesti Gazdasági Egyetem | F44: Külkereskedelmi Kar | G44: =VLOOKUP($C44,'Eredmény kód szerint'!$A$1:$G$111,2,0) -> 3 | H44: =VLOOKUP($C44,'Eredmény kód szerint'!$A$1:$G$111,3,0) -> 3 | I44: =VLOOKUP($C44,'Eredmény kód szerint'!$A$1:$G$111,4,0) -> 4 | J44: =VLOOKUP($C44,'Eredmény kód szerint'!$A$1:$G$111,5,0) -> 3 | K44: =VLOOKUP($C44,'Eredmény kód szerint'!$A$1:$G$111,6,0) -> 1 | L44: =SUM(G44:K44) -> 14 | M44: 78
A45: XII. | B45: =RANK(L45,$L$2:$L$113) -> 33 | C45: 98. | D45: Roszpapa Dávid | E45: Debreceni Egyetem | F45: Informatikai Kar | G45: =VLOOKUP($C45,'Eredmény kód szerint'!$A$1:$G$111,2,0) -> 18 | H45: =VLOOKUP($C45,'Eredmény kód szerint'!$A$1:$G$111,3,0) -> 10 | I45: =VLOOKUP($C45,'Eredmény kód szerint'!$A$1:$G$111,4,0) -> 1 | J45: =VLOOKUP($C45,'Eredmény kód szerint'!$A$1:$G$111,5,0) -> 1 | K45: =VLOOKUP($C45,'Eredmény kód szerint'!$A$1:$G$111,6,0) -> 1 | L45: =SUM(G45:K45) -> 31 | M45: =SUM(L45:L47) -> 77 | N45: 12
A46: XII. | B46: =RANK(L46,$L$2:$L$113) -> 39 | C46: 41. | D46: Stempel Richárd | E46: Debreceni Egyetem | F46: Informatikai Kar | G46: =VLOOKUP($C46,'Eredmény kód szerint'!$A$1:$G$111,2,0) -> 16 | H46: =VLOOKUP($C46,'Eredmény kód szerint'!$A$1:$G$111,3,0) -> X | I46: =VLOOKUP($C46,'Eredmény kód szerint'!$A$1:$G$111,4,0) -> 6 | J46: =VLOOKUP($C46,'Eredmény kód szerint'!$A$1:$G$111,5,0) -> 0 | K46: =VLOOKUP($C46,'Eredmény kód szerint'!$A$1:$G$111,6,0) -> 1 | L46: =SUM(G46:K46) -> 23 | M46: 77
A47: XII. | B47: =RANK(L47,$L$2:$L$113) -> 39 | C47: 97. | D47: Uzonyi Noémi | E47: Debreceni Egyetem | F47: Informatikai Kar | G47: =VLOOKUP($C47,'Eredmény kód szerint'!$A$1:$G$111,2,0) -> 2 | H47: =VLOOKUP($C47,'Eredmény kód szerint'!$A$1:$G$111,3,0) -> 7 | I47: =VLOOKUP($C47,'Eredmény kód szerint'!$A$1:$G$111,4,0) -> 13 | J47: =VLOOKUP($C47,'Eredmény kód szerint'!$A$1:$G$111,5,0) -> 1 | K47: =VLOOKUP($C47,'Eredmény kód szerint'!$A$1:$G$111,6,0) -> 0 | L47: =SUM(G47:K47) -> 23 | M47: 77
A48: XII. | B48: =RANK(L48,$L$2:$L$113) -> 70 | C48: 88. | D48: Létai Zoltán | E48: Debreceni Egyetem | F48: Informatikai Kar | G48: =VLOOKUP($C48,'Eredmény kód szerint'!$A$1:$G$111,2,0) -> 1 | H48: =VLOOKUP($C48,'Eredmény kód szerint'!$A$1:$G$111,3,0) -> 2 | I48: =VLOOKUP($C48,'Eredmény kód szerint'!$A$1:$G$111,4,0) -> 3 | J48: =VLOOKUP($C48,'Eredmény kód szerint'!$A$1:$G$111,5,0) -> 1 | K48: =VLOOKUP($C48,'Eredmény kód szerint'!$A$1:$G$111,6,0) -> 1 | L48: =SUM(G48:K48) -> 8 | M48: 77
A49: XIII. | B49: =RANK(L49,$L$2:$L$113) -> 30 | C49: 40. | D49: Burián Máté | E49: Pécsi Tudomány egyetem | F49: Műszaki és Informatikai Kar | G49: =VLOOKUP($C49,'Eredmény kód szerint'!$A$1:$G$111,2,0) -> 20 | H49: =VLOOKUP($C49,'Eredmény kód szerint'!$A$1:$G$111,3,0) -> 5 | I49: =VLOOKUP($C49,'Eredmény kód szerint'!$A$1:$G$111,4,0) -> 8 | J49: =VLOOKUP($C49,'Eredmény kód szerint'!$A$1:$G$111,5,0) -> 3 | K49: =VLOOKUP($C49,'Eredmény kód szerint'!$A$1:$G$111,6,0) -> 0 | L49: =SUM(G49:K49) -> 36 | M49: =SUM(L49:L51) -> 76 | N49: 13
A50: XIII. | B50: =RANK(L50,$L$2:$L$113) -> 34 | C50: 32. | D50: Truong Vu Hiep | E50: Pécsi Tudomány egyetem | F50: Műszaki és Informatikai Kar | G50: =VLOOKUP($C50,'Eredmény kód szerint'!$A$1:$G$111,2,0) -> 4 | H50: =VLOOKUP($C50,'Eredmény kód szerint'!$A$1:$G$111,3,0) -> 5 | I50: =VLOOKUP($C50,'Eredmény kód szerint'!$A$1:$G$111,4,0) -> 10 | J50: =VLOOKUP($C50,'Eredmény kód szerint'!$A$1:$G$111,5,0) -> 10 | K50: =VLOOKUP($C50,'Eredmény kód szerint'!$A$1:$G$111,6,0) -> 0 | L50: =SUM(G50:K50) -> 29 | M50: 76
A51: XIII. | B51: =RANK(L51,$L$2:$L$113) -> 56 | C51: 47. | D51: Zalavári Bálint | E51: Pécsi Tudomány egyetem | F51: Műszaki és Informatikai Kar | G51: =VLOOKUP($C51,'Eredmény kód szerint'!$A$1:$G$111,2,0) -> 0 | H51: =VLOOKUP($C51,'Eredmény kód szerint'!$A$1:$G$111,3,0) -> 7 | I51: =VLOOKUP($C51,'Eredmény kód szerint'!$A$1:$G$111,4,0) -> 3 | J51: =VLOOKUP($C51,'Eredmény kód szerint'!$A$1:$G$111,5,0) -> 1 | K51: =VLOOKUP($C51,'Eredmény kód szerint'!$A$1:$G$111,6,0) -> 0 | L51: =SUM(G51:K51) -> 11 | M51: 76
A52: XIII. | B52: =RANK(L52,$L$2:$L$113) -> 70 | C52: 109. | D52: Mayer Roland István | E52: Pécsi Tudomány egyetem | F52: Műszaki és Informatikai Kar | G52: =VLOOKUP($C52,'Eredmény kód szerint'!$A$1:$G$111,2,0) -> 2 | H52: =VLOOKUP($C52,'Eredmény kód szerint'!$A$1:$G$111,3,0) -> 3 | I52: =VLOOKUP($C52,'Eredmény kód szerint'!$A$1:$G$111,4,0) -> 2 | J52: =VLOOKUP($C52,'Eredmény kód szerint'!$A$1:$G$111,5,0) -> 0 | K52: =VLOOKUP($C52,'Eredmény kód szerint'!$A$1:$G$111,6,0) -> 1 | L52: =SUM(G52:K52) -> 8 | M52: 76
A53: XIV. | B53: =RANK(L53,$L$2:$L$113) -> 23 | C53: 8. | D53: Mándoki Sára | E53: Budapesti Műszaki és Gazdaságtudományi Egyetem | F53: Építész Kar | G53: =VLOOKUP($C53,'Eredmény kód szerint'!$A$1:$G$111,2,0) -> X | H53: =VLOOKUP($C53,'Eredmény kód szerint'!$A$1:$G$111,3,0) -> 9 | I53: =VLOOKUP($C53,'Eredmény kód szerint'!$A$1:$G$111,4,0) -> 4 | J53: =VLOOKUP($C53,'Eredmény kód szerint'!$A$1:$G$111,5,0) -> 18 | K53: =VLOOKUP($C53,'Eredmény kód szerint'!$A$1:$G$111,6,0) -> 15 | L53: =SUM(G53:K53) -> 46 | M53: =SUM(L53:L55) -> 69 | N53: 14
A54: XIV. | B54: =RANK(L54,$L$2:$L$113) -> 50 | C54: 58. | D54: Dobos Nóra | E54: Budapesti Műszaki és Gazdaságtudományi Egyetem | F54: Építész Kar | G54: =VLOOKUP($C54,'Eredmény kód szerint'!$A$1:$G$111,2,0) -> 2 | H54: =VLOOKUP($C54,'Eredmény kód szerint'!$A$1:$G$111,3,0) -> 1 | I54: =VLOOKUP($C54,'Eredmény kód szerint'!$A$1:$G$111,4,0) -> 0 | J54: =VLOOKUP($C54,'Eredmény kód szerint'!$A$1:$G$111,5,0) -> 0 | K54: =VLOOKUP($C54,'Eredmény kód szerint'!$A$1:$G$111,6,0) -> 10 | L54: =SUM(G54:K54) -> 13 | M54: 69
A55: XIV. | B55: =RANK(L55,$L$2:$L$113) -> 62 | C55: 61. | D55: Király Bence | E55: Budapesti Műszaki és Gazdaságtudományi Egyetem | F55: Építész Kar | G55: =VLOOKUP($C55,'Eredmény kód szerint'!$A$1:$G$111,2,0) -> X | H55: =VLOOKUP($C55,'Eredmény kód szerint'!$A$1:$G$111,3,0) -> 2 | I55: =VLOOKUP($C55,'Eredmény kód szerint'!$A$1:$G$111,4,0) -> 8 | J55: =VLOOKUP($C55,'Eredmény kód szerint'!$A$1:$G$111,5,0) -> X | K55: =VLOOKUP($C55,'Eredmény kód szerint'!$A$1:$G$111,6,0) -> 0 | L55: =SUM(G55:K55) -> 10 | M55: 69
A56: XIV. | B56: =RANK(L56,$L$2:$L$113) -> 91 | C56: 21. | D56: Németh Ilona | E56: Budapesti Műszaki és Gazdaságtudományi Egyetem | F56: Építész Kar | G56: =VLOOKUP($C56,'Eredmény kód szerint'!$A$1:$G$111,2,0) -> X | H56: =VLOOKUP($C56,'Eredmény kód szerint'!$A$1:$G$111,3,0) -> X | I56: =VLOOKUP($C56,'Eredmény kód szerint'!$A$1:$G$111,4,0) -> 3 | J56: =VLOOKUP($C56,'Eredmény kód szerint'!$A$1:$G$111,5,0) -> 1 | K56: =VLOOKUP($C56,'Eredmény kód szerint'!$A$1:$G$111,6,0) -> 0 | L56: =SUM(G56:K56) -> 4 | M56: 69
A57: XV. | B57: =RANK(L57,$L$2:$L$113) -> 27 | C57: 31. | D57: Szalai Dávid | E57: Miskolci Egyetem | F57: Gépészmérnöki és Informatikai Kar | G57: =VLOOKUP($C57,'Eredmény kód szerint'!$A$1:$G$111,2,0) -> 2 | H57: =VLOOKUP($C57,'Eredmény kód szerint'!$A$1:$G$111,3,0) -> 10 | I57: =VLOOKUP($C57,'Eredmény kód szerint'!$A$1:$G$111,4,0) -> 12 | J57: =VLOOKUP($C57,'Eredmény kód szerint'!$A$1:$G$111,5,0) -> 7 | K57: =VLOOKUP($C57,'Eredmény kód szerint'!$A$1:$G$111,6,0) -> 8 | L57: =SUM(G57:K57) -> 39 | M57: =SUM(L57:L59) -> 56 | N57: 15
A58: XV. | B58: =RANK(L58,$L$2:$L$113) -> 56 | C58: 19. | D58: Taskó Levente | E58: Miskolci Egyetem | F58: Gépészmérnöki és Informatikai Kar | G58: =VLOOKUP($C58,'Eredmény kód szerint'!$A$1:$G$111,2,0) -> 2 | H58: =VLOOKUP($C58,'Eredmény kód szerint'!$A$1:$G$111,3,0) -> 3 | I58: =VLOOKUP($C58,'Eredmény kód szerint'!$A$1:$G$111,4,0) -> 1 | J58: =VLOOKUP($C58,'Eredmény kód szerint'!$A$1:$G$111,5,0) -> 1 | K58: =VLOOKUP($C58,'Eredmény kód szerint'!$A$1:$G$111,6,0) -> 4 | L58: =SUM(G58:K58) -> 11 | M58: 56
A59: XV. | B59: =RANK(L59,$L$2:$L$113) -> 80 | C59: 90. | D59: Kopcsó Dániel | E59: Miskolci Egyetem | F59: Gépészmérnöki és Informatikai Kar | G59: =VLOOKUP($C59,'Eredmény kód szerint'!$A$1:$G$111,2,0) -> 2 | H59: =VLOOKUP($C59,'Eredmény kód szerint'!$A$1:$G$111,3,0) -> 0 | I59: =VLOOKUP($C59,'Eredmény kód szerint'!$A$1:$G$111,4,0) -> 3 | J59: =VLOOKUP($C59,'Eredmény kód szerint'!$A$1:$G$111,5,0) -> 0 | K59: =VLOOKUP($C59,'Eredmény kód szerint'!$A$1:$G$111,6,0) -> 1 | L59: =SUM(G59:K59) -> 6 | M59: 56
A60: XV. | B60: =RANK(L60,$L$2:$L$113) -> 87 | C60: 91. | D60: Madarász Kata | E60: Miskolci Egyetem | F60: Gépészmérnöki és Informatikai Kar | G60: =VLOOKUP($C60,'Eredmény kód szerint'!$A$1:$G$111,2,0) -> 0 | H60: =VLOOKUP($C60,'Eredmény kód szerint'!$A$1:$G$111,3,0) -> 2 | I60: =VLOOKUP($C60,'Eredmény kód szerint'!$A$1:$G$111,4,0) -> 3 | J60: =VLOOKUP($C60,'Eredmény kód szerint'!$A$1:$G$111,5,0) -> 0 | K60: =VLOOKUP($C60,'Eredmény kód szerint'!$A$1:$G$111,6,0) -> 0 | L60: =SUM(G60:K60) -> 5 | M60: 56
A61: XV. | B61: =RANK(L61,$L$2:$L$113) -> 38 | C61: 96. | D61: Kónya Imre Dávid | E61: Pannon Egyetem | F61: Mérnöki Kar | G61: =VLOOKUP($C61,'Eredmény kód szerint'!$A$1:$G$111,2,0) -> 4 | H61: =VLOOKUP($C61,'Eredmény kód szerint'!$A$1:$G$111,3,0) -> 8 | I61: =VLOOKUP($C61,'Eredmény kód szerint'!$A$1:$G$111,4,0) -> 1 | J61: =VLOOKUP($C61,'Eredmény kód szerint'!$A$1:$G$111,5,0) -> 7 | K61: =VLOOKUP($C61,'Eredmény kód szerint'!$A$1:$G$111,6,0) -> 5 | L61: =SUM(G61:K61) -> 25 | M61: =SUM(L61:L63) -> 45
A62: XVI. | B62: =RANK(L62,$L$2:$L$113) -> 56 | C62: 23. | D62: Harta Péter | E62: Pannon Egyetem | F62: Mérnöki Kar | G62: =VLOOKUP($C62,'Eredmény kód szerint'!$A$1:$G$111,2,0) -> 4 | H62: =VLOOKUP($C62,'Eredmény kód szerint'!$A$1:$G$111,3,0) -> 4 | I62: =VLOOKUP($C62,'Eredmény kód szerint'!$A$1:$G$111,4,0) -> 1 | J62: =VLOOKUP($C62,'Eredmény kód szerint'!$A$1:$G$111,5,0) -> 0 | K62: =VLOOKUP($C62,'Eredmény kód szerint'!$A$1:$G$111,6,0) -> 2 | L62: =SUM(G62:K62) -> 11 | M62: 45 | N62: 16
A63: XVI. | B63: =RANK(L63,$L$2:$L$113) -> 67 | C63: 63. | D63: Csizmadia Máté | E63: Pannon Egyetem | F63: Mérnöki Kar | G63: =VLOOKUP($C63,'Eredmény kód szerint'!$A$1:$G$111,2,0) -> 2 | H63: =VLOOKUP($C63,'Eredmény kód szerint'!$A$1:$G$111,3,0) -> 4 | I63: =VLOOKUP($C63,'Eredmény kód szerint'!$A$1:$G$111,4,0) -> 1 | J63: =VLOOKUP($C63,'Eredmény kód szerint'!$A$1:$G$111,5,0) -> 1 | K63: =VLOOKUP($C63,'Eredmény kód szerint'!$A$1:$G$111,6,0) -> 1 | L63: =SUM(G63:K63) -> 9 | M63: 45
A64: XVI. | B64: =RANK(L64,$L$2:$L$113) -> 91 | C64: 20. | D64: Fütyű Júlia | E64: Pannon Egyetem | F64: Mérnöki Kar | G64: =VLOOKUP($C64,'Eredmény kód szerint'!$A$1:$G$111,2,0) -> 0 | H64: =VLOOKUP($C64,'Eredmény kód szerint'!$A$1:$G$111,3,0) -> 0 | I64: =VLOOKUP($C64,'Eredmény kód szerint'!$A$1:$G$111,4,0) -> 3 | J64: =VLOOKUP($C64,'Eredmény kód szerint'!$A$1:$G$111,5,0) -> 0 | K64: =VLOOKUP($C64,'Eredmény kód szerint'!$A$1:$G$111,6,0) -> 1 | L64: =SUM(G64:K64) -> 4 | M64: 45
A65: XVII. | B65: =RANK(L65,$L$2:$L$113) -> 44 | C65: 43. | D65: Molnár Zsanett Teréz | E65: Óbudai Egyetem | F65: Neumann János Informatikai Kar | G65: =VLOOKUP($C65,'Eredmény kód szerint'!$A$1:$G$111,2,0) -> 2 | H65: =VLOOKUP($C65,'Eredmény kód szerint'!$A$1:$G$111,3,0) -> 10 | I65: =VLOOKUP($C65,'Eredmény kód szerint'!$A$1:$G$111,4,0) -> 1 | J65: =VLOOKUP($C65,'Eredmény kód szerint'!$A$1:$G$111,5,0) -> 5 | K65: =VLOOKUP($C65,'Eredmény kód szerint'!$A$1:$G$111,6,0) -> 0 | L65: =SUM(G65:K65) -> 18 | M65: =SUM(L65:L67) -> 30 | N65: 17
A66: XVII. | B66: =RANK(L66,$L$2:$L$113) -> 80 | C66: 60. | D66: Csatlós Péter | E66: Óbudai Egyetem | F66: Neumann János Informatikai Kar | G66: =VLOOKUP($C66,'Eredmény kód szerint'!$A$1:$G$111,2,0) -> 2 | H66: =VLOOKUP($C66,'Eredmény kód szerint'!$A$1:$G$111,3,0) -> 2 | I66: =VLOOKUP($C66,'Eredmény kód szerint'!$A$1:$G$111,4,0) -> 2 | J66: =VLOOKUP($C66,'Eredmény kód szerint'!$A$1:$G$111,5,0) -> 0 | K66: =VLOOKUP($C66,'Eredmény kód szerint'!$A$1:$G$111,6,0) -> 0 | L66: =SUM(G66:K66) -> 6 | M66: 30
A67: XVII. | B67: =RANK(L67,$L$2:$L$113) -> 80 | C67: 64. | D67: Póka Dezső Roland | E67: Óbudai Egyetem | F67: Neumann János Informatikai Kar | G67: =VLOOKUP($C67,'Eredmény kód szerint'!$A$1:$G$111,2,0) -> 2 | H67: =VLOOKUP($C67,'Eredmény kód szerint'!$A$1:$G$111,3,0) -> 2 | I67: =VLOOKUP($C67,'Eredmény kód szerint'!$A$1:$G$111,4,0) -> 1 | J67: =VLOOKUP($C67,'Eredmény kód szerint'!$A$1:$G$111,5,0) -> X | K67: =VLOOKUP($C67,'Eredmény kód szerint'!$A$1:$G$111,6,0) -> 1 | L67: =SUM(G67:K67) -> 6 | M67: 30
A68: XVII. | B68: =RANK(L68,$L$2:$L$113) -> 87 | C68: 15. | D68: Békéssy Herman András | E68: Óbudai Egyetem | F68: Neumann János Informatikai Kar | G68: =VLOOKUP($C68,'Eredmény kód szerint'!$A$1:$G$111,2,0) -> 2 | H68: =VLOOKUP($C68,'Eredmény kód szerint'!$A$1:$G$111,3,0) -> 2 | I68: =VLOOKUP($C68,'Eredmény kód szerint'!$A$1:$G$111,4,0) -> 1 | J68: =VLOOKUP($C68,'Eredmény kód szerint'!$A$1:$G$111,5,0) -> 0 | K68: =VLOOKUP($C68,'Eredmény kód szerint'!$A$1:$G$111,6,0) -> X | L68: =SUM(G68:K68) -> 5 | M68: 30
A69: XVIII. | B69: =RANK(L69,$L$2:$L$113) -> 46 | C69: 93. | D69: Filip Dominik | E69: Nemzeti Közszolgálati Egyetem | F69: Hadtudományi és Honvédtisztképző Kar | G69: =VLOOKUP($C69,'Eredmény kód szerint'!$A$1:$G$111,2,0) -> 2 | H69: =VLOOKUP($C69,'Eredmény kód szerint'!$A$1:$G$111,3,0) -> X | I69: =VLOOKUP($C69,'Eredmény kód szerint'!$A$1:$G$111,4,0) -> 2 | J69: =VLOOKUP($C69,'Eredmény kód szerint'!$A$1:$G$111,5,0) -> 1 | K69: =VLOOKUP($C69,'Eredmény kód szerint'!$A$1:$G$111,6,0) -> 10 | L69: =SUM(G69:K69) -> 15 | M69: =SUM(L69:L71) -> 29 | N69: 18
A70: XVIII. | B70: =RANK(L70,$L$2:$L$113) -> 70 | C70: 28. | D70: Juhász Zsolt | E70: Nemzeti Közszolgálati Egyetem | F70: Hadtudományi és Honvédtisztképző Kar | G70: =VLOOKUP($C70,'Eredmény kód szerint'!$A$1:$G$111,2,0) -> 0 | H70: =VLOOKUP($C70,'Eredmény kód szerint'!$A$1:$G$111,3,0) -> 5 | I70: =VLOOKUP($C70,'Eredmény kód szerint'!$A$1:$G$111,4,0) -> 0 | J70: =VLOOKUP($C70,'Eredmény kód szerint'!$A$1:$G$111,5,0) -> 1 | K70: =VLOOKUP($C70,'Eredmény kód szerint'!$A$1:$G$111,6,0) -> 2 | L70: =SUM(G70:K70) -> 8 | M70: 29
A71: XVIII. | B71: =RANK(L71,$L$2:$L$113) -> 80 | C71: 27. | D71: Pápics Patrik | E71: Nemzeti Közszolgálati Egyetem | F71: Hadtudományi és Honvédtisztképző Kar | G71: =VLOOKUP($C71,'Eredmény kód szerint'!$A$1:$G$111,2,0) -> 2 | H71: =VLOOKUP($C71,'Eredmény kód szerint'!$A$1:$G$111,3,0) -> 0 | I71: =VLOOKUP($C71,'Eredmény kód szerint'!$A$1:$G$111,4,0) -> 3 | J71: =VLOOKUP($C71,'Eredmény kód szerint'!$A$1:$G$111,5,0) -> 1 | K71: =VLOOKUP($C71,'Eredmény kód szerint'!$A$1:$G$111,6,0) -> 0 | L71: =SUM(G71:K71) -> 6 | M71: 29
A72: XVIII. | B72: =RANK(L72,$L$2:$L$113) -> 105 | C72: 29. | D72: Szmolnik Laura | E72: Nemzeti Közszolgálati Egyetem | F72: Hadtudományi és Honvédtisztképző Kar | G72: =VLOOKUP($C72,'Eredmény kód szerint'!$A$1:$G$111,2,0) -> 0 | H72: =VLOOKUP($C72,'Eredmény kód szerint'!$A$1:$G$111,3,0) -> 0 | I72: =VLOOKUP($C72,'Eredmény kód szerint'!$A$1:$G$111,4,0) -> 2 | J72: =VLOOKUP($C72,'Eredmény kód szerint'!$A$1:$G$111,5,0) -> 0 | K72: =VLOOKUP($C72,'Eredmény kód szerint'!$A$1:$G$111,6,0) -> 0 | L72: =SUM(G72:K72) -> 2 | M72: 29
A73: XVIII. | B73: =RANK(L73,$L$2:$L$113) -> 47 | C73: 54. | D73: Kakuszi Ádám | E73: Szegedi Tudományegyetem | F73: Mérnöki Kar | G73: =VLOOKUP($C73,'Eredmény kód szerint'!$A$1:$G$111,2,0) -> 4 | H73: =VLOOKUP($C73,'Eredmény kód szerint'!$A$1:$G$111,3,0) -> 3 | I73: =VLOOKUP($C73,'Eredmény kód szerint'!$A$1:$G$111,4,0) -> 4 | J73: =VLOOKUP($C73,'Eredmény kód szerint'!$A$1:$G$111,5,0) -> 1 | K73: =VLOOKUP($C73,'Eredmény kód szerint'!$A$1:$G$111,6,0) -> 2 | L73: =SUM(G73:K73) -> 14 | M73: =SUM(L73:L75) -> 29 | N73: 18
A74: XVIII. | B74: =RANK(L74,$L$2:$L$113) -> 67 | C74: 12. | D74: Tran Do Tuong Huan | E74: Szegedi Tudományegyetem | F74: Mérnöki Kar | G74: =VLOOKUP($C74,'Eredmény kód szerint'!$A$1:$G$111,2,0) -> 2 | H74: =VLOOKUP($C74,'Eredmény kód szerint'!$A$1:$G$111,3,0) -> 6 | I74: =VLOOKUP($C74,'Eredmény kód szerint'!$A$1:$G$111,4,0) -> X | J74: =VLOOKUP($C74,'Eredmény kód szerint'!$A$1:$G$111,5,0) -> 1 | K74: =VLOOKUP($C74,'Eredmény kód szerint'!$A$1:$G$111,6,0) -> X | L74: =SUM(G74:K74) -> 9 | M74: 29
A75: XVIII. | B75: =RANK(L75,$L$2:$L$113) -> 80 | C75: 106. | D75: Gale Tibor | E75: Szegedi Tudományegyetem | F75: Mérnöki Kar | G75: =VLOOKUP($C75,'Eredmény kód szerint'!$A$1:$G$111,2,0) -> 2 | H75: =VLOOKUP($C75,'Eredmény kód szerint'!$A$1:$G$111,3,0) -> 0 | I75: =VLOOKUP($C75,'Eredmény kód szerint'!$A$1:$G$111,4,0) -> 4 | J75: =VLOOKUP($C75,'Eredmény kód szerint'!$A$1:$G$111,5,0) -> 0 | K75: =VLOOKUP($C75,'Eredmény kód szerint'!$A$1:$G$111,6,0) -> 0 | L75: =SUM(G75:K75) -> 6 | M75: 29
A76: XVIII. | B76: =RANK(L76,$L$2:$L$113) -> 105 | C76: 102. | D76: Varga Szilárd | E76: Szegedi Tudományegyetem | F76: Mérnöki Kar | G76: =VLOOKUP($C76,'Eredmény kód szerint'!$A$1:$G$111,2,0) -> 2 | H76: =VLOOKUP($C76,'Eredmény kód szerint'!$A$1:$G$111,3,0) -> X | I76: =VLOOKUP($C76,'Eredmény kód szerint'!$A$1:$G$111,4,0) -> X | J76: =VLOOKUP($C76,'Eredmény kód szerint'!$A$1:$G$111,5,0) -> X | K76: =VLOOKUP($C76,'Eredmény kód szerint'!$A$1:$G$111,6,0) -> X | L76: =SUM(G76:K76) -> 2 | M76: 29
A77: XX. | B77: =RANK(L77,$L$2:$L$113) -> 56 | C77: 107. | D77: Németh Kevin | E77: Óbudai Egyetem | F77: Kandó Kálmán Villamosmérnöki Kar | G77: =VLOOKUP($C77,'Eredmény kód szerint'!$A$1:$G$111,2,0) -> 2 | H77: =VLOOKUP($C77,'Eredmény kód szerint'!$A$1:$G$111,3,0) -> 5 | I77: =VLOOKUP($C77,'Eredmény kód szerint'!$A$1:$G$111,4,0) -> 2 | J77: =VLOOKUP($C77,'Eredmény kód szerint'!$A$1:$G$111,5,0) -> 1 | K77: =VLOOKUP($C77,'Eredmény kód szerint'!$A$1:$G$111,6,0) -> 1 | L77: =SUM(G77:K77) -> 11 | M77: =SUM(L77:L79) -> 28 | N77: 20
A78: XX. | B78: =RANK(L78,$L$2:$L$113) -> 62 | C78: 46. | D78: Szűcs Norbert | E78: Óbudai Egyetem | F78: Kandó Kálmán Villamosmérnöki Kar | G78: =VLOOKUP($C78,'Eredmény kód szerint'!$A$1:$G$111,2,0) -> 2 | H78: =VLOOKUP($C78,'Eredmény kód szerint'!$A$1:$G$111,3,0) -> 5 | I78: =VLOOKUP($C78,'Eredmény kód szerint'!$A$1:$G$111,4,0) -> 1 | J78: =VLOOKUP($C78,'Eredmény kód szerint'!$A$1:$G$111,5,0) -> 1 | K78: =VLOOKUP($C78,'Eredmény kód szerint'!$A$1:$G$111,6,0) -> 1 | L78: =SUM(G78:K78) -> 10 | M78: 28
A79: XX. | B79: =RANK(L79,$L$2:$L$113) -> 74 | C79: 4. | D79: Steimann György | E79: Óbudai Egyetem | F79: Kandó Kálmán Villamosmérnöki Kar | G79: =VLOOKUP($C79,'Eredmény kód szerint'!$A$1:$G$111,2,0) -> 0 | H79: =VLOOKUP($C79,'Eredmény kód szerint'!$A$1:$G$111,3,0) -> 1 | I79: =VLOOKUP($C79,'Eredmény kód szerint'!$A$1:$G$111,4,0) -> 4 | J79: =VLOOKUP($C79,'Eredmény kód szerint'!$A$1:$G$111,5,0) -> 1 | K79: =VLOOKUP($C79,'Eredmény kód szerint'!$A$1:$G$111,6,0) -> 1 | L79: =SUM(G79:K79) -> 7 | M79: 28
A80: XXI. | B80: =RANK(L80,$L$2:$L$113) -> 50 | C80: 39. | D80: Bellusz Attila | E80: Óbudai Egyetem | F80: Bánki Donát Gépész és Biztonságtechnikai Mérnöki Kar | G80: =VLOOKUP($C80,'Eredmény kód szerint'!$A$1:$G$111,2,0) -> 2 | H80: =VLOOKUP($C80,'Eredmény kód szerint'!$A$1:$G$111,3,0) -> 8 | I80: =VLOOKUP($C80,'Eredmény kód szerint'!$A$1:$G$111,4,0) -> 2 | J80: =VLOOKUP($C80,'Eredmény kód szerint'!$A$1:$G$111,5,0) -> 1 | K80: =VLOOKUP($C80,'Eredmény kód szerint'!$A$1:$G$111,6,0) -> 0 | L80: =SUM(G80:K80) -> 13 | M80: =SUM(L80:L82) -> 27 | N80: 21
A81: XXI. | B81: =RANK(L81,$L$2:$L$113) -> 62 | C81: 95. | D81: Matúz Máté | E81: Óbudai Egyetem | F81: Bánki Donát Gépész és Biztonságtechnikai Mérnöki Kar | G81: =VLOOKUP($C81,'Eredmény kód szerint'!$A$1:$G$111,2,0) -> 4 | H81: =VLOOKUP($C81,'Eredmény kód szerint'!$A$1:$G$111,3,0) -> 2 | I81: =VLOOKUP($C81,'Eredmény kód szerint'!$A$1:$G$111,4,0) -> 3 | J81: =VLOOKUP($C81,'Eredmény kód szerint'!$A$1:$G$111,5,0) -> 1 | K81: =VLOOKUP($C81,'Eredmény kód szerint'!$A$1:$G$111,6,0) -> 0 | L81: =SUM(G81:K81) -> 10 | M81: 27
A82: XXI. | B82: =RANK(L82,$L$2:$L$113) -> 91 | C82: 48. | D82: Király Krisztián | E82: Óbudai Egyetem | F82: Bánki Donát Gépész és Biztonságtechnikai Mérnöki Kar | G82: =VLOOKUP($C82,'Eredmény kód szerint'!$A$1:$G$111,2,0) -> 2 | H82: =VLOOKUP($C82,'Eredmény kód szerint'!$A$1:$G$111,3,0) -> 0 | I82: =VLOOKUP($C82,'Eredmény kód szerint'!$A$1:$G$111,4,0) -> 2 | J82: =VLOOKUP($C82,'Eredmény kód szerint'!$A$1:$G$111,5,0) -> 0 | K82: =VLOOKUP($C82,'Eredmény kód szerint'!$A$1:$G$111,6,0) -> 0 | L82: =SUM(G82:K82) -> 4 | M82: 27
A83: XXII. | B83: =RANK(L83,$L$2:$L$113) -> 91 | C83: 100. | D83: Abonyi Balázs | E83: Nemzeti Közszolgálati Egyetem | F83: Víztudományi Kar | G83: =VLOOKUP($C83,'Eredmény kód szerint'!$A$1:$G$111,2,0) -> 1 | H83: =VLOOKUP($C83,'Eredmény kód szerint'!$A$1:$G$111,3,0) -> 1 | I83: =VLOOKUP($C83,'Eredmény kód szerint'!$A$1:$G$111,4,0) -> 2 | J83: =VLOOKUP($C83,'Eredmény kód szerint'!$A$1:$G$111,5,0) -> X | K83: =VLOOKUP($C83,'Eredmény kód szerint'!$A$1:$G$111,6,0) -> 0 | L83: =SUM(G83:K83) -> 4 | M83: =SUM(L84:L86) -> 26 | N83: 22
A84: XXII. | B84: =RANK(L84,$L$2:$L$113) -> 50 | C84: 33. | D84: Vida Zsuzsanna | E84: Nemzeti Közszolgálati Egyetem | F84: Víztudományi Kar | G84: =VLOOKUP($C84,'Eredmény kód szerint'!$A$1:$G$111,2,0) -> 4 | H84: =VLOOKUP($C84,'Eredmény kód szerint'!$A$1:$G$111,3,0) -> 6 | I84: =VLOOKUP($C84,'Eredmény kód szerint'!$A$1:$G$111,4,0) -> 2 | J84: =VLOOKUP($C84,'Eredmény kód szerint'!$A$1:$G$111,5,0) -> 0 | K84: =VLOOKUP($C84,'Eredmény kód szerint'!$A$1:$G$111,6,0) -> 1 | L84: =SUM(G84:K84) -> 13 | M84: 26
A85: XXII. | B85: =RANK(L85,$L$2:$L$113) -> 74 | C85: 36. | D85: Lisztes Lilla | E85: Nemzeti Közszolgálati Egyetem | F85: Víztudományi Kar | G85: =VLOOKUP($C85,'Eredmény kód szerint'!$A$1:$G$111,2,0) -> 2 | H85: =VLOOKUP($C85,'Eredmény kód szerint'!$A$1:$G$111,3,0) -> 3 | I85: =VLOOKUP($C85,'Eredmény kód szerint'!$A$1:$G$111,4,0) -> 2 | J85: =VLOOKUP($C85,'Eredmény kód szerint'!$A$1:$G$111,5,0) -> 0 | K85: =VLOOKUP($C85,'Eredmény kód szerint'!$A$1:$G$111,6,0) -> 0 | L85: =SUM(G85:K85) -> 7 | M85: 26
A86: XXII. | B86: =RANK(L86,$L$2:$L$113) -> 80 | C86: 34. | D86: Görög Szilvia | E86: Nemzeti Közszolgálati Egyetem | F86: Víztudományi Kar | G86: =VLOOKUP($C86,'Eredmény kód szerint'!$A$1:$G$111,2,0) -> 0 | H86: =VLOOKUP($C86,'Eredmény kód szerint'!$A$1:$G$111,3,0) -> 2 | I86: =VLOOKUP($C86,'Eredmény kód szerint'!$A$1:$G$111,4,0) -> 3 | J86: =VLOOKUP($C86,'Eredmény kód szerint'!$A$1:$G$111,5,0) -> 1 | K86: =VLOOKUP($C86,'Eredmény kód szerint'!$A$1:$G$111,6,0) -> 0 | L86: =SUM(G86:K86) -> 6 | M86: 26
A87: XXIII. | B87: =RANK(L87,$L$2:$L$113) -> 62 | C87: 35. | D87: Jurky Balázs | E87: Budapesti Gazdasági Egyetem | F87: Pénzügyi és Számviteli Kar | G87: =VLOOKUP($C87,'Eredmény kód szerint'!$A$1:$G$111,2,0) -> 2 | H87: =VLOOKUP($C87,'Eredmény kód szerint'!$A$1:$G$111,3,0) -> 5 | I87: =VLOOKUP($C87,'Eredmény kód szerint'!$A$1:$G$111,4,0) -> 2 | J87: =VLOOKUP($C87,'Eredmény kód szerint'!$A$1:$G$111,5,0) -> 1 | K87: =VLOOKUP($C87,'Eredmény kód szerint'!$A$1:$G$111,6,0) -> 0 | L87: =SUM(G87:K87) -> 10 | M87: =SUM(L87:L89) -> 22 | N87: 23
A88: XXIII. | B88: =RANK(L88,$L$2:$L$113) -> 74 | C88: 11. | D88: Farkas Mónika | E88: Budapesti Gazdasági Egyetem | F88: Pénzügyi és Számviteli Kar | G88: =VLOOKUP($C88,'Eredmény kód szerint'!$A$1:$G$111,2,0) -> 2 | H88: =VLOOKUP($C88,'Eredmény kód szerint'!$A$1:$G$111,3,0) -> 2 | I88: =VLOOKUP($C88,'Eredmény kód szerint'!$A$1:$G$111,4,0) -> 2 | J88: =VLOOKUP($C88,'Eredmény kód szerint'!$A$1:$G$111,5,0) -> 1 | K88: =VLOOKUP($C88,'Eredmény kód szerint'!$A$1:$G$111,6,0) -> 0 | L88: =SUM(G88:K88) -> 7 | M88: 22
A89: XXIII. | B89: =RANK(L89,$L$2:$L$113) -> 87 | C89: 110. | D89: Prokai László | E89: Budapesti Gazdasági Egyetem | F89: Pénzügyi és Számviteli Kar | G89: =VLOOKUP($C89,'Eredmény kód szerint'!$A$1:$G$111,2,0) -> 0 | H89: =VLOOKUP($C89,'Eredmény kód szerint'!$A$1:$G$111,3,0) -> 2 | I89: =VLOOKUP($C89,'Eredmény kód szerint'!$A$1:$G$111,4,0) -> 0 | J89: =VLOOKUP($C89,'Eredmény kód szerint'!$A$1:$G$111,5,0) -> 1 | K89: =VLOOKUP($C89,'Eredmény kód szerint'!$A$1:$G$111,6,0) -> 2 | L89: =SUM(G89:K89) -> 5 | M89: 22
A90: XXIII. | D90: Kácsándi Gábor | E90: Budapesti Gazdasági Egyetem | F90: Pénzügyi és Számviteli Kar | M90: 22
A91: XXIV. | B91: =RANK(L91,$L$2:$L$113) -> 62 | C91: 2. | D91: Takács Petra Rebeka | E91: Pécsi Tudomány egyetem | F91: Közgazdaságtudományi Kar | G91: =VLOOKUP($C91,'Eredmény kód szerint'!$A$1:$G$111,2,0) -> 0 | H91: =VLOOKUP($C91,'Eredmény kód szerint'!$A$1:$G$111,3,0) -> 0 | I91: =VLOOKUP($C91,'Eredmény kód szerint'!$A$1:$G$111,4,0) -> 10 | J91: =VLOOKUP($C91,'Eredmény kód szerint'!$A$1:$G$111,5,0) -> 0 | K91: =VLOOKUP($C91,'Eredmény kód szerint'!$A$1:$G$111,6,0) -> 0 | L91: =SUM(G91:K91) -> 10 | M91: =SUM(L91:L93) -> 21 | N91: 24
A92: XXIV. | B92: =RANK(L92,$L$2:$L$113) -> 70 | C92: 44. | D92: Környei Gábor Máté | E92: Pécsi Tudomány egyetem | F92: Közgazdaságtudományi Kar | G92: =VLOOKUP($C92,'Eredmény kód szerint'!$A$1:$G$111,2,0) -> 2 | H92: =VLOOKUP($C92,'Eredmény kód szerint'!$A$1:$G$111,3,0) -> 3 | I92: =VLOOKUP($C92,'Eredmény kód szerint'!$A$1:$G$111,4,0) -> 2 | J92: =VLOOKUP($C92,'Eredmény kód szerint'!$A$1:$G$111,5,0) -> 0 | K92: =VLOOKUP($C92,'Eredmény kód szerint'!$A$1:$G$111,6,0) -> 1 | L92: =SUM(G92:K92) -> 8 | M92: 21
A93: XXIV. | B93: =RANK(L93,$L$2:$L$113) -> 99 | C93: 99. | D93: Gombosi Melánia | E93: Pécsi Tudomány egyetem | F93: Közgazdaságtudományi Kar | G93: =VLOOKUP($C93,'Eredmény kód szerint'!$A$1:$G$111,2,0) -> 0 | H93: =VLOOKUP($C93,'Eredmény kód szerint'!$A$1:$G$111,3,0) -> 2 | I93: =VLOOKUP($C93,'Eredmény kód szerint'!$A$1:$G$111,4,0) -> 1 | J93: =VLOOKUP($C93,'Eredmény kód szerint'!$A$1:$G$111,5,0) -> 0 | K93: =VLOOKUP($C93,'Eredmény kód szerint'!$A$1:$G$111,6,0) -> 0 | L93: =SUM(G93:K93) -> 3 | M93: 21
A94: XXIV. | B94: =RANK(L94,$L$2:$L$113) -> 108 | C94: 3. | D94: Sinka Júlia | E94: Pécsi Tudomány egyetem | F94: Közgazdaságtudományi Kar | G94: =VLOOKUP($C94,'Eredmény kód szerint'!$A$1:$G$111,2,0) -> 0 | H94: =VLOOKUP($C94,'Eredmény kód szerint'!$A$1:$G$111,3,0) -> 0 | I94: =VLOOKUP($C94,'Eredmény kód szerint'!$A$1:$G$111,4,0) -> 1 | J94: =VLOOKUP($C94,'Eredmény kód szerint'!$A$1:$G$111,5,0) -> X | K94: =VLOOKUP($C94,'Eredmény kód szerint'!$A$1:$G$111,6,0) -> 0 | L94: =SUM(G94:K94) -> 1 | M94: 21
A95: XXIV. | B95: =RANK(L95,$L$2:$L$113) -> 67 | C95: 25. | D95: Kis-Bakos Nóra | E95: Szent István Egyetem | F95: Ybl Miklós Építéstudományi Kar | G95: =VLOOKUP($C95,'Eredmény kód szerint'!$A$1:$G$111,2,0) -> 2 | H95: =VLOOKUP($C95,'Eredmény kód szerint'!$A$1:$G$111,3,0) -> 4 | I95: =VLOOKUP($C95,'Eredmény kód szerint'!$A$1:$G$111,4,0) -> 2 | J95: =VLOOKUP($C95,'Eredmény kód szerint'!$A$1:$G$111,5,0) -> 1 | K95: =VLOOKUP($C95,'Eredmény kód szerint'!$A$1:$G$111,6,0) -> 0 | L95: =SUM(G95:K95) -> 9 | M95: =SUM(L95:L97) -> 21 | N95: 24
A96: XXIV. | B96: =RANK(L96,$L$2:$L$113) -> 74 | C96: 7. | D96: Vecsernyés Anita | E96: Szent István Egyetem | F96: Ybl Miklós Építéstudományi Kar | G96: =VLOOKUP($C96,'Eredmény kód szerint'!$A$1:$G$111,2,0) -> 0 | H96: =VLOOKUP($C96,'Eredmény kód szerint'!$A$1:$G$111,3,0) -> 0 | I96: =VLOOKUP($C96,'Eredmény kód szerint'!$A$1:$G$111,4,0) -> 6 | J96: =VLOOKUP($C96,'Eredmény kód szerint'!$A$1:$G$111,5,0) -> 1 | K96: =VLOOKUP($C96,'Eredmény kód szerint'!$A$1:$G$111,6,0) -> 0 | L96: =SUM(G96:K96) -> 7 | M96: 21
A97: XXIV. | B97: =RANK(L97,$L$2:$L$113) -> 87 | C97: 24. | D97: Bakos Benjamin | E97: Szent István Egyetem | F97: Ybl Miklós Építéstudományi Kar | G97: =VLOOKUP($C97,'Eredmény kód szerint'!$A$1:$G$111,2,0) -> 2 | H97: =VLOOKUP($C97,'Eredmény kód szerint'!$A$1:$G$111,3,0) -> 0 | I97: =VLOOKUP($C97,'Eredmény kód szerint'!$A$1:$G$111,4,0) -> 2 | J97: =VLOOKUP($C97,'Eredmény kód szerint'!$A$1:$G$111,5,0) -> 0 | K97: =VLOOKUP($C97,'Eredmény kód szerint'!$A$1:$G$111,6,0) -> 1 | L97: =SUM(G97:K97) -> 5 | M97: 21
A98: XXIV. | B98: =RANK(L98,$L$2:$L$113) -> 108 | C98: 75. | D98: Vámos Dávid | E98: Szent István Egyetem | F98: Ybl Miklós Építéstudományi Kar | G98: =VLOOKUP($C98,'Eredmény kód szerint'!$A$1:$G$111,2,0) -> 0 | H98: =VLOOKUP($C98,'Eredmény kód szerint'!$A$1:$G$111,3,0) -> 0 | I98: =VLOOKUP($C98,'Eredmény kód szerint'!$A$1:$G$111,4,0) -> 1 | J98: =VLOOKUP($C98,'Eredmény kód szerint'!$A$1:$G$111,5,0) -> 0 | K98: =VLOOKUP($C98,'Eredmény kód szerint'!$A$1:$G$111,6,0) -> 0 | L98: =SUM(G98:K98) -> 1 | M98: 21
A99: XXV. | B99: =RANK(L99,$L$2:$L$113) -> 54 | C99: 74. | D99: Rankl Fanni | E99: Óbudai Egyetem | F99: Alba Regia Műszaki Kar | G99: =VLOOKUP($C99,'Eredmény kód szerint'!$A$1:$G$111,2,0) -> 4 | H99: =VLOOKUP($C99,'Eredmény kód szerint'!$A$1:$G$111,3,0) -> 5 | I99: =VLOOKUP($C99,'Eredmény kód szerint'!$A$1:$G$111,4,0) -> 1 | J99: =VLOOKUP($C99,'Eredmény kód szerint'!$A$1:$G$111,5,0) -> 2 | K99: =VLOOKUP($C99,'Eredmény kód szerint'!$A$1:$G$111,6,0) -> X | L99: =SUM(G99:K99) -> 12 | M99: =SUM(L99:L101) -> 19 | N99: 25
A100: XXV. | B100: =RANK(L100,$L$2:$L$113) -> 91 | C100: 78. | D100: Magyar Csaba | E100: Óbudai Egyetem | F100: Alba Regia Műszaki Kar | G100: =VLOOKUP($C100,'Eredmény kód szerint'!$A$1:$G$111,2,0) -> 2 | H100: =VLOOKUP($C100,'Eredmény kód szerint'!$A$1:$G$111,3,0) -> 0 | I100: =VLOOKUP($C100,'Eredmény kód szerint'!$A$1:$G$111,4,0) -> 2 | J100: =VLOOKUP($C100,'Eredmény kód szerint'!$A$1:$G$111,5,0) -> X | K100: =VLOOKUP($C100,'Eredmény kód szerint'!$A$1:$G$111,6,0) -> 0 | L100: =SUM(G100:K100) -> 4 | M100: 19
...

Sheet Eredmény név szerint
A1: Hely | B1: Kód | C1: Hallgató Neve | D1: Intézmény | E1: Kar | F1: 1. | G1: 2. | H1: 3. | I1: 4. | J1: 5. | K1: Sum
A2: =RANK(K2,$K$2:$K$113) -> 91 | B2: 100. | C2: Abonyi Balázs | D2: Nemzeti Közszolgálati Egyetem | E2: Víztudományi | F2: =VLOOKUP($B2,'Eredmény kód szerint'!$A$1:$G$111,2,0) -> 1 | G2: =VLOOKUP($B2,'Eredmény kód szerint'!$A$1:$G$111,3,0) -> 1 | H2: =VLOOKUP($B2,'Eredmény kód szerint'!$A$1:$G$111,4,0) -> 2 | I2: =VLOOKUP($B2,'Eredmény kód szerint'!$A$1:$G$111,5,0) -> X | J2: =VLOOKUP($B2,'Eredmény kód szerint'!$A$1:$G$111,6,0) -> 0 | K2: =SUM(F2:J2) -> 4
A3: =RANK(K3,$K$2:$K$113) -> 56 | B3: 71. | C3: Adamik Győző | D3: Szent István Egyetem | E3: Gépészmérnöki Kar | F3: =VLOOKUP($B3,'Eredmény kód szerint'!$A$1:$G$111,2,0) -> 4 | G3: =VLOOKUP($B3,'Eredmény kód szerint'!$A$1:$G$111,3,0) -> 2 | H3: =VLOOKUP($B3,'Eredmény kód szerint'!$A$1:$G$111,4,0) -> 2 | I3: =VLOOKUP($B3,'Eredmény kód szerint'!$A$1:$G$111,5,0) -> 1 | J3: =VLOOKUP($B3,'Eredmény kód szerint'!$A$1:$G$111,6,0) -> 2 | K3: =SUM(F3:J3) -> 11
A4: =RANK(K4,$K$2:$K$113) -> 24 | B4: 104. | C4: Baglyas Márton | D4: ELTE | E4: TTK | F4: =VLOOKUP($B4,'Eredmény kód szerint'!$A$1:$G$111,2,0) -> 20 | G4: =VLOOKUP($B4,'Eredmény kód szerint'!$A$1:$G$111,3,0) -> 3 | H4: =VLOOKUP($B4,'Eredmény kód szerint'!$A$1:$G$111,4,0) -> X | I4: =VLOOKUP($B4,'Eredmény kód szerint'!$A$1:$G$111,5,0) -> 2 | J4: =VLOOKUP($B4,'Eredmény kód szerint'!$A$1:$G$111,6,0) -> 20 | K4: =SUM(F4:J4) -> 45
A5: =RANK(K5,$K$2:$K$113) -> 87 | B5: 24. | C5: Bakos Benjamin | D5: Szent István Egyetem | E5: Ybl Miklós Építéstudományi Kar | F5: =VLOOKUP($B5,'Eredmény kód szerint'!$A$1:$G$111,2,0) -> 2 | G5: =VLOOKUP($B5,'Eredmény kód szerint'!$A$1:$G$111,3,0) -> 0 | H5: =VLOOKUP($B5,'Eredmény kód szerint'!$A$1:$G$111,4,0) -> 2 | I5: =VLOOKUP($B5,'Eredmény kód szerint'!$A$1:$G$111,5,0) -> 0 | J5: =VLOOKUP($B5,'Eredmény kód szerint'!$A$1:$G$111,6,0) -> 1 | K5: =SUM(F5:J5) -> 5
A6: =RANK(K6,$K$2:$K$113) -> 9 | B6: 83. | C6: Barna István | D6: Budapesti Corvinus Egyetem | E6: Közgazdaságtudományi Kar | F6: =VLOOKUP($B6,'Eredmény kód szerint'!$A$1:$G$111,2,0) -> 12 | G6: =VLOOKUP($B6,'Eredmény kód szerint'!$A$1:$G$111,3,0) -> 18 | H6: =VLOOKUP($B6,'Eredmény kód szerint'!$A$1:$G$111,4,0) -> 20 | I6: =VLOOKUP($B6,'Eredmény kód szerint'!$A$1:$G$111,5,0) -> 7 | J6: =VLOOKUP($B6,'Eredmény kód szerint'!$A$1:$G$111,6,0) -> 15 | K6: =SUM(F6:J6) -> 72
A7: =RANK(K7,$K$2:$K$113) -> 108 | B7: 1. | C7: Barta Edit | D7: Budapesti Gazdasági Egyetem | E7: Kereskedelmi, Vendéglátóipari és Idegenforgalmi Kar | F7: =VLOOKUP($B7,'Eredmény kód szerint'!$A$1:$G$111,2,0) -> 0 | G7: =VLOOKUP($B7,'Eredmény kód szerint'!$A$1:$G$111,3,0) -> X | H7: =VLOOKUP($B7,'Eredmény kód szerint'!$A$1:$G$111,4,0) -> 1 | I7: =VLOOKUP($B7,'Eredmény kód szerint'!$A$1:$G$111,5,0) -> 0 | J7: =VLOOKUP($B7,'Eredmény kód szerint'!$A$1:$G$111,6,0) -> 0 | K7: =SUM(F7:J7) -> 1
A8: =RANK(K8,$K$2:$K$113) -> 87 | B8: 15. | C8: Békéssy Herman András | D8: Óbudai Egyetem | E8: Neumann János Informatikai Kar | F8: =VLOOKUP($B8,'Eredmény kód szerint'!$A$1:$G$111,2,0) -> 2 | G8: =VLOOKUP($B8,'Eredmény kód szerint'!$A$1:$G$111,3,0) -> 2 | H8: =VLOOKUP($B8,'Eredmény kód szerint'!$A$1:$G$111,4,0) -> 1 | I8: =VLOOKUP($B8,'Eredmény kód szerint'!$A$1:$G$111,5,0) -> 0 | J8: =VLOOKUP($B8,'Eredmény kód szerint'!$A$1:$G$111,6,0) -> X | K8: =SUM(F8:J8) -> 5
A9: =RANK(K9,$K$2:$K$113) -> 50 | B9: 39. | C9: Bellusz Attila | D9: Óbudai Egyetem | E9: Bánki Donát Gépész és Biztonságtechnikai Mérnöki Kar | F9: =VLOOKUP($B9,'Eredmény kód szerint'!$A$1:$G$111,2,0) -> 2 | G9: =VLOOKUP($B9,'Eredmény kód szerint'!$A$1:$G$111,3,0) -> 8 | H9: =VLOOKUP($B9,'Eredmény kód szerint'!$A$1:$G$111,4,0) -> 2 | I9: =VLOOKUP($B9,'Eredmény kód szerint'!$A$1:$G$111,5,0) -> 1 | J9: =VLOOKUP($B9,'Eredmény kód szerint'!$A$1:$G$111,6,0) -> 0 | K9: =SUM(F9:J9) -> 13
A10: =RANK(K10,$K$2:$K$113) -> 56 | B10: 37. | C10: Besenyei Szebasztián | D10: Pannon Egyetem | E10: Műszaki Informatikai Kar | F10: =VLOOKUP($B10,'Eredmény kód szerint'!$A$1:$G$111,2,0) -> 2 | G10: =VLOOKUP($B10,'Eredmény kód szerint'!$A$1:$G$111,3,0) -> 2 | H10: =VLOOKUP($B10,'Eredmény kód szerint'!$A$1:$G$111,4,0) -> 6 | I10: =VLOOKUP($B10,'Eredmény kód szerint'!$A$1:$G$111,5,0) -> 1 | J10: =VLOOKUP($B10,'Eredmény kód szerint'!$A$1:$G$111,6,0) -> 0 | K10: =SUM(F10:J10) -> 11
A11: =RANK(K11,$K$2:$K$113) -> 30 | B11: 40. | C11: Burián Máté | D11: Pécsi Tudomány egyetem | E11: Műszaki és Informatikai Kar | F11: =VLOOKUP($B11,'Eredmény kód szerint'!$A$1:$G$111,2,0) -> 20 | G11: =VLOOKUP($B11,'Eredmény kód szerint'!$A$1:$G$111,3,0) -> 5 | H11: =VLOOKUP($B11,'Eredmény kód szerint'!$A$1:$G$111,4,0) -> 8 | I11: =VLOOKUP($B11,'Eredmény kód szerint'!$A$1:$G$111,5,0) -> 3 | J11: =VLOOKUP($B11,'Eredmény kód szerint'!$A$1:$G$111,6,0) -> 0 | K11: =SUM(F11:J11) -> 36
A12: =RANK(K12,$K$2:$K$113) -> 35 | B12: 66. | C12: Czakó Patrik Roland | D12: Szent István Egyetem | E12: Gépészmérnöki Kar | F12: =VLOOKUP($B12,'Eredmény kód szerint'!$A$1:$G$111,2,0) -> 4 | G12: =VLOOKUP($B12,'Eredmény kód szerint'!$A$1:$G$111,3,0) -> 5 | H12: =VLOOKUP($B12,'Eredmény kód szerint'!$A$1:$G$111,4,0) -> 8 | I12: =VLOOKUP($B12,'Eredmény kód szerint'!$A$1:$G$111,5,0) -> 1 | J12: =VLOOKUP($B12,'Eredmény kód szerint'!$A$1:$G$111,6,0) -> 8 | K12: =SUM(F12:J12) -> 26
A13: =RANK(K13,$K$2:$K$113) -> 54 | B13: 81. | C13: Csanálosi Balázs | D13: Pázmány Péter Katolikus Egyetem | E13: Információs Technlógiai és Bionikai Kar | F13: =VLOOKUP($B13,'Eredmény kód szerint'!$A$1:$G$111,2,0) -> 3 | G13: =VLOOKUP($B13,'Eredmény kód szerint'!$A$1:$G$111,3,0) -> 0 | H13: =VLOOKUP($B13,'Eredmény kód szerint'!$A$1:$G$111,4,0) -> 4 | I13: =VLOOKUP($B13,'Eredmény kód szerint'!$A$1:$G$111,5,0) -> 5 | J13: =VLOOKUP($B13,'Eredmény kód szerint'!$A$1:$G$111,6,0) -> 0 | K13: =SUM(F13:J13) -> 12
... A46: =RANK(K46,$K$2:$K$113) -> 62 | B46: 35. | C46: Jurky Balázs | D46: Budapesti Gazdasági Egyetem | E46: Pénzügyi és Számviteli Kar | F46: =VLOOKUP($B46,'Eredmény kód szerint'!$A$1:$G$111,2,0) -> 2 | G46: =VLOOKUP($B46,'Eredmény kód szerint'!$A$1:$G$111,3,0) -> 5 | H46: =VLOOKUP($B46,'Eredmény kód szerint'!$A$1:$G$111,4,0) -> 2 | I46: =VLOOKUP($B46,'Eredmény kód szerint'!$A$1:$G$111,5,0) -> 1 | J46: =VLOOKUP($B46,'Eredmény kód szerint'!$A$1:$G$111,6,0) -> 0 | K46: =SUM(F46:J46) -> 10
C47: Kácsándi Gábor | D47: Budapesti Gazdasági Egyetem | E47: Pénzügyi és Számviteli Kar
A48: =RANK(K48,$K$2:$K$113) -> 47 | B48: 54. | C48: Kakuszi Ádám | D48: Szegedi Tudományegyetem | E48: Mérnöki Kar | F48: =VLOOKUP($B48,'Eredmény kód szerint'!$A$1:$G$111,2,0) -> 4 | G48: =VLOOKUP($B48,'Eredmény kód szerint'!$A$1:$G$111,3,0) -> 3 | H48: =VLOOKUP($B48,'Eredmény kód szerint'!$A$1:$G$111,4,0) -> 4 | I48: =VLOOKUP($B48,'Eredmény kód szerint'!$A$1:$G$111,5,0) -> 1 | J48: =VLOOKUP($B48,'Eredmény kód szerint'!$A$1:$G$111,6,0) -> 2 | K48: =SUM(F48:J48) -> 14
A49: =RANK(K49,$K$2:$K$113) -> 105 | B49: 65. | C49: Kató Dávid Károly | D49: Dunaújvárosi Egyetem | F49: =VLOOKUP($B49,'Eredmény kód szerint'!$A$1:$G$111,2,0) -> 0 | G49: =VLOOKUP($B49,'Eredmény kód szerint'!$A$1:$G$111,3,0) -> X | H49: =VLOOKUP($B49,'Eredmény kód szerint'!$A$1:$G$111,4,0) -> 1 | I49: =VLOOKUP($B49,'Eredmény kód szerint'!$A$1:$G$111,5,0) -> 1 | J49: =VLOOKUP($B49,'Eredmény kód szerint'!$A$1:$G$111,6,0) -> 0 | K49: =SUM(F49:J49) -> 2
A50: =RANK(K50,$K$2:$K$113) -> 91 | B50: 53. | C50: Kertész Dóra Erika | D50: Budapesti Gazdasági Egyetem | E50: Kereskedelmi, Vendéglátóipari és Idegenforgalmi Kar | F50: =VLOOKUP($B50,'Eredmény kód szerint'!$A$1:$G$111,2,0) -> 1 | G50: =VLOOKUP($B50,'Eredmény kód szerint'!$A$1:$G$111,3,0) -> 1 | H50: =VLOOKUP($B50,'Eredmény kód szerint'!$A$1:$G$111,4,0) -> 1 | I50: =VLOOKUP($B50,'Eredmény kód szerint'!$A$1:$G$111,5,0) -> 1 | J50: =VLOOKUP($B50,'Eredmény kód szerint'!$A$1:$G$111,6,0) -> 0 | K50: =SUM(F50:J50) -> 4
A51: =RANK(K51,$K$2:$K$113) -> 62 | B51: 61. | C51: Király Bence | D51: Budapesti Műszaki és Gazdaságtudományi Egyetem | E51: Építész Kar | F51: =VLOOKUP($B51,'Eredmény kód szerint'!$A$1:$G$111,2,0) -> X | G51: =VLOOKUP($B51,'Eredmény kód szerint'!$A$1:$G$111,3,0) -> 2 | H51: =VLOOKUP($B51,'Eredmény kód szerint'!$A$1:$G$111,4,0) -> 8 | I51: =VLOOKUP($B51,'Eredmény kód szerint'!$A$1:$G$111,5,0) -> X | J51: =VLOOKUP($B51,'Eredmény kód szerint'!$A$1:$G$111,6,0) -> 0 | K51: =SUM(F51:J51) -> 10
A52: =RANK(K52,$K$2:$K$113) -> 91 | B52: 48. | C52: Király Krisztián | D52: Óbudai Egyetem | E52: Bánki Donát Gépész és Biztonságtechnikai Mérnöki Kar | F52: =VLOOKUP($B52,'Eredmény kód szerint'!$A$1:$G$111,2,0) -> 2 | G52: =VLOOKUP($B52,'Eredmény kód szerint'!$A$1:$G$111,3,0) -> 0 | H52: =VLOOKUP($B52,'Eredmény kód szerint'!$A$1:$G$111,4,0) -> 2 | I52: =VLOOKUP($B52,'Eredmény kód szerint'!$A$1:$G$111,5,0) -> 0 | J52: =VLOOKUP($B52,'Eredmény kód szerint'!$A$1:$G$111,6,0) -> 0 | K52: =SUM(F52:J52) -> 4
A53: =RANK(K53,$K$2:$K$113) -> 67 | B53: 25. | C53: Kis-Bakos Nóra | D53: Szent István Egyetem | E53: Ybl Miklós Építéstudományi Kar | F53: =VLOOKUP($B53,'Eredmény kód szerint'!$A$1:$G$111,2,0) -> 2 | G53: =VLOOKUP($B53,'Eredmény kód szerint'!$A$1:$G$111,3,0) -> 4 | H53: =VLOOKUP($B53,'Eredmény kód szerint'!$A$1:$G$111,4,0) -> 2 | I53: =VLOOKUP($B53,'Eredmény kód szerint'!$A$1:$G$111,5,0) -> 1 | J53: =VLOOKUP($B53,'Eredmény kód szerint'!$A$1:$G$111,6,0) -> 0 | K53: =SUM(F53:J53) -> 9
A54: =RANK(K54,$K$2:$K$113) -> 2 | B54: 42. | C54: Komáromi Mátyás | D54: ELTE | E54: Informatikai Kar | F54: =VLOOKUP($B54,'Eredmény kód szerint'!$A$1:$G$111,2,0) -> 20 | G54: =VLOOKUP($B54,'Eredmény kód szerint'!$A$1:$G$111,3,0) -> 10 | H54: =VLOOKUP($B54,'Eredmény kód szerint'!$A$1:$G$111,4,0) -> 16 | I54: =VLOOKUP($B54,'Eredmény kód szerint'!$A$1:$G$111,5,0) -> 20 | J54: =VLOOKUP($B54,'Eredmény kód szerint'!$A$1:$G$111,6,0) -> 17 | K54: =SUM(F54:J54) -> 83
A55: =RANK(K55,$K$2:$K$113) -> 38 | B55: 96. | C55: Kónya Imre Dávid | D55: Pannon Egyetem | E55: Mérnöki Kar | F55: =VLOOKUP($B55,'Eredmény kód szerint'!$A$1:$G$111,2,0) -> 4 | G55: =VLOOKUP($B55,'Eredmény kód szerint'!$A$1:$G$111,3,0) -> 8 | H55: =VLOOKUP($B55,'Eredmény kód szerint'!$A$1:$G$111,4,0) -> 1 | I55: =VLOOKUP($B55,'Eredmény kód szerint'!$A$1:$G$111,5,0) -> 7 | J55: =VLOOKUP($B55,'Eredmény kód szerint'!$A$1:$G$111,6,0) -> 5 | K55: =SUM(F55:J55) -> 25
A56: =RANK(K56,$K$2:$K$113) -> 80 | B56: 90. | C56: Kopcsó Dániel | D56: Miskolci Egyetem | E56: Gépészmérnöki és Informatikai Kar | F56: =VLOOKUP($B56,'Eredmény kód szerint'!$A$1:$G$111,2,0) -> 2 | G56: =VLOOKUP($B56,'Eredmény kód szerint'!$A$1:$G$111,3,0) -> 0 | H56: =VLOOKUP($B56,'Eredmény kód szerint'!$A$1:$G$111,4,0) -> 3 | I56: =VLOOKUP($B56,'Eredmény kód szerint'!$A$1:$G$111,5,0) -> 0 | J56: =VLOOKUP($B56,'Eredmény kód szerint'!$A$1:$G$111,6,0) -> 1 | K56: =SUM(F56:J56) -> 6
A57: =RANK(K57,$K$2:$K$113) -> 11 | B57: 73. | C57: Kósa Szilárd | D57: Budapesti Műszaki és Gazdaságtudományi Egyetem | E57: GPK | F57: =VLOOKUP($B57,'Eredmény kód szerint'!$A$1:$G$111,2,0) -> 18 | G57: =VLOOKUP($B57,'Eredmény kód szerint'!$A$1:$G$111,3,0) -> X | H57: =VLOOKUP($B57,'Eredmény kód szerint'!$A$1:$G$111,4,0) -> 12 | I57: =VLOOKUP($B57,'Eredmény kód szerint'!$A$1:$G$111,5,0) -> 17 | J57: =VLOOKUP($B57,'Eredmény kód szerint'!$A$1:$G$111,6,0) -> 18 | K57: =SUM(F57:J57) -> 65
A58: =RANK(K58,$K$2:$K$113) -> 17 | B58: 49. | C58: Körmöczi Dávid | D58: Szent István Egyetem | E58: Gépészmérnöki Kar | F58: =VLOOKUP($B58,'Eredmény kód szerint'!$A$1:$G$111,2,0) -> 2 | G58: =VLOOKUP($B58,'Eredmény kód szerint'!$A$1:$G$111,3,0) -> 5 | H58: =VLOOKUP($B58,'Eredmény kód szerint'!$A$1:$G$111,4,0) -> 20 | I58: =VLOOKUP($B58,'Eredmény kód szerint'!$A$1:$G$111,5,0) -> 8 | J58: =VLOOKUP($B58,'Eredmény kód szerint'!$A$1:$G$111,6,0) -> 17 | K58: =SUM(F58:J58) -> 52
A59: =RANK(K59,$K$2:$K$113) -> 70 | B59: 44. | C59: Környei Gábor Máté | D59: Pécsi Tudomány egyetem | E59: Közgazdaságtudományi Kar | F59: =VLOOKUP($B59,'Eredmény kód szerint'!$A$1:$G$111,2,0) -> 2 | G59: =VLOOKUP($B59,'Eredmény kód szerint'!$A$1:$G$111,3,0) -> 3 | H59: =VLOOKUP($B59,'Eredmény kód szerint'!$A$1:$G$111,4,0) -> 2 | I59: =VLOOKUP($B59,'Eredmény kód szerint'!$A$1:$G$111,5,0) -> 0 | J59: =VLOOKUP($B59,'Eredmény kód szerint'!$A$1:$G$111,6,0) -> 1 | K59: =SUM(F59:J59) -> 8
A60: =RANK(K60,$K$2:$K$113) -> 30 | B60: 101. | C60: Lazsádi Áron | D60: Debreceni Egyetem | E60: Műszaki Kar | F60: =VLOOKUP($B60,'Eredmény kód szerint'!$A$1:$G$111,2,0) -> 20 | G60: =VLOOKUP($B60,'Eredmény kód szerint'!$A$1:$G$111,3,0) -> 10 | H60: =VLOOKUP($B60,'Eredmény kód szerint'!$A$1:$G$111,4,0) -> 2 | I60: =VLOOKUP($B60,'Eredmény kód szerint'!$A$1:$G$111,5,0) -> 3 | J60: =VLOOKUP($B60,'Eredmény kód szerint'!$A$1:$G$111,6,0) -> 1 | K60: =SUM(F60:J60) -> 36
A61: =RANK(K61,$K$2:$K$113) -> 70 | B61: 88. | C61: Létai Zoltán | D61: Debreceni Egyetem | E61: Informatikai Kar | F61: =VLOOKUP($B61,'Eredmény kód szerint'!$A$1:$G$111,2,0) -> 1 | G61: =VLOOKUP($B61,'Eredmény kód szerint'!$A$1:$G$111,3,0) -> 2 | H61: =VLOOKUP($B61,'Eredmény kód szerint'!$A$1:$G$111,4,0) -> 3 | I61: =VLOOKUP($B61,'Eredmény kód szerint'!$A$1:$G$111,5,0) -> 1 | J61: =VLOOKUP($B61,'Eredmény kód szerint'!$A$1:$G$111,6,0) -> 1 | K61: =SUM(F61:J61) -> 8
... A97: =RANK(K97,$K$2:$K$113) -> 62 | B97: 2. | C97: Takács Petra Rebeka | D97: Pécsi Tudomány egyetem | E97: Közgazdaságtudományi Kar | F97: =VLOOKUP($B97,'Eredmény kód szerint'!$A$1:$G$111,2,0) -> 0 | G97: =VLOOKUP($B97,'Eredmény kód szerint'!$A$1:$G$111,3,0) -> 0 | H97: =VLOOKUP($B97,'Eredmény kód szerint'!$A$1:$G$111,4,0) -> 10 | I97: =VLOOKUP($B97,'Eredmény kód szerint'!$A$1:$G$111,5,0) -> 0 | J97: =VLOOKUP($B97,'Eredmény kód szerint'!$A$1:$G$111,6,0) -> 0 | K97: =SUM(F97:J97) -> 10
C98: Talyigás Gergely | D98: Budapesti Műszaki és Gazdaságtudományi Egyetem | E98: VBK
A99: =RANK(K99,$K$2:$K$113) -> 56 | B99: 19. | C99: Taskó Levente | D99: Miskolci Egyetem | E99: Gépészmérnöki és Informatikai Kar | F99: =VLOOKUP($B99,'Eredmény kód szerint'!$A$1:$G$111,2,0) -> 2 | G99: =VLOOKUP($B99,'Eredmény kód szerint'!$A$1:$G$111,3,0) -> 3 | H99: =VLOOKUP($B99,'Eredmény kód szerint'!$A$1:$G$111,4,0) -> 1 | I99: =VLOOKUP($B99,'Eredmény kód szerint'!$A$1:$G$111,5,0) -> 1 | J99: =VLOOKUP($B99,'Eredmény kód szerint'!$A$1:$G$111,6,0) -> 4 | K99: =SUM(F99:J99) -> 11
A100: =RANK(K100,$K$2:$K$113) -> 1 | B100: 57. | C100: Telekes Márton Gábor | D100: Budapesti Műszaki és Gazdaságtudományi Egyetem | E100: VIK | F100: =VLOOKUP($B100,'Eredmény kód szerint'!$A$1:$G$111,2,0) -> 20 | G100: =VLOOKUP($B100,'Eredmény kód szerint'!$A$1:$G$111,3,0) -> 20 | H100: =VLOOKUP($B100,'Eredmény kód szerint'!$A$1:$G$111,4,0) -> 18 | I100: =VLOOKUP($B100,'Eredmény kód szerint'!$A$1:$G$111,5,0) -> 20 | J100: =VLOOKUP($B100,'Eredmény kód szerint'!$A$1:$G$111,6,0) -> 17 | K100: =SUM(F100:J100) -> 95
A101: =RANK(K101,$K$2:$K$113) -> 99 | B101: 18. | C101: Tokai Viktória | D101: Dunaújvárosi Egyetem | F101: =VLOOKUP($B101,'Eredmény kód szerint'!$A$1:$G$111,2,0) -> 2 | G101: =VLOOKUP($B101,'Eredmény kód szerint'!$A$1:$G$111,3,0) -> 0 | H101: =VLOOKUP($B101,'Eredmény kód szerint'!$A$1:$G$111,4,0) -> 1 | I101: =VLOOKUP($B101,'Eredmény kód szerint'!$A$1:$G$111,5,0) -> 0 | J101: =VLOOKUP($B101,'Eredmény kód szerint'!$A$1:$G$111,6,0) -> 0 | K101: =SUM(F101:J101) -> 3
A102: =RANK(K102,$K$2:$K$113) -> 67 | B102: 12. | C102: Tran Do Tuong Huan | D102: Szegedi Tudományegyetem | E102: Mérnöki Kar | F102: =VLOOKUP($B102,'Eredmény kód szerint'!$A$1:$G$111,2,0) -> 2 | G102: =VLOOKUP($B102,'Eredmény kód szerint'!$A$1:$G$111,3,0) -> 6 | H102: =VLOOKUP($B102,'Eredmény kód szerint'!$A$1:$G$111,4,0) -> X | I102: =VLOOKUP($B102,'Eredmény kód szerint'!$A$1:$G$111,5,0) -> 1 | J102: =VLOOKUP($B102,'Eredmény kód szerint'!$A$1:$G$111,6,0) -> X | K102: =SUM(F102:J102) -> 9
A103: =RANK(K103,$K$2:$K$113) -> 34 | B103: 32. | C103: Truong Vu Hiep | D103: Pécsi Tudomány egyetem | E103: Műszaki és Informatikai Kar | F103: =VLOOKUP($B103,'Eredmény kód szerint'!$A$1:$G$111,2,0) -> 4 | G103: =VLOOKUP($B103,'Eredmény kód szerint'!$A$1:$G$111,3,0) -> 5 | H103: =VLOOKUP($B103,'Eredmény kód szerint'!$A$1:$G$111,4,0) -> 10 | I103: =VLOOKUP($B103,'Eredmény kód szerint'!$A$1:$G$111,5,0) -> 10 | J103: =VLOOKUP($B103,'Eredmény kód szerint'!$A$1:$G$111,6,0) -> 0 | K103: =SUM(F103:J103) -> 29
A104: =RANK(K104,$K$2:$K$113) -> 39 | B104: 97. | C104: Uzonyi Noémi | D104: Debreceni Egyetem | E104: Informatikai Kar | F104: =VLOOKUP($B104,'Eredmény kód szerint'!$A$1:$G$111,2,0) -> 2 | G104: =VLOOKUP($B104,'Eredmény kód szerint'!$A$1:$G$111,3,0) -> 7 | H104: =VLOOKUP($B104,'Eredmény kód szerint'!$A$1:$G$111,4,0) -> 13 | I104: =VLOOKUP($B104,'Eredmény kód szerint'!$A$1:$G$111,5,0) -> 1 | J104: =VLOOKUP($B104,'Eredmény kód szerint'!$A$1:$G$111,6,0) -> 0 | K104: =SUM(F104:J104) -> 23
A105: =RANK(K105,$K$2:$K$113) -> 20 | B105: 105. | C105: Vághy Mihály András | D105: Pázmány Péter Katolikus Egyetem | E105: Információs Technlógiai és Bionikai Kar | F105: =VLOOKUP($B105,'Eredmény kód szerint'!$A$1:$G$111,2,0) -> 18 | G105: =VLOOKUP($B105,'Eredmény kód szerint'!$A$1:$G$111,3,0) -> 3 | H105: =VLOOKUP($B105,'Eredmény kód szerint'!$A$1:$G$111,4,0) -> 5 | I105: =VLOOKUP($B105,'Eredmény kód szerint'!$A$1:$G$111,5,0) -> 20 | J105: =VLOOKUP($B105,'Eredmény kód szerint'!$A$1:$G$111,6,0) -> 4 | K105: =SUM(F105:J105) -> 50
A106: =RANK(K106,$K$2:$K$113) -> 108 | B106: 75. | C106: Vámos Dávid | D106: Szent István Egyetem | E106: Ybl Miklós Építéstudományi Kar | F106: =VLOOKUP($B106,'Eredmény kód szerint'!$A$1:$G$111,2,0) -> 0 | G106: =VLOOKUP($B106,'Eredmény kód szerint'!$A$1:$G$111,3,0) -> 0 | H106: =VLOOKUP($B106,'Eredmény kód szerint'!$A$1:$G$111,4,0) -> 1 | I106: =VLOOKUP($B106,'Eredmény kód szerint'!$A$1:$G$111,5,0) -> 0 | J106: =VLOOKUP($B106,'Eredmény kód szerint'!$A$1:$G$111,6,0) -> 0 | K106: =SUM(F106:J106) -> 1
A107: =RANK(K107,$K$2:$K$113) -> 105 | B107: 102. | C107: Varga Szilárd | D107: Szegedi Tudományegyetem | E107: Mérnöki Kar | F107: =VLOOKUP($B107,'Eredmény kód szerint'!$A$1:$G$111,2,0) -> 2 | G107: =VLOOKUP($B107,'Eredmény kód szerint'!$A$1:$G$111,3,0) -> X | H107: =VLOOKUP($B107,'Eredmény kód szerint'!$A$1:$G$111,4,0) -> X | I107: =VLOOKUP($B107,'Eredmény kód szerint'!$A$1:$G$111,5,0) -> X | J107: =VLOOKUP($B107,'Eredmény kód szerint'!$A$1:$G$111,6,0) -> X | K107: =SUM(F107:J107) -> 2
A108: =RANK(K108,$K$2:$K$113) -> 47 | B108: 67. | C108: Varga Zsolt Sándor | D108: Budapesti Gazdasági Egyetem | E108: Külkereskedelmi Kar | F108: =VLOOKUP($B108,'Eredmény kód szerint'!$A$1:$G$111,2,0) -> 3 | G108: =VLOOKUP($B108,'Eredmény kód szerint'!$A$1:$G$111,3,0) -> 3 | H108: =VLOOKUP($B108,'Eredmény kód szerint'!$A$1:$G$111,4,0) -> 4 | I108: =VLOOKUP($B108,'Eredmény kód szerint'!$A$1:$G$111,5,0) -> 3 | J108: =VLOOKUP($B108,'Eredmény kód szerint'!$A$1:$G$111,6,0) -> 1 | K108: =SUM(F108:J108) -> 14
A109: =RANK(K109,$K$2:$K$113) -> 74 | B109: 7. | C109: Vecsernyés Anita | D109: Szent István Egyetem | E109: Ybl Miklós Építéstudományi Kar | F109: =VLOOKUP($B109,'Eredmény kód szerint'!$A$1:$G$111,2,0) -> 0 | G109: =VLOOKUP($B109,'Eredmény kód szerint'!$A$1:$G$111,3,0) -> 0 | H109: =VLOOKUP($B109,'Eredmény kód szerint'!$A$1:$G$111,4,0) -> 6 | I109: =VLOOKUP($B109,'Eredmény kód szerint'!$A$1:$G$111,5,0) -> 1 | J109: =VLOOKUP($B109,'Eredmény kód szerint'!$A$1:$G$111,6,0) -> 0 | K109: =SUM(F109:J109) -> 7
A110: =RANK(K110,$K$2:$K$113) -> 50 | B110: 33. | C110: Vida Zsuzsanna | D110: Nemzeti Közszolgálati Egyetem | E110: Víztudományi | F110: =VLOOKUP($B110,'Eredmény kód szerint'!$A$1:$G$111,2,0) -> 4 | G110: =VLOOKUP($B110,'Eredmény kód szerint'!$A$1:$G$111,3,0) -> 6 | H110: =VLOOKUP($B110,'Eredmény kód szerint'!$A$1:$G$111,4,0) -> 2 | I110: =VLOOKUP($B110,'Eredmény kód szerint'!$A$1:$G$111,5,0) -> 0 | J110: =VLOOKUP($B110,'Eredmény kód szerint'!$A$1:$G$111,6,0) -> 1 | K110: =SUM(F110:J110) -> 13
A111: =RANK(K111,$K$2:$K$113) -> 56 | B111: 47. | C111: Zalavári Bálint | D111: Pécsi Tudomány egyetem | E111: Műszaki és Informatikai Kar | F111: =VLOOKUP($B111,'Eredmény kód szerint'!$A$1:$G$111,2,0) -> 0 | G111: =VLOOKUP($B111,'Eredmény kód szerint'!$A$1:$G$111,3,0) -> 7 | H111: =VLOOKUP($B111,'Eredmény kód szerint'!$A$1:$G$111,4,0) -> 3 | I111: =VLOOKUP($B111,'Eredmény kód szerint'!$A$1:$G$111,5,0) -> 1 | J111: =VLOOKUP($B111,'Eredmény kód szerint'!$A$1:$G$111,6,0) -> 0 | K111: =SUM(F111:J111) -> 11
A112: =RANK(K112,$K$2:$K$113) -> 5 | B112: 77. | C112: Zsíros Ádám | D112: Budapesti Műszaki és Gazdaságtudományi Egyetem | E112: GPK | F112: =VLOOKUP($B112,'Eredmény kód szerint'!$A$1:$G$111,2,0) -> 20 | G112: =VLOOKUP($B112,'Eredmény kód szerint'!$A$1:$G$111,3,0) -> 4 | H112: =VLOOKUP($B112,'Eredmény kód szerint'!$A$1:$G$111,4,0) -> 20 | I112: =VLOOKUP($B112,'Eredmény kód szerint'!$A$1:$G$111,5,0) -> 15 | J112: =VLOOKUP($B112,'Eredmény kód szerint'!$A$1:$G$111,6,0) -> 19 | K112: =SUM(F112:J112) -> 78
A113: =RANK(K113,$K$2:$K$113) -> 74 | B113: 13. | C113: Zsolnai Zsófia | D113: Dunaújvárosi Egyetem | F113: =VLOOKUP($B113,'Eredmény kód szerint'!$A$1:$G$111,2,0) -> 3 | G113: =VLOOKUP($B113,'Eredmény kód szerint'!$A$1:$G$111,3,0) -> 1 | H113: =VLOOKUP($B113,'Eredmény kód szerint'!$A$1:$G$111,4,0) -> 2 | I113: =VLOOKUP($B113,'Eredmény kód szerint'!$A$1:$G$111,5,0) -> 1 | J113: =VLOOKUP($B113,'Eredmény kód szerint'!$A$1:$G$111,6,0) -> 0 | K113: =SUM(F113:J113) -> 7

Sheet Eredmény kód szerint
A1: Kód | B1: 1. | C1: 2. | D1: 3. | E1: 4. | F1: 5. | G1: Sum
A2: 1. | B2: 0 | C2: X | D2: 1 | E2: 0 | F2: 0 | G2: =SUM(B2:F2) -> 1
A3: 2. | B3: 0 | C3: 0 | D3: 10 | E3: 0 | F3: 0 | G3: =SUM(B3:F3) -> 10
A4: 3. | B4: 0 | C4: 0 | D4: 1 | E4: X | F4: 0 | G4: =SUM(B4:F4) -> 1
A5: 4. | B5: 0 | C5: 1 | D5: 4 | E5: 1 | F5: 1 | G5: =SUM(B5:F5) -> 7
A6: 5. | B6: 20 | C6: 12 | D6: 20 | E6: 0 | F6: 4 | G6: =SUM(B6:F6) -> 56
A7: 6. | B7: 20 | C7: 12 | D7: 7 | E7: 15 | F7: 18 | G7: =SUM(B7:F7) -> 72
A8: 7. | B8: 0 | C8: 0 | D8: 6 | E8: 1 | F8: 0 | G8: =SUM(B8:F8) -> 7
A9: 8. | B9: X | C9: 9 | D9: 4 | E9: 18 | F9: 15 | G9: =SUM(B9:F9) -> 46
A10: 9. | B10: 2 | C10: 8 | D10: 2 | E10: 1 | F10: 0 | G10: =SUM(B10:F10) -> 13
A11: 10. | B11: 20 | C11: 4 | D11: 8 | E11: 1 | F11: 18 | G11: =SUM(B11:F11) -> 51
A12: 11. | B12: 2 | C12: 2 | D12: 2 | E12: 1 | F12: 0 | G12: =SUM(B12:F12) -> 7
A13: 12. | B13: 2 | C13: 6 | D13: X | E13: 1 | F13: X | G13: =SUM(B13:F13) -> 9
A14: 13. | B14: 3 | C14: 1 | D14: 2 | E14: 1 | F14: 0 | G14: =SUM(B14:F14) -> 7
A15: 14. | B15: 3 | C15: 0 | D15: 1 | E15: 0 | F15: 0 | G15: =SUM(B15:F15) -> 4
A16: 15. | B16: 2 | C16: 2 | D16: 1 | E16: 0 | F16: X | G16: =SUM(B16:F16) -> 5
A17: 16. | B17: 2 | C17: 0 | D17: 1 | E17: 0 | F17: 0 | G17: =SUM(B17:F17) -> 3
A18: 17. | B18: 0 | C18: 0 | D18: 1 | E18: 0 | F18: 3 | G18: =SUM(B18:F18) -> 4
A19: 18. | B19: 2 | C19: 0 | D19: 1 | E19: 0 | F19: 0 | G19: =SUM(B19:F19) -> 3
A20: 19. | B20: 2 | C20: 3 | D20: 1 | E20: 1 | F20: 4 | G20: =SUM(B20:F20) -> 11
A21: 20. | B21: 0 | C21: 0 | D21: 3 | E21: 0 | F21: 1 | G21: =SUM(B21:F21) -> 4
A22: 21. | B22: X | C22: X | D22: 3 | E22: 1 | F22: 0 | G22: =SUM(B22:F22) -> 4
A23: 22. | B23: 20 | C23: 7 | D23: 20 | E23: 16 | F23: 17 | G23: =SUM(B23:F23) -> 80
A24: 23. | B24: 4 | C24: 4 | D24: 1 | E24: 0 | F24: 2 | G24: =SUM(B24:F24) -> 11
A25: 24. | B25: 2 | C25: 0 | D25: 2 | E25: 0 | F25: 1 | G25: =SUM(B25:F25) -> 5
A26: 25. | B26: 2 | C26: 4 | D26: 2 | E26: 1 | F26: 0 | G26: =SUM(B26:F26) -> 9
A27: 26. | B27: 20 | C27: 5 | D27: 2 | E27: 12 | F27: 1 | G27: =SUM(B27:F27) -> 40
A28: 27. | B28: 2 | C28: 0 | D28: 3 | E28: 1 | F28: 0 | G28: =SUM(B28:F28) -> 6
A29: 28. | B29: 0 | C29: 5 | D29: 0 | E29: 1 | F29: 2 | G29: =SUM(B29:F29) -> 8
A30: 29. | B30: 0 | C30: 0 | D30: 2 | E30: 0 | F30: 0 | G30: =SUM(B30:F30) -> 2
A31: 30. | B31: 18 | C31: 5 | D31: X | E31: 1 | F31: 2 | G31: =SUM(B31:F31) -> 26
A32: 31. | B32: 2 | C32: 10 | D32: 12 | E32: 7 | F32: 8 | G32: =SUM(B32:F32) -> 39
A33: 32. | B33: 4 | C33: 5 | D33: 10 | E33: 10 | F33: 0 | G33: =SUM(B33:F33) -> 29
A34: 33. | B34: 4 | C34: 6 | D34: 2 | E34: 0 | F34: 1 | G34: =SUM(B34:F34) -> 13
A35: 34. | B35: 0 | C35: 2 | D35: 3 | E35: 1 | F35: 0 | G35: =SUM(B35:F35) -> 6
A36: 35. | B36: 2 | C36: 5 | D36: 2 | E36: 1 | F36: 0 | G36: =SUM(B36:F36) -> 10
A37: 36. | B37: 2 | C37: 3 | D37: 2 | E37: 0 | F37: 0 | G37: =SUM(B37:F37) -> 7
A38: 37. | B38: 2 | C38: 2 | D38: 6 | E38: 1 | F38: 0 | G38: =SUM(B38:F38) -> 11
A39: 38. | B39: X | C39: 5 | D39: 6 | E39: 5 | F39: 10 | G39: =SUM(B39:F39) -> 26
A40: 39. | B40: 2 | C40: 8 | D40: 2 | E40: 1 | F40: 0 | G40: =SUM(B40:F40) -> 13
A41: 40. | B41: 20 | C41: 5 | D41: 8 | E41: 3 | F41: 0 | G41: =SUM(B41:F41) -> 36
A42: 41. | B42: 16 | C42: X | D42: 6 | E42: 0 | F42: 1 | G42: =SUM(B42:F42) -> 23
A43: 42. | B43: 20 | C43: 10 | D43: 16 | E43: 20 | F43: 17 | G43: =SUM(B43:F43) -> 83
A44: 43. | B44: 2 | C44: 10 | D44: 1 | E44: 5 | F44: 0 | G44: =SUM(B44:F44) -> 18
A45: 44. | B45: 2 | C45: 3 | D45: 2 | E45: 0 | F45: 1 | G45: =SUM(B45:F45) -> 8
A46: 45. | B46: 20 | C46: 2 | D46: 9 | E46: 5 | F46: 2 | G46: =SUM(B46:F46) -> 38
A47: 46. | B47: 2 | C47: 5 | D47: 1 | E47: 1 | F47: 1 | G47: =SUM(B47:F47) -> 10
A48: 47. | B48: 0 | C48: 7 | D48: 3 | E48: 1 | F48: 0 | G48: =SUM(B48:F48) -> 11
A49: 48. | B49: 2 | C49: 0 | D49: 2 | E49: 0 | F49: 0 | G49: =SUM(B49:F49) -> 4
A50: 49. | B50: 2 | C50: 5 | D50: 20 | E50: 8 | F50: 17 | G50: =SUM(B50:F50) -> 52
A51: 50. | B51: 20 | C51: 9 | D51: 20 | E51: 4 | F51: 0 | G51: =SUM(B51:F51) -> 53
A52: 51. | B52: 19 | C52: 20 | D52: 20 | E52: 0 | F52: 19 | G52: =SUM(B52:F52) -> 78
A53: 52. | B53: 0 | C53: 5 | D53: 8 | E53: 1 | F53: 8 | G53: =SUM(B53:F53) -> 22
A54: 53. | B54: 1 | C54: 1 | D54: 1 | E54: 1 | F54: 0 | G54: =SUM(B54:F54) -> 4
A55: 54. | B55: 4 | C55: 3 | D55: 4 | E55: 1 | F55: 2 | G55: =SUM(B55:F55) -> 14
A56: 55. | B56: 0 | C56: 0 | D56: 3 | E56: X | F56: 0 | G56: =SUM(B56:F56) -> 3
A57: 56. | B57: 6 | C57: 2 | D57: 2 | E57: 3 | F57: 1 | G57: =SUM(B57:F57) -> 14
A58: 57. | B58: 20 | C58: 20 | D58: 18 | E58: 20 | F58: 17 | G58: =SUM(B58:F58) -> 95
A59: 58. | B59: 2 | C59: 1 | D59: 0 | E59: 0 | F59: 10 | G59: =SUM(B59:F59) -> 13
A60: 59. | B60: 0 | C60: 0 | D60: 2 | E60: 1 | F60: 0 | G60: =SUM(B60:F60) -> 3
A61: 60. | B61: 2 | C61: 2 | D61: 2 | E61: 0 | F61: 0 | G61: =SUM(B61:F61) -> 6
A62: 61. | B62: X | C62: 2 | D62: 8 | E62: X | F62: 0 | G62: =SUM(B62:F62) -> 10
A63: 62. | B63: 2 | C63: 0 | D63: 1 | E63: 0 | F63: 0 | G63: =SUM(B63:F63) -> 3
A64: 63. | B64: 2 | C64: 4 | D64: 1 | E64: 1 | F64: 1 | G64: =SUM(B64:F64) -> 9
A65: 64. | B65: 2 | C65: 2 | D65: 1 | E65: X | F65: 1 | G65: =SUM(B65:F65) -> 6
A66: 65. | B66: 0 | C66: X | D66: 1 | E66: 1 | F66: 0 | G66: =SUM(B66:F66) -> 2
A67: 66. | B67: 4 | C67: 5 | D67: 8 | E67: 1 | F67: 8 | G67: =SUM(B67:F67) -> 26
A68: 67. | B68: 3 | C68: 3 | D68: 4 | E68: 3 | F68: 1 | G68: =SUM(B68:F68) -> 14
A69: 68. | B69: 20 | C69: 7 | D69: 16 | E69: 1 | F69: 8 | G69: =SUM(B69:F69) -> 52
A70: 69. | B70: 20 | C70: 8 | D70: 2 | E70: 3 | F70: 10 | G70: =SUM(B70:F70) -> 43
A71: 70. | B71: 0 | C71: 0 | D71: 2 | E71: 17 | F71: 0 | G71: =SUM(B71:F71) -> 19
A72: 71. | B72: 4 | C72: 2 | D72: 2 | E72: 1 | F72: 2 | G72: =SUM(B72:F72) -> 11
A73: 72. | B73: 12 | C73: 6 | D73: 3 | E73: 16 | F73: 10 | G73: =SUM(B73:F73) -> 47
A74: 73. | B74: 18 | C74: X | D74: 12 | E74: 17 | F74: 18 | G74: =SUM(B74:F74) -> 65
A75: 74. | B75: 4 | C75: 5 | D75: 1 | E75: 2 | F75: X | G75: =SUM(B75:F75) -> 12
A76: 75. | B76: 0 | C76: 0 | D76: 1 | E76: 0 | F76: 0 | G76: =SUM(B76:F76) -> 1
A77: 76. | B77: 20 | C77: 4 | D77: 20 | E77: 2 | F77: 18 | G77: =SUM(B77:F77) -> 64
A78: 77. | B78: 20 | C78: 4 | D78: 20 | E78: 15 | F78: 19 | G78: =SUM(B78:F78) -> 78
A79: 78. | B79: 2 | C79: 0 | D79: 2 | E79: X | F79: 0 | G79: =SUM(B79:F79) -> 4
A80: 79. | B80: 20 | C80: 8 | D80: X | E80: 1 | F80: 20 | G80: =SUM(B80:F80) -> 49
A81: 80. | B81: 20 | C81: 20 | D81: 1 | E81: 20 | F81: 18 | G81: =SUM(B81:F81) -> 79
A82: 81. | B82: 3 | C82: 0 | D82: 4 | E82: 5 | F82: 0 | G82: =SUM(B82:F82) -> 12
A83: 82. | B83: 20 | C83: 20 | D83: 13 | E83: 20 | F83: 4 | G83: =SUM(B83:F83) -> 77
A84: 83. | B84: 12 | C84: 18 | D84: 20 | E84: 7 | F84: 15 | G84: =SUM(B84:F84) -> 72
A85: 84. | B85: 20 | C85: 2 | D85: 16 | E85: 0 | F85: 16 | G85: =SUM(B85:F85) -> 54
A86: 85. | B86: 14 | C86: 5 | D86: X | E86: 8 | F86: 8 | G86: =SUM(B86:F86) -> 35
A87: 86. | B87: 2 | C87: 7 | D87: 15 | E87: X | F87: 15 | G87: =SUM(B87:F87) -> 39
A88: 87. | B88: 20 | C88: 5 | D88: 20 | E88: 0 | F88: 20 | G88: =SUM(B88:F88) -> 65
A89: 88. | B89: 1 | C89: 2 | D89: 3 | E89: 1 | F89: 1 | G89: =SUM(B89:F89) -> 8
A90: 89. | B90: 0 | C90: 5 | D90: 2 | E90: 0 | F90: 0 | G90: =SUM(B90:F90) -> 7
A91: 90. | B91: 2 | C91: 0 | D91: 3 | E91: 0 | F91: 1 | G91: =SUM(B91:F91) -> 6
A92: 91. | B92: 0 | C92: 2 | D92: 3 | E92: 0 | F92: 0 | G92: =SUM(B92:F92) -> 5
A93: 92. | B93: 3 | C93: 0 | D93: 2 | E93: 0 | F93: 1 | G93: =SUM(B93:F93) -> 6
A94: 93. | B94: 2 | C94: X | D94: 2 | E94: 1 | F94: 10 | G94: =SUM(B94:F94) -> 15
A95: 94. | B95: 2 | C95: 5 | D95: 3 | E95: 9 | F95: 0 | G95: =SUM(B95:F95) -> 19
A96: 95. | B96: 4 | C96: 2 | D96: 3 | E96: 1 | F96: 0 | G96: =SUM(B96:F96) -> 10
A97: 96. | B97: 4 | C97: 8 | D97: 1 | E97: 7 | F97: 5 | G97: =SUM(B97:F97) -> 25
A98: 97. | B98: 2 | C98: 7 | D98: 13 | E98: 1 | F98: 0 | G98: =SUM(B98:F98) -> 23
A99: 98. | B99: 18 | C99: 10 | D99: 1 | E99: 1 | F99: 1 | G99: =SUM(B99:F99) -> 31
A100: 99. | B100: 0 | C100: 2 | D100: 1 | E100: 0 | F100: 0 | G100: =SUM(B100:F100) -> 3
...
